BEGIN:VCALENDAR
VERSION:2.0
PRODID:-//Discover Hollywood Magazine - ECPv6.15.20//NONSGML v1.0//EN
CALSCALE:GREGORIAN
METHOD:PUBLISH
X-ORIGINAL-URL:https://www.discoverhollywood.com
X-WR-CALDESC:Events for Discover Hollywood Magazine
REFRESH-INTERVAL;VALUE=DURATION:PT1H
X-Robots-Tag:noindex
X-PUBLISHED-TTL:PT1H
BEGIN:VTIMEZONE
TZID:Asia/Kolkata
BEGIN:STANDARD
TZOFFSETFROM:+0530
TZOFFSETTO:+0530
TZNAME:IST
DTSTART:19890101T000000
END:STANDARD
END:VTIMEZONE
BEGIN:VEVENT
DTSTART;TZID=Asia/Kolkata:19920127T000000
DTEND;TZID=Asia/Kolkata:19920127T000000
DTSTAMP:20260425T165131
CREATED:20250703T115507Z
LAST-MODIFIED:20250703T115507Z
UID:10007299-696470400-696470400@www.discoverhollywood.com
SUMMARY:Jesca Hoop
DESCRIPTION:DesignHTMLWords: 0   Characters: 0
URL:https://www.discoverhollywood.com/event/jesca-hoop/
LOCATION:The Roxy\, 9009 Sunset Blvd.\, Los Angeles\, California
END:VEVENT
BEGIN:VEVENT
DTSTART;TZID=Asia/Kolkata:19920123T000000
DTEND;TZID=Asia/Kolkata:19920123T000000
DTSTAMP:20260425T165131
CREATED:20250703T115517Z
LAST-MODIFIED:20250703T115517Z
UID:10007303-696124800-696124800@www.discoverhollywood.com
SUMMARY:Jesse Malin
DESCRIPTION:DesignHTMLWords: 0   Characters: 0
URL:https://www.discoverhollywood.com/event/jesse-malin/
LOCATION:The Roxy\, 9009 Sunset Blvd.\, Los Angeles\, California
END:VEVENT
BEGIN:VEVENT
DTSTART;TZID=Asia/Kolkata:19920122T000000
DTEND;TZID=Asia/Kolkata:19920122T000000
DTSTAMP:20260425T165131
CREATED:20250703T115517Z
LAST-MODIFIED:20250703T115517Z
UID:10007304-696038400-696038400@www.discoverhollywood.com
SUMMARY:Jesse Malin And Joseph Arthur
DESCRIPTION:%3ca href%3d%22https%3a//www.theroxy.com/events/detail/379493%22%3ehttps%3a//www.theroxy.com/events/detail/379493%3c/a%3eDesignHTMLWords: 1   Characters: 41
URL:https://www.discoverhollywood.com/event/jesse-malin-and-joseph-arthur/
LOCATION:The Roxy\, 9009 Sunset Blvd.\, Los Angeles\, California
END:VEVENT
BEGIN:VEVENT
DTSTART;TZID=Asia/Kolkata:19920111T000000
DTEND;TZID=Asia/Kolkata:19920111T000000
DTSTAMP:20260425T165131
CREATED:20250703T115718Z
LAST-MODIFIED:20250703T115718Z
UID:10007315-695088000-695088000@www.discoverhollywood.com
SUMMARY:Jessie J
DESCRIPTION:%3cbr%3eDesignHTMLWords: 0   Characters: 0
URL:https://www.discoverhollywood.com/event/jessie-j/
LOCATION:The Roxy\, 9009 Sunset Blvd.\, Los Angeles\, California
END:VEVENT
BEGIN:VEVENT
DTSTART;TZID=Asia/Kolkata:19911219T000000
DTEND;TZID=Asia/Kolkata:19911219T000000
DTSTAMP:20260425T165131
CREATED:20250703T120124Z
LAST-MODIFIED:20250703T120124Z
UID:10007338-693100800-693100800@www.discoverhollywood.com
SUMMARY:Jidenna Long Live The Chief Tour
DESCRIPTION:%3cbr%3eDesignHTMLWords: 0   Characters: 0
URL:https://www.discoverhollywood.com/event/jidenna-long-live-the-chief-tour/
LOCATION:The Roxy\, 9009 Sunset Blvd.\, Los Angeles\, California
END:VEVENT
BEGIN:VEVENT
DTSTART;TZID=Asia/Kolkata:19911127T000000
DTEND;TZID=Asia/Kolkata:19911127T000000
DTSTAMP:20260425T165131
CREATED:20250703T120437Z
LAST-MODIFIED:20250703T120437Z
UID:10007360-691200000-691200000@www.discoverhollywood.com
SUMMARY:Jimmy Eat World
DESCRIPTION:%3cbr%3eDesignHTMLWords: 0   Characters: 0
URL:https://www.discoverhollywood.com/event/jimmy-eat-world-2/
LOCATION:The Roxy\, 9009 Sunset Blvd.\, Los Angeles\, California
END:VEVENT
BEGIN:VEVENT
DTSTART;TZID=Asia/Kolkata:19911101T000000
DTEND;TZID=Asia/Kolkata:19911101T000000
DTSTAMP:20260425T165131
CREATED:20250703T120539Z
LAST-MODIFIED:20250703T120539Z
UID:10007386-688953600-688953600@www.discoverhollywood.com
SUMMARY:Jody Watley featuring Shalamar Reloaded
DESCRIPTION:DesignHTMLWords: 0   Characters: 0
URL:https://www.discoverhollywood.com/event/jody-watley-featuring-shalamar-reloaded/
LOCATION:The Roxy\, 9009 Sunset Blvd.\, Los Angeles\, California
END:VEVENT
BEGIN:VEVENT
DTSTART;TZID=Asia/Kolkata:19911009T000000
DTEND;TZID=Asia/Kolkata:19911009T000000
DTSTAMP:20260425T165131
CREATED:20250703T120635Z
LAST-MODIFIED:20250703T120635Z
UID:10007409-686966400-686966400@www.discoverhollywood.com
SUMMARY:Joey Purp
DESCRIPTION:DesignHTMLWords: 0   Characters: 0
URL:https://www.discoverhollywood.com/event/joey-purp/
LOCATION:The Roxy\, 9009 Sunset Blvd.\, Los Angeles\, California
END:VEVENT
BEGIN:VEVENT
DTSTART;TZID=Asia/Kolkata:19910203T000000
DTEND;TZID=Asia/Kolkata:19910203T000000
DTSTAMP:20260425T165131
CREATED:20250703T122043Z
LAST-MODIFIED:20250703T122043Z
UID:10007657-665539200-665539200@www.discoverhollywood.com
SUMMARY:Jump With Joey
DESCRIPTION:DesignHTMLWords: 0   Characters: 0
URL:https://www.discoverhollywood.com/event/jump-with-joey/
LOCATION:The Roxy\, 9009 Sunset Blvd.\, Los Angeles\, California
END:VEVENT
BEGIN:VEVENT
DTSTART;TZID=Asia/Kolkata:19910107T000000
DTEND;TZID=Asia/Kolkata:19910107T000000
DTSTAMP:20260425T165131
CREATED:20250703T122140Z
LAST-MODIFIED:20250703T122140Z
UID:10007684-663206400-663206400@www.discoverhollywood.com
SUMMARY:Justin Jay
DESCRIPTION:%3cbr%3eDesignHTMLWords: 0   Characters: 0
URL:https://www.discoverhollywood.com/event/justin-jay/
LOCATION:The Roxy\, 9009 Sunset Blvd.\, Los Angeles\, California
END:VEVENT
BEGIN:VEVENT
DTSTART;TZID=Asia/Kolkata:19901221T000000
DTEND;TZID=Asia/Kolkata:19901221T000000
DTSTAMP:20260425T165131
CREATED:20250709T085739Z
LAST-MODIFIED:20250709T085739Z
UID:10008361-661737600-661737600@www.discoverhollywood.com
SUMMARY:Leikeli47
DESCRIPTION:%3ca href%3d%22https%3a//www.theroxy.com/%22 target%3d%22_blank%22%3ehttps%3a//www.theroxy.com/%3c/a%3eDesignHTMLWords: 1   Characters: 21
URL:https://www.discoverhollywood.com/event/leikeli47/
LOCATION:The Roxy\, 9009 Sunset Blvd.\, Los Angeles\, California
END:VEVENT
BEGIN:VEVENT
DTSTART;TZID=Asia/Kolkata:19901219T000000
DTEND;TZID=Asia/Kolkata:19901219T000000
DTSTAMP:20260425T165131
CREATED:20250709T085740Z
LAST-MODIFIED:20250709T085740Z
UID:10008363-661564800-661564800@www.discoverhollywood.com
SUMMARY:LeMaitre
DESCRIPTION:%3cbr%3eDesignHTMLWords: 0   Characters: 0
URL:https://www.discoverhollywood.com/event/lemaitre/
LOCATION:The Roxy\, 9009 Sunset Blvd.\, Los Angeles\, California
END:VEVENT
BEGIN:VEVENT
DTSTART;TZID=Asia/Kolkata:19901205T000000
DTEND;TZID=Asia/Kolkata:19901205T000000
DTSTAMP:20260425T165131
CREATED:20250709T085826Z
LAST-MODIFIED:20250709T085826Z
UID:10008377-660355200-660355200@www.discoverhollywood.com
SUMMARY:LÉON
DESCRIPTION:DesignHTMLWords: 0   Characters: 0
URL:https://www.discoverhollywood.com/event/leon/
LOCATION:The Roxy\, 9009 Sunset Blvd.\, Los Angeles\, California
END:VEVENT
BEGIN:VEVENT
DTSTART;TZID=Asia/Kolkata:19901009T000000
DTEND;TZID=Asia/Kolkata:19901009T000000
DTSTAMP:20260425T165131
CREATED:20250709T054650Z
LAST-MODIFIED:20250709T054650Z
UID:10007774-655430400-655430400@www.discoverhollywood.com
SUMMARY:Katzu Oso
DESCRIPTION:%3ca href%3d%22https%3a//www.theroxy.com/events%22%3ehttps%3a//www.theroxy.com/events%3c/a%3eDesignHTMLWords: 1   Characters: 27
URL:https://www.discoverhollywood.com/event/katzu-oso/
LOCATION:The Roxy\, 9009 Sunset Blvd.\, Los Angeles\, California
END:VEVENT
BEGIN:VEVENT
DTSTART;TZID=Asia/Kolkata:19901004T000000
DTEND;TZID=Asia/Kolkata:19901004T000000
DTSTAMP:20260425T165131
CREATED:20250709T091205Z
LAST-MODIFIED:20250709T091205Z
UID:10008439-654998400-654998400@www.discoverhollywood.com
SUMMARY:Lide Prsents: Almost Peder Tour
DESCRIPTION:%3ca href%3d%22https%3a//www.theroxy.com/events/detail/380190%22%3ehttps%3a//www.theroxy.com/events/detail/380190%3c/a%3eDesignHTMLWords: 1   Characters: 41
URL:https://www.discoverhollywood.com/event/lide-prsents-almost-peder-tour/
LOCATION:The Roxy\, 9009 Sunset Blvd.\, Los Angeles\, California
END:VEVENT
BEGIN:VEVENT
DTSTART;TZID=Asia/Kolkata:19900911T000000
DTEND;TZID=Asia/Kolkata:19900911T000000
DTSTAMP:20260425T165131
CREATED:20250709T054850Z
LAST-MODIFIED:20250709T054850Z
UID:10007802-653011200-653011200@www.discoverhollywood.com
SUMMARY:Kehlani
DESCRIPTION:%3cbr%3eDesignHTMLWords: 0   Characters: 0
URL:https://www.discoverhollywood.com/event/kehlani/
LOCATION:The Roxy\, 9009 Sunset Blvd.\, Los Angeles\, California
END:VEVENT
BEGIN:VEVENT
DTSTART;TZID=Asia/Kolkata:19900903T000000
DTEND;TZID=Asia/Kolkata:19900903T000000
DTSTAMP:20260425T165131
CREATED:20250709T055105Z
LAST-MODIFIED:20250709T055105Z
UID:10007810-652320000-652320000@www.discoverhollywood.com
SUMMARY:Keller Williams
DESCRIPTION:%3cdiv class%3d%22artist-box-media%22%3e\n	%3cul class%3d%22links%22%3e%3c/ul%3e\n%3c/div%3e\nThose who%27ve followed Keller Williams%27 recording career to date know that he has given each of his albums a single-syllable title%3a FREEK%2c BUZZ%2c SPUN%2c BREATHE%2c LOOP%2c LAUGH%2c HOME%2c DANCE%2c STAGE%2c GRASS%2c DREAM%2c TWELVE%2c REX%2c LIVE%2c ODD%2c THIEF%2c KIDS%2c BASS%2c PICK%2c KEYS and FUNK. Each title serves not only as a concise summation of the concept guiding the particular project but also as another piece of the jigsaw puzzle that is Keller Williams.DesignHTMLWords: 72   Characters: 412
URL:https://www.discoverhollywood.com/event/keller-williams/
LOCATION:The Roxy\, 9009 Sunset Blvd.\, Los Angeles\, California
END:VEVENT
BEGIN:VEVENT
DTSTART;TZID=Asia/Kolkata:19900814T000000
DTEND;TZID=Asia/Kolkata:19900814T000000
DTSTAMP:20260425T165131
CREATED:20250709T091703Z
LAST-MODIFIED:20250709T091703Z
UID:10008490-650592000-650592000@www.discoverhollywood.com
SUMMARY:Lindi Ortega
DESCRIPTION:%3cbr%3eDesignHTMLWords: 0   Characters: 0
URL:https://www.discoverhollywood.com/event/lindi-ortega/
LOCATION:The Roxy\, 9009 Sunset Blvd.\, Los Angeles\, California
END:VEVENT
BEGIN:VEVENT
DTSTART;TZID=Asia/Kolkata:19900803T000000
DTEND;TZID=Asia/Kolkata:19900803T000000
DTSTAMP:20260425T165131
CREATED:20250709T091916Z
LAST-MODIFIED:20250709T091916Z
UID:10008501-649641600-649641600@www.discoverhollywood.com
SUMMARY:Liquid Stranger
DESCRIPTION:%3cbr%3eDesignHTMLWords: 0   Characters: 0
URL:https://www.discoverhollywood.com/event/liquid-stranger/
LOCATION:The Roxy\, 9009 Sunset Blvd.\, Los Angeles\, California
END:VEVENT
BEGIN:VEVENT
DTSTART;TZID=Asia/Kolkata:19900722T000000
DTEND;TZID=Asia/Kolkata:19900722T000000
DTSTAMP:20260425T165131
CREATED:20250709T055720Z
LAST-MODIFIED:20250709T055720Z
UID:10007853-648604800-648604800@www.discoverhollywood.com
SUMMARY:Keuning
DESCRIPTION:DesignHTMLWords: 0   Characters: 0
URL:https://www.discoverhollywood.com/event/keuning/
LOCATION:The Roxy\, 9009 Sunset Blvd.\, Los Angeles\, California
END:VEVENT
BEGIN:VEVENT
DTSTART;TZID=Asia/Kolkata:19900720T000000
DTEND;TZID=Asia/Kolkata:19900720T000000
DTSTAMP:20260425T165131
CREATED:20250709T055721Z
LAST-MODIFIED:20250709T055721Z
UID:10007855-648432000-648432000@www.discoverhollywood.com
SUMMARY:Kevin Abstract
DESCRIPTION:DesignHTMLWords: 0   Characters: 0
URL:https://www.discoverhollywood.com/event/kevin-abstract/
LOCATION:The Roxy\, 9009 Sunset Blvd.\, Los Angeles\, California
END:VEVENT
BEGIN:VEVENT
DTSTART;TZID=Asia/Kolkata:19900719T000000
DTEND;TZID=Asia/Kolkata:19900719T000000
DTSTAMP:20260425T165131
CREATED:20250709T092255Z
LAST-MODIFIED:20250709T092255Z
UID:10008516-648345600-648345600@www.discoverhollywood.com
SUMMARY:Lissie\,  Chase Cohl\, Tyler Lyle
DESCRIPTION:%3cbr%3eDesignHTMLWords: 0   Characters: 0
URL:https://www.discoverhollywood.com/event/lissie-chase-cohl-tyler-lyle/
LOCATION:The Roxy\, 9009 Sunset Blvd.\, Los Angeles\, California
END:VEVENT
BEGIN:VEVENT
DTSTART;TZID=Asia/Kolkata:19900709T000000
DTEND;TZID=Asia/Kolkata:19900709T000000
DTSTAMP:20260425T165131
CREATED:20250709T055939Z
LAST-MODIFIED:20250709T055939Z
UID:10007866-647481600-647481600@www.discoverhollywood.com
SUMMARY:Kevin Morby
DESCRIPTION:DesignHTMLWords: 0   Characters: 0
URL:https://www.discoverhollywood.com/event/kevin-morby-2/
LOCATION:The Roxy\, 9009 Sunset Blvd.\, Los Angeles\, California
END:VEVENT
BEGIN:VEVENT
DTSTART;TZID=Asia/Kolkata:19900706T000000
DTEND;TZID=Asia/Kolkata:19900706T000000
DTSTAMP:20260425T165131
CREATED:20250709T092736Z
LAST-MODIFIED:20250709T092736Z
UID:10008529-647222400-647222400@www.discoverhollywood.com
SUMMARY:Little Jesus
DESCRIPTION:%3ca href%3d%22https%3a//www.theroxy.com/events%22%3ehttps%3a//www.theroxy.com/events%3c/a%3eDesignHTMLWords: 1   Characters: 27
URL:https://www.discoverhollywood.com/event/little-jesus/
LOCATION:The Roxy\, 9009 Sunset Blvd.\, Los Angeles\, California
END:VEVENT
BEGIN:VEVENT
DTSTART;TZID=Asia/Kolkata:19900616T000000
DTEND;TZID=Asia/Kolkata:19900616T000000
DTSTAMP:20260425T165131
CREATED:20250709T060404Z
LAST-MODIFIED:20250709T060404Z
UID:10007889-645494400-645494400@www.discoverhollywood.com
SUMMARY:Kiefer Sutherland Not Enough Whiskey 2017
DESCRIPTION:DesignHTMLWords: 0   Characters: 0
URL:https://www.discoverhollywood.com/event/kiefer-sutherland-not-enough-whiskey-2017/
LOCATION:The Roxy\, 9009 Sunset Blvd.\, Los Angeles\, California
END:VEVENT
BEGIN:VEVENT
DTSTART;TZID=Asia/Kolkata:19900529T000000
DTEND;TZID=Asia/Kolkata:19900529T000000
DTSTAMP:20260425T165131
CREATED:20250709T060707Z
LAST-MODIFIED:20250709T060707Z
UID:10007907-643939200-643939200@www.discoverhollywood.com
SUMMARY:Killing Joke
DESCRIPTION:%3ca href%3d%22https%3a//www.theroxy.com/%22 target%3d%22_blank%22%3ehttps%3a//www.theroxy.com/%3c/a%3eDesignHTMLWords: 1   Characters: 21
URL:https://www.discoverhollywood.com/event/killing-joke/
LOCATION:The Roxy\, 9009 Sunset Blvd.\, Los Angeles\, California
END:VEVENT
BEGIN:VEVENT
DTSTART;TZID=Asia/Kolkata:19900517T000000
DTEND;TZID=Asia/Kolkata:19900517T000000
DTSTAMP:20260425T165131
CREATED:20250709T060941Z
LAST-MODIFIED:20250709T060941Z
UID:10007919-642902400-642902400@www.discoverhollywood.com
SUMMARY:Kindness
DESCRIPTION:%3ca href%3d%22https%3a//www.theroxy.com/events/detail/376979%22%3ehttps%3a//www.theroxy.com/events/detail/376979%3c/a%3eDesignHTMLWords: 1   Characters: 41
URL:https://www.discoverhollywood.com/event/kindness/
LOCATION:The Roxy\, 9009 Sunset Blvd.\, Los Angeles\, California
END:VEVENT
BEGIN:VEVENT
DTSTART;TZID=Asia/Kolkata:19900514T000000
DTEND;TZID=Asia/Kolkata:19900514T000000
DTSTAMP:20260425T165131
CREATED:20250709T093848Z
LAST-MODIFIED:20250709T093848Z
UID:10008582-642643200-642643200@www.discoverhollywood.com
SUMMARY:Lloyd
DESCRIPTION:%3ca href%3d%22https%3a//www.theroxy.com/events/detail/379672%22%3ehttps%3a//www.theroxy.com/events/detail/379672%3c/a%3eDesignHTMLWords: 1   Characters: 41
URL:https://www.discoverhollywood.com/event/lloyd/
LOCATION:The Roxy\, 9009 Sunset Blvd.\, Los Angeles\, California
END:VEVENT
BEGIN:VEVENT
DTSTART;TZID=Asia/Kolkata:19900508T000000
DTEND;TZID=Asia/Kolkata:19900508T000000
DTSTAMP:20260425T165131
CREATED:20250709T093902Z
LAST-MODIFIED:20250709T093902Z
UID:10008588-642124800-642124800@www.discoverhollywood.com
SUMMARY:Local H
DESCRIPTION:DesignHTMLWords: 0   Characters: 0
URL:https://www.discoverhollywood.com/event/local-h/
LOCATION:The Roxy\, 9009 Sunset Blvd.\, Los Angeles\, California
END:VEVENT
BEGIN:VEVENT
DTSTART;TZID=Asia/Kolkata:19900425T000000
DTEND;TZID=Asia/Kolkata:19900425T000000
DTSTAMP:20260425T165131
CREATED:20250709T093948Z
LAST-MODIFIED:20250709T093948Z
UID:10008601-641001600-641001600@www.discoverhollywood.com
SUMMARY:Loci Records Label Showcase featuring Emancipator\, Tor\, Edamame & Lapa
DESCRIPTION:DesignHTMLWords: 0   Characters: 0
URL:https://www.discoverhollywood.com/event/loci-records-label-showcase-featuring-emancipator-tor-edamame-lapa/
LOCATION:The Roxy\, 9009 Sunset Blvd.\, Los Angeles\, California
END:VEVENT
END:VCALENDAR