BEGIN:VCALENDAR
VERSION:2.0
PRODID:-//Discover Hollywood Magazine - ECPv6.15.20//NONSGML v1.0//EN
CALSCALE:GREGORIAN
METHOD:PUBLISH
X-WR-CALNAME:Discover Hollywood Magazine
X-ORIGINAL-URL:https://www.discoverhollywood.com
X-WR-CALDESC:Events for Discover Hollywood Magazine
REFRESH-INTERVAL;VALUE=DURATION:PT1H
X-Robots-Tag:noindex
X-PUBLISHED-TTL:PT1H
BEGIN:VTIMEZONE
TZID:Asia/Kolkata
BEGIN:STANDARD
TZOFFSETFROM:+0530
TZOFFSETTO:+0530
TZNAME:IST
DTSTART:19860101T000000
END:STANDARD
END:VTIMEZONE
BEGIN:VEVENT
DTSTART;TZID=Asia/Kolkata:19890320T000000
DTEND;TZID=Asia/Kolkata:19890320T000000
DTSTAMP:20260425T213625
CREATED:20250709T123436Z
LAST-MODIFIED:20250709T123436Z
UID:10008742-606355200-606355200@www.discoverhollywood.com
SUMMARY:Mako
DESCRIPTION:DesignHTMLWords: 0   Characters: 0
URL:https://www.discoverhollywood.com/event/mako/
LOCATION:The Roxy\, 9009 Sunset Blvd.\, Los Angeles\, California
END:VEVENT
BEGIN:VEVENT
DTSTART;TZID=Asia/Kolkata:19890210T000000
DTEND;TZID=Asia/Kolkata:19890210T000000
DTSTAMP:20260425T213625
CREATED:20250709T123527Z
LAST-MODIFIED:20250709T123527Z
UID:10008780-603072000-603072000@www.discoverhollywood.com
SUMMARY:Manic Focus + Thriftworks
DESCRIPTION:%3cbr%3eDesignHTMLWords: 0   Characters: 0
URL:https://www.discoverhollywood.com/event/manic-focus-thriftworks/
LOCATION:The Roxy\, 9009 Sunset Blvd.\, Los Angeles\, California
END:VEVENT
BEGIN:VEVENT
DTSTART;TZID=Asia/Kolkata:19890204T000000
DTEND;TZID=Asia/Kolkata:19890204T000000
DTSTAMP:20260425T213625
CREATED:20250709T123535Z
LAST-MODIFIED:20250709T123535Z
UID:10008786-602553600-602553600@www.discoverhollywood.com
SUMMARY:Mansionair
DESCRIPTION:DesignHTMLWords: 0   Characters: 0
URL:https://www.discoverhollywood.com/event/mansionair/
LOCATION:The Roxy\, 9009 Sunset Blvd.\, Los Angeles\, California
END:VEVENT
BEGIN:VEVENT
DTSTART;TZID=Asia/Kolkata:19890123T000000
DTEND;TZID=Asia/Kolkata:19890123T000000
DTSTAMP:20260425T213625
CREATED:20250709T123652Z
LAST-MODIFIED:20250709T123652Z
UID:10008798-601516800-601516800@www.discoverhollywood.com
SUMMARY:Marc Rebillet
DESCRIPTION:%3ca href%3d%22https%3a//www.theroxy.com/events%22%3ehttps%3a//www.theroxy.com/events%3c/a%3eDesignHTMLWords: 1   Characters: 27
URL:https://www.discoverhollywood.com/event/marc-rebillet/
LOCATION:The Roxy\, 9009 Sunset Blvd.\, Los Angeles\, California
END:VEVENT
BEGIN:VEVENT
DTSTART;TZID=Asia/Kolkata:19881214T000000
DTEND;TZID=Asia/Kolkata:19881214T000000
DTSTAMP:20260425T213625
CREATED:20250709T123853Z
LAST-MODIFIED:20250709T123853Z
UID:10008838-598060800-598060800@www.discoverhollywood.com
SUMMARY:Maribou State
DESCRIPTION:DesignHTMLWords: 0   Characters: 0
URL:https://www.discoverhollywood.com/event/maribou-state/
LOCATION:The Roxy\, 9009 Sunset Blvd.\, Los Angeles\, California
END:VEVENT
BEGIN:VEVENT
DTSTART;TZID=Asia/Kolkata:19881210T000000
DTEND;TZID=Asia/Kolkata:19881210T000000
DTSTAMP:20260425T213625
CREATED:20250709T123902Z
LAST-MODIFIED:20250709T123902Z
UID:10008842-597715200-597715200@www.discoverhollywood.com
SUMMARY:Marika Hackman
DESCRIPTION:%3ca href%3d%22https%3a//www.theroxy.com/events/detail/375918%22%3ehttps%3a//www.theroxy.com/events/detail/375918%3c/a%3eDesignHTMLWords: 1   Characters: 41
URL:https://www.discoverhollywood.com/event/marika-hackman/
LOCATION:The Roxy\, 9009 Sunset Blvd.\, Los Angeles\, California
END:VEVENT
BEGIN:VEVENT
DTSTART;TZID=Asia/Kolkata:19881111T000000
DTEND;TZID=Asia/Kolkata:19881111T000000
DTSTAMP:20260425T213625
CREATED:20250709T124025Z
LAST-MODIFIED:20250709T124025Z
UID:10008871-595209600-595209600@www.discoverhollywood.com
SUMMARY:Mark Lanegan
DESCRIPTION:DesignHTMLWords: 0   Characters: 0
URL:https://www.discoverhollywood.com/event/mark-lanegan/
LOCATION:The Roxy\, 9009 Sunset Blvd.\, Los Angeles\, California
END:VEVENT
BEGIN:VEVENT
DTSTART;TZID=Asia/Kolkata:19881023T000000
DTEND;TZID=Asia/Kolkata:19881023T000000
DTSTAMP:20260425T213625
CREATED:20250709T124107Z
LAST-MODIFIED:20250709T124107Z
UID:10008890-593568000-593568000@www.discoverhollywood.com
SUMMARY:Marmozets
DESCRIPTION:%3cbr%3eDesignHTMLWords: 0   Characters: 0
URL:https://www.discoverhollywood.com/event/marmozets/
LOCATION:The Roxy\, 9009 Sunset Blvd.\, Los Angeles\, California
END:VEVENT
BEGIN:VEVENT
DTSTART;TZID=Asia/Kolkata:19880901T000000
DTEND;TZID=Asia/Kolkata:19880901T000000
DTSTAMP:20260425T213625
CREATED:20250709T124452Z
LAST-MODIFIED:20250709T124452Z
UID:10008942-589075200-589075200@www.discoverhollywood.com
SUMMARY:Mason Ramsey
DESCRIPTION:%3ca href%3d%22https%3a//www.theroxy.com/events/detail/373602%22%3ehttps%3a//www.theroxy.com/events/detail/373602%3c/a%3eDesignHTMLWords: 1   Characters: 41
URL:https://www.discoverhollywood.com/event/mason-ramsey/
LOCATION:The Roxy\, 9009 Sunset Blvd.\, Los Angeles\, California
END:VEVENT
BEGIN:VEVENT
DTSTART;TZID=Asia/Kolkata:19880813T000000
DTEND;TZID=Asia/Kolkata:19880813T000000
DTSTAMP:20260425T213625
CREATED:20250709T124527Z
LAST-MODIFIED:20250709T124527Z
UID:10008961-587433600-587433600@www.discoverhollywood.com
SUMMARY:Matchbook Romance
DESCRIPTION:DesignHTMLWords: 0   Characters: 0
URL:https://www.discoverhollywood.com/event/matchbook-romance/
LOCATION:The Roxy\, 9009 Sunset Blvd.\, Los Angeles\, California
END:VEVENT
BEGIN:VEVENT
DTSTART;TZID=Asia/Kolkata:19880618T000000
DTEND;TZID=Asia/Kolkata:19880618T000000
DTSTAMP:20260425T213625
CREATED:20250710T094454Z
LAST-MODIFIED:20250710T094454Z
UID:10009017-582595200-582595200@www.discoverhollywood.com
SUMMARY:Maz of Snarky Puppy
DESCRIPTION:%3cbr%3eDesignHTMLWords: 0   Characters: 0
URL:https://www.discoverhollywood.com/event/maz-of-snarky-puppy/
LOCATION:The Roxy\, 9009 Sunset Blvd.\, Los Angeles\, California
END:VEVENT
BEGIN:VEVENT
DTSTART;TZID=Asia/Kolkata:19880615T000000
DTEND;TZID=Asia/Kolkata:19880615T000000
DTSTAMP:20260425T213625
CREATED:20250710T094454Z
LAST-MODIFIED:20250710T094454Z
UID:10009020-582336000-582336000@www.discoverhollywood.com
SUMMARY:Mbongwana Star
DESCRIPTION:%3cbr%3eDesignHTMLWords: 0   Characters: 0
URL:https://www.discoverhollywood.com/event/mbongwana-star/
LOCATION:The Roxy\, 9009 Sunset Blvd.\, Los Angeles\, California
END:VEVENT
BEGIN:VEVENT
DTSTART;TZID=Asia/Kolkata:19880407T000000
DTEND;TZID=Asia/Kolkata:19880407T000000
DTSTAMP:20260425T213625
CREATED:20250710T094842Z
LAST-MODIFIED:20250710T094842Z
UID:10009089-576374400-576374400@www.discoverhollywood.com
SUMMARY:Melody's Echo Chamber
DESCRIPTION:Melody%27s Echo Chamber is the solo project of Paris-based songwriter and multi-instrumentalist Melody Prochet. The first MEC album%2c produced by Tame Impala%27s Kevin Parker%2c was released in 2012 to critical acclaim for its lush psychedelia and adventurous spirit by Les Inrocks%2c Vogue%2c Rolling Stone%2c and Pitchfork. Prochet cited influences as diverse as Erik Satie%2c Can%2c and Stereolab for the record%27s sound.DesignHTMLWords: 61   Characters: 391
URL:https://www.discoverhollywood.com/event/melodys-echo-chamber/
LOCATION:The Roxy\, 9009 Sunset Blvd.\, Los Angeles\, California
END:VEVENT
BEGIN:VEVENT
DTSTART;TZID=Asia/Kolkata:19880404T000000
DTEND;TZID=Asia/Kolkata:19880404T000000
DTSTAMP:20260425T213625
CREATED:20250710T094941Z
LAST-MODIFIED:20250710T094941Z
UID:10009092-576115200-576115200@www.discoverhollywood.com
SUMMARY:Melt Banana + Torche
DESCRIPTION:%3cbr%3eDesignHTMLWords: 0   Characters: 0
URL:https://www.discoverhollywood.com/event/melt-banana-torche/
LOCATION:The Roxy\, 9009 Sunset Blvd.\, Los Angeles\, California
END:VEVENT
BEGIN:VEVENT
DTSTART;TZID=Asia/Kolkata:19880329T000000
DTEND;TZID=Asia/Kolkata:19880329T000000
DTSTAMP:20260425T213625
CREATED:20250710T095043Z
LAST-MODIFIED:20250710T095043Z
UID:10009098-575596800-575596800@www.discoverhollywood.com
SUMMARY:Memory Tapes
DESCRIPTION:%3cbr%3eDesignHTMLWords: 0   Characters: 0
URL:https://www.discoverhollywood.com/event/memory-tapes/
LOCATION:The Roxy\, 9009 Sunset Blvd.\, Los Angeles\, California
END:VEVENT
BEGIN:VEVENT
DTSTART;TZID=Asia/Kolkata:19880128T000000
DTEND;TZID=Asia/Kolkata:19880128T000000
DTSTAMP:20260425T213625
CREATED:20250710T095440Z
LAST-MODIFIED:20250710T095440Z
UID:10009159-570326400-570326400@www.discoverhollywood.com
SUMMARY:Meute
DESCRIPTION:%3ca href%3d%22https%3a//www.theroxy.com/events/detail/381171%22%3ehttps%3a//www.theroxy.com/events/detail/381171%3c/a%3eDesignHTMLWords: 1   Characters: 41
URL:https://www.discoverhollywood.com/event/meute/
LOCATION:The Roxy\, 9009 Sunset Blvd.\, Los Angeles\, California
END:VEVENT
BEGIN:VEVENT
DTSTART;TZID=Asia/Kolkata:19880127T000000
DTEND;TZID=Asia/Kolkata:19880127T000000
DTSTAMP:20260425T213625
CREATED:20250710T095440Z
LAST-MODIFIED:20250710T095440Z
UID:10009160-570240000-570240000@www.discoverhollywood.com
SUMMARY:mewithoutYou
DESCRIPTION:%3cbr%3eDesignHTMLWords: 0   Characters: 0
URL:https://www.discoverhollywood.com/event/mewithoutyou/
LOCATION:The Roxy\, 9009 Sunset Blvd.\, Los Angeles\, California
END:VEVENT
BEGIN:VEVENT
DTSTART;TZID=Asia/Kolkata:19871204T000000
DTEND;TZID=Asia/Kolkata:19871204T000000
DTSTAMP:20260425T213625
CREATED:20250710T095645Z
LAST-MODIFIED:20250710T095645Z
UID:10009214-565574400-565574400@www.discoverhollywood.com
SUMMARY:Michl
DESCRIPTION:DesignHTMLWords: 0   Characters: 0
URL:https://www.discoverhollywood.com/event/michl/
LOCATION:The Roxy\, 9009 Sunset Blvd.\, Los Angeles\, California
END:VEVENT
BEGIN:VEVENT
DTSTART;TZID=Asia/Kolkata:19871202T000000
DTEND;TZID=Asia/Kolkata:19871202T000000
DTSTAMP:20260425T213625
CREATED:20250710T095645Z
LAST-MODIFIED:20250710T095645Z
UID:10009216-565401600-565401600@www.discoverhollywood.com
SUMMARY:Mickey Avalon & Dirt Nasty
DESCRIPTION:With Kosha Dillz\n%3cbr%3eDesignHTMLWords: 3   Characters: 16
URL:https://www.discoverhollywood.com/event/mickey-avalon-dirt-nasty/
LOCATION:The Roxy\, 9009 Sunset Blvd.\, Los Angeles\, California
END:VEVENT
BEGIN:VEVENT
DTSTART;TZID=Asia/Kolkata:19871126T000000
DTEND;TZID=Asia/Kolkata:19871126T000000
DTSTAMP:20260425T213625
CREATED:20250710T095701Z
LAST-MODIFIED:20250710T095701Z
UID:10009222-564883200-564883200@www.discoverhollywood.com
SUMMARY:Midge Ure - Full Band Performance
DESCRIPTION:DesignHTMLWords: 0   Characters: 0
URL:https://www.discoverhollywood.com/event/midge-ure-full-band-performance/
LOCATION:The Roxy\, 9009 Sunset Blvd.\, Los Angeles\, California
END:VEVENT
BEGIN:VEVENT
DTSTART;TZID=Asia/Kolkata:19871029T000000
DTEND;TZID=Asia/Kolkata:19871029T000000
DTSTAMP:20260425T213625
CREATED:20250710T095748Z
LAST-MODIFIED:20250710T095748Z
UID:10009250-562464000-562464000@www.discoverhollywood.com
SUMMARY:Mike Taylor
DESCRIPTION:DesignHTMLWords: 0   Characters: 0
URL:https://www.discoverhollywood.com/event/mike-taylor/
LOCATION:The Roxy\, 9009 Sunset Blvd.\, Los Angeles\, California
END:VEVENT
BEGIN:VEVENT
DTSTART;TZID=Asia/Kolkata:19871025T000000
DTEND;TZID=Asia/Kolkata:19871025T000000
DTSTAMP:20260425T213625
CREATED:20250710T095758Z
LAST-MODIFIED:20250710T095758Z
UID:10009254-562118400-562118400@www.discoverhollywood.com
SUMMARY:Mike Watt and the Secondmen
DESCRIPTION:DesignHTMLWords: 0   Characters: 0
URL:https://www.discoverhollywood.com/event/mike-watt-and-the-secondmen/
LOCATION:The Roxy\, 9009 Sunset Blvd.\, Los Angeles\, California
END:VEVENT
BEGIN:VEVENT
DTSTART;TZID=Asia/Kolkata:19871015T000000
DTEND;TZID=Asia/Kolkata:19871015T000000
DTSTAMP:20260425T213625
CREATED:20250710T095814Z
LAST-MODIFIED:20250710T095814Z
UID:10009264-561254400-561254400@www.discoverhollywood.com
SUMMARY:Mild Orange
DESCRIPTION:%3ca href%3d%22https%3a//www.theroxy.com/events/detail/379088%22%3ehttps%3a//www.theroxy.com/events/detail/379088%3c/a%3eDesignHTMLWords: 1   Characters: 41
URL:https://www.discoverhollywood.com/event/mild-orange/
LOCATION:The Roxy\, 9009 Sunset Blvd.\, Los Angeles\, California
END:VEVENT
BEGIN:VEVENT
DTSTART;TZID=Asia/Kolkata:19870911T000000
DTEND;TZID=Asia/Kolkata:19870911T000000
DTSTAMP:20260425T213625
CREATED:20250710T101255Z
LAST-MODIFIED:20250710T101255Z
UID:10009298-558316800-558316800@www.discoverhollywood.com
SUMMARY:Mir Fontane and Quentin Miller
DESCRIPTION:DesignHTMLWords: 0   Characters: 0
URL:https://www.discoverhollywood.com/event/mir-fontane-and-quentin-miller/
LOCATION:The Roxy\, 9009 Sunset Blvd.\, Los Angeles\, California
END:VEVENT
BEGIN:VEVENT
DTSTART;TZID=Asia/Kolkata:19870808T000000
DTEND;TZID=Asia/Kolkata:19870808T000000
DTSTAMP:20260425T213625
CREATED:20250710T101325Z
LAST-MODIFIED:20250710T101325Z
UID:10009332-555379200-555379200@www.discoverhollywood.com
SUMMARY:MitiS
DESCRIPTION:%3cbr%3eDesignHTMLWords: 0   Characters: 0
URL:https://www.discoverhollywood.com/event/mitis/
LOCATION:The Roxy\, 9009 Sunset Blvd.\, Los Angeles\, California
END:VEVENT
BEGIN:VEVENT
DTSTART;TZID=Asia/Kolkata:19870720T000000
DTEND;TZID=Asia/Kolkata:19870720T000000
DTSTAMP:20260425T213625
CREATED:20250710T101346Z
LAST-MODIFIED:20250710T101346Z
UID:10009351-553737600-553737600@www.discoverhollywood.com
SUMMARY:MØ  With Mereki
DESCRIPTION:Since 2011%2c Mereki has been working as a songwriter and performer alongside Ariel Pink%2c Charli XCX%2c Kitten%2c Jesse Shatkin %28Sia%29%2c Dan Nigro %28Dillon Francis%29%2c Dale Earnhardt Jr Jr %26amp%3b Justin Young %28The Vaccines%29 – She co-wrote Kylie Minogues single %22Golden Boy%22 %28Produced by Ariel Rechtshaid%29 and has toured internationally as the lead singer of the band Goldroom.\n%3cbr%3e\n%3cbr%3eDesignHTMLWords: 55   Characters: 340
URL:https://www.discoverhollywood.com/event/mo-with-mereki/
LOCATION:The Roxy\, 9009 Sunset Blvd.\, Los Angeles\, California
END:VEVENT
BEGIN:VEVENT
DTSTART;TZID=Asia/Kolkata:19870713T000000
DTEND;TZID=Asia/Kolkata:19870713T000000
DTSTAMP:20260425T213625
CREATED:20250710T101357Z
LAST-MODIFIED:20250710T101357Z
UID:10009358-553132800-553132800@www.discoverhollywood.com
SUMMARY:Mod sun
DESCRIPTION:%3cdiv class%3d%22event-info%22%3e\n	%3cdiv class%3d%22artist-box-headliner%22%3e\n		%3cdiv class%3d%22bio%22%3eMOD SUN released his first CD %28a full-length%29 titled%2c %22I%27ll Buy Myself%22%2c on January 31st 2009. It featured 11 songs%2c all of which were original beats made by MOD SUN himself. The songs were written and recorded over a 8 month span from May to December 2008. Every song was recorded in his bedroom and produced by him and only him. He did it all by himself…hence the name of the record.%3c/div%3e\n	%3c/div%3e\n%3c/div%3eDesignHTMLWords: 72   Characters: 371
URL:https://www.discoverhollywood.com/event/mod-sun/
LOCATION:The Roxy\, 9009 Sunset Blvd.\, Los Angeles\, California
END:VEVENT
BEGIN:VEVENT
DTSTART;TZID=Asia/Kolkata:19870707T000000
DTEND;TZID=Asia/Kolkata:19870707T000000
DTSTAMP:20260425T213625
CREATED:20250710T101400Z
LAST-MODIFIED:20250710T101400Z
UID:10009364-552614400-552614400@www.discoverhollywood.com
SUMMARY:Modern Life is War
DESCRIPTION:%3cbr%3eDesignHTMLWords: 0   Characters: 0
URL:https://www.discoverhollywood.com/event/modern-life-is-war/
LOCATION:The Roxy\, 9009 Sunset Blvd.\, Los Angeles\, California
END:VEVENT
BEGIN:VEVENT
DTSTART;TZID=Asia/Kolkata:19870416T000000
DTEND;TZID=Asia/Kolkata:19870416T000000
DTSTAMP:20260425T213625
CREATED:20250710T101629Z
LAST-MODIFIED:20250710T101629Z
UID:10009446-545529600-545529600@www.discoverhollywood.com
SUMMARY:Moose Blood
DESCRIPTION:DesignHTMLWords: 0   Characters: 0
URL:https://www.discoverhollywood.com/event/moose-blood/
LOCATION:The Roxy\, 9009 Sunset Blvd.\, Los Angeles\, California
END:VEVENT
BEGIN:VEVENT
DTSTART;TZID=Asia/Kolkata:19870413T000000
DTEND;TZID=Asia/Kolkata:19870413T000000
DTSTAMP:20260425T213625
CREATED:20250710T101635Z
LAST-MODIFIED:20250710T101635Z
UID:10009449-545270400-545270400@www.discoverhollywood.com
SUMMARY:Moosh & Twist + Bryce Vine
DESCRIPTION:%3cbr%3eDesignHTMLWords: 0   Characters: 0
URL:https://www.discoverhollywood.com/event/moosh-twist-bryce-vine/
LOCATION:The Roxy\, 9009 Sunset Blvd.\, Los Angeles\, California
END:VEVENT
END:VCALENDAR