BEGIN:VCALENDAR
VERSION:2.0
PRODID:-//Discover Hollywood Magazine - ECPv6.15.17//NONSGML v1.0//EN
CALSCALE:GREGORIAN
METHOD:PUBLISH
X-ORIGINAL-URL:https://www.discoverhollywood.com
X-WR-CALDESC:Events for Discover Hollywood Magazine
REFRESH-INTERVAL;VALUE=DURATION:PT1H
X-Robots-Tag:noindex
X-PUBLISHED-TTL:PT1H
BEGIN:VTIMEZONE
TZID:Asia/Kolkata
BEGIN:STANDARD
TZOFFSETFROM:+0530
TZOFFSETTO:+0530
TZNAME:IST
DTSTART:20170101T000000
END:STANDARD
END:VTIMEZONE
BEGIN:VEVENT
DTSTART;TZID=Asia/Kolkata:20251030T190000
DTEND;TZID=Asia/Kolkata:20251030T220000
DTSTAMP:20260422T013447
CREATED:20251020T093109Z
LAST-MODIFIED:20251020T093109Z
UID:10023293-1761850800-1761861600@www.discoverhollywood.com
SUMMARY:Xana with Siena Liggins
DESCRIPTION:Based in Vancouver\, Canada\, Xana is an emerging pop powerhouse. Her command of pop music keeps her songwriting enthralling\, as her blissful vocals glide across the most intimate storytelling and worldbuilding. It’s her intoxicating vibrance that sets Xana apart\, as she encompasses themes of LGBTQ romance and female empowerment through her own experiences across her flourishing repertoire.
URL:https://www.discoverhollywood.com/event/xana-with-siena-liggins/
LOCATION:The Roxy\, 9009 Sunset Blvd.\, Los Angeles\, California
END:VEVENT
BEGIN:VEVENT
DTSTART;TZID=Asia/Kolkata:20251029T190000
DTEND;TZID=Asia/Kolkata:20251029T220000
DTSTAMP:20260422T013447
CREATED:20251020T092910Z
LAST-MODIFIED:20251020T092910Z
UID:10023292-1761764400-1761775200@www.discoverhollywood.com
SUMMARY:Peces Raros
DESCRIPTION:Peces Raros is an Argentinian duo from La Plata\, Buenos Aires\, known for pioneering a unique and compelling fusion of electronic music and rock\, often described as electronic rock or indie-pop. Led by Lucio Consolo (vocals) and Marco Viera\, the band is defined by its pulsing\, dance-driven sound that heavily utilizes synthesizers\, electronic textures\, and immersive guitar work. They are renowned for their intense and continuous “set-mode” live performances\, which blur the line between a rock concert and a DJ session\, compelling audiences to move. With albums like Anestesia (2018) and the award-nominated Dogma (2021) and Artificial (2024)\, Peces Raros has become a prominent and innovative act in the Latin American music scene\, performing at major festivals and gaining a strong international following. \n 
URL:https://www.discoverhollywood.com/event/peces-raros/
LOCATION:The Roxy\, 9009 Sunset Blvd.\, Los Angeles\, California
END:VEVENT
BEGIN:VEVENT
DTSTART;TZID=Asia/Kolkata:20251028T190000
DTEND;TZID=Asia/Kolkata:20251028T233000
DTSTAMP:20260422T013447
CREATED:20251020T092425Z
LAST-MODIFIED:20251020T092425Z
UID:10023291-1761678000-1761694200@www.discoverhollywood.com
SUMMARY:Miki Berenyi Trio with Gina Birch and The Unreasonables
DESCRIPTION:Miki Berenyi began her career as a recording artist in 1989\, as co-founder of the band Lush\, releasing a series of EPs (Scar\, Mad Love and Black Spring compiled as Gala) and LPs (Spooky\, Split and Lovelife) on the iconic 4AD label. The band toured extensively\, many times in the US — with Ride\, Babes in Toyland\, Jane’s Addiction\, Flaming Lips\, Weezer and\, most notably\, as openers on the 1992 Lollapalooza tour. \nLush split in 1996\, and Miki retired from music\, but a 2015-16 Lush reunion tour\, which included a Coachella date and release of an EP Blond Spot\, revived her enthusiasm and she formed Piroshka\, who released two albums on Bella Union: Brickbat (2019) and Love Drips and Gathers (2021). \nWhen the global pandemic made touring impossible\, Miki spent the lockdown months writing her memoir\, Fingers Crossed\, released in 2022 to widespread acclaim. To provide some musical accompaniment for the string of book events and signings\, Miki Berenyi Trio was formed\, with her partner Kevin ‘Moose’ McKillop on guitar and Oliver Cherer on bass (both had played in Piroshka). \nThe band has developed a momentum of its own and they are now writing new songs\, inserted into the set of Lush and Piroshka tracks as they continue to fulfil live bookings\, with a plan to record and release an album in 2024. For the US dates\, they will be joined by Michael Conroy — also a founder member of Piroshka and Modern English.
URL:https://www.discoverhollywood.com/event/miki-berenyi-trio-with-gina-birch-and-the-unreasonables/
LOCATION:The Roxy\, 9009 Sunset Blvd.\, Los Angeles\, California
END:VEVENT
BEGIN:VEVENT
DTSTART;TZID=Asia/Kolkata:20251026T190000
DTEND;TZID=Asia/Kolkata:20251026T220000
DTSTAMP:20260422T013447
CREATED:20251016T100525Z
LAST-MODIFIED:20251016T100525Z
UID:10023289-1761505200-1761516000@www.discoverhollywood.com
SUMMARY:54 ULTRA
DESCRIPTION:54 Ultra is the solo musical project of New Jersey-based singer\, songwriter\, and producer John Anthony Rodriguez. His sound is a distinctive blend of vintage aesthetics and modern sensibilities\, combining elements of Latin soul\, 1960s pop\, New Wave\, and indie rock. Drawing inspiration from his Dominican-Puerto Rican heritage\, he often incorporates bilingual flair into his music\, which is characterized by smooth vocals\, dreamy synths\, and classic production quality. The name “54 Ultra” itself is a mashup of the iconic Studio 54 disco club and Frank Ocean’s Nostalgia\, Ultra. EP\, reflecting his retro-futurist style. Although primarily a solo studio endeavor where he records all his music\, 54 Ultra performs live with a full band to bring his analog soul revivalism to the stage\, showcasing tracks like the highly streamed hit “Heaven Knows” and songs from his debut project\, First Works (2025).
URL:https://www.discoverhollywood.com/event/54-ultra/
LOCATION:The Roxy\, 9009 Sunset Blvd.\, Los Angeles\, California
END:VEVENT
BEGIN:VEVENT
DTSTART;TZID=Asia/Kolkata:20251025T200000
DTEND;TZID=Asia/Kolkata:20251025T230000
DTSTAMP:20260422T013447
CREATED:20251016T095836Z
LAST-MODIFIED:20251016T095836Z
UID:10023287-1761422400-1761433200@www.discoverhollywood.com
SUMMARY:TELYKAST
DESCRIPTION:TELYKAST is a Los Angeles-based music group known for their distinctive sound that blends high-energy electronic dance music (EDM) with catchy pop hooks and organic instrumentation. The trio\, comprised of Linus Altman-Kurosaki (jazz guitarist background)\, Kyle Tonoli (DJ/producer)\, and Trevor Klaiman (former metal guitarist)\, fuses their diverse musical backgrounds to create anthemic\, sentimental tracks. They have successfully established themselves in the dance-pop scene\, accumulating hundreds of millions of streams across platforms through popular singles like “Unbreakable” and “Body to Body\,” in addition to official remixes for major artists such as The Chainsmokers and Imagine Dragons. This unique combination of a live band dynamic with electronic production gives them a recognizable sound both on radio and in their dynamic live performances.
URL:https://www.discoverhollywood.com/event/telykast/
LOCATION:The Roxy\, 9009 Sunset Blvd.\, Los Angeles\, California
END:VEVENT
BEGIN:VEVENT
DTSTART;TZID=Asia/Kolkata:20251024T200000
DTEND;TZID=Asia/Kolkata:20251024T233000
DTSTAMP:20260422T013447
CREATED:20251016T095036Z
LAST-MODIFIED:20251016T095036Z
UID:10023285-1761336000-1761348600@www.discoverhollywood.com
SUMMARY:Inoha
DESCRIPTION:INOHA is a rising American indie rock band from San Antonio\, Texas\, that has successfully built a distinct brand identity blending vibrant\, upbeat music with a relaxed\, surf-rock aesthetic. The band\, defined by their intricate guitar work\, catchy melodies\, and energetic live performances\, saw their brand soar after the viral success of their single “Seventh Heaven.” Their brand is characterized by bright\, playful visual art\, particularly on their debut album\, ALOHA INOHA\, and is extended through a merchandise line featuring graphic t-shirts and accessories\, solidifying their status as a fresh\, dynamic\, and rapidly expanding independent musical brand in the alternative scene.
URL:https://www.discoverhollywood.com/event/inoha/
LOCATION:The Roxy\, 9009 Sunset Blvd.\, Los Angeles\, California
END:VEVENT
BEGIN:VEVENT
DTSTART;TZID=Asia/Kolkata:20251023T190000
DTEND;TZID=Asia/Kolkata:20251023T220000
DTSTAMP:20260422T013447
CREATED:20251016T093955Z
LAST-MODIFIED:20251016T093955Z
UID:10023284-1761246000-1761256800@www.discoverhollywood.com
SUMMARY:RØZ
DESCRIPTION:The most prominent recent act is the Mexican electronic music duo\, RØZ\, composed of Manolo Cabrera and Hugo Lara. They are a significant and fast-rising project in the Latin electronic scene\, known for their danceable and passionate sound. They have accumulated over 30 million streams and have collaborated with notable Latin artists like Yng Lvcas and Peso Pluma.
URL:https://www.discoverhollywood.com/event/roz/
LOCATION:The Roxy\, 9009 Sunset Blvd.\, Los Angeles\, California
END:VEVENT
BEGIN:VEVENT
DTSTART;TZID=Asia/Kolkata:20251022T190000
DTEND;TZID=Asia/Kolkata:20251022T213000
DTSTAMP:20260422T013447
CREATED:20251016T092913Z
LAST-MODIFIED:20251016T092913Z
UID:10023283-1761159600-1761168600@www.discoverhollywood.com
SUMMARY:Bungalow Collect
DESCRIPTION:Bungalow Collect is an American hip-hop collective and musical group known for pioneering a distinctive “Disco Rap” sound\, which fuses nostalgic disco grooves and high-energy anthems with modern rap flows and production.
URL:https://www.discoverhollywood.com/event/bungalow-collect/
LOCATION:The Roxy\, 9009 Sunset Blvd.\, Los Angeles\, California
END:VEVENT
BEGIN:VEVENT
DTSTART;TZID=Asia/Kolkata:20251021T190000
DTEND;TZID=Asia/Kolkata:20251021T230000
DTSTAMP:20260422T013447
CREATED:20251016T092642Z
LAST-MODIFIED:20251016T092642Z
UID:10023282-1761073200-1761087600@www.discoverhollywood.com
SUMMARY:ADÉLA
DESCRIPTION:The Slovak singer-songwriter and dancer ADÉLA (Adéla Jergová) began her career as a professionally trained classical ballerina before pivoting to pop music. She gained public visibility as a contestant on the 2023 reality competition show Dream Academy\, which sought to form the global girl group Katseye. Following her elimination\, she launched a solo career in 2024\, developing an intense\, hyperpop-influenced sound\, and subsequently signed with Capitol Records and Polydor Records in 2025. Her solo artistry is defined by her provocative\, unfiltered lyrics\, and her artistic vision came to a head with the release of her debut EP\, The Provocateur\, in August 2025.
URL:https://www.discoverhollywood.com/event/adela/
LOCATION:The Roxy\, 9009 Sunset Blvd.\, Los Angeles\, California
END:VEVENT
BEGIN:VEVENT
DTSTART;TZID=Asia/Kolkata:20251019T200000
DTEND;TZID=Asia/Kolkata:20251019T233000
DTSTAMP:20260422T013447
CREATED:20251016T091116Z
LAST-MODIFIED:20251016T091116Z
UID:10023280-1760904000-1760916600@www.discoverhollywood.com
SUMMARY:Saint Avangeline
DESCRIPTION:Saint Avangeline is an Atlanta-based independent alternative singer-songwriter. Her music merges ethereal sounds with raw vocals\, creating a striking contrast. She has released two main albums: Gardener of Eden (2022) and Inferno (2024). Her debut single “Lilith” amassed over 56 million streams on Spotify. The artist incorporates themes of emotion\, mental health\, and the queer experience into her songs. Her early work has been compared to artists like Lana Del Rey\, while her newer music leans toward rock.
URL:https://www.discoverhollywood.com/event/saint-avangeline/
LOCATION:The Roxy\, 9009 Sunset Blvd.\, Los Angeles\, California
END:VEVENT
BEGIN:VEVENT
DTSTART;TZID=Asia/Kolkata:20251017T190000
DTEND;TZID=Asia/Kolkata:20251017T220000
DTSTAMP:20260422T013447
CREATED:20251003T101921Z
LAST-MODIFIED:20251003T101921Z
UID:10020685-1760727600-1760738400@www.discoverhollywood.com
SUMMARY:Blood Club
DESCRIPTION:Blood Club is a Chicago post-punk trio known for blending darkwave intensity with their Latino heritage\, creating a unique\, bilingual sound. Fronted by Jesse Flores\, the band has quickly gained an international following with their moody\, synthesizer-heavy music\, drawing comparisons to acts like Joy Division and Molchat Doma. They have toured extensively and released EPs such as current lust and Crybaby.
URL:https://www.discoverhollywood.com/event/blood-club/
LOCATION:The Roxy\, 9009 Sunset Blvd.\, Los Angeles\, California
END:VEVENT
BEGIN:VEVENT
DTSTART;TZID=Asia/Kolkata:20251016T190000
DTEND;TZID=Asia/Kolkata:20251016T230000
DTSTAMP:20260422T013447
CREATED:20251003T101222Z
LAST-MODIFIED:20251003T101222Z
UID:10020667-1760641200-1760655600@www.discoverhollywood.com
SUMMARY:Shonen Knife
DESCRIPTION:Shonen Knife is an influential Japanese all-female pop-punk band\, formed in 1981\, known for their fusion of 1960s girl-group melodies and Ramones-style punk. Fronted by Naoko Yamano\, the trio gained international recognition for their cheerful\, simplistic lyrics and energetic\, DIY aesthetic. Their music significantly impacted the 1990s alternative scene\, most notably when Kurt Cobain personally invited them to open for Nirvana on tour. \n  \nWith The Pack A.D as opener.
URL:https://www.discoverhollywood.com/event/shonen-knife-3/
LOCATION:The Roxy\, 9009 Sunset Blvd.\, Los Angeles\, California
END:VEVENT
BEGIN:VEVENT
DTSTART;TZID=Asia/Kolkata:20251015T190000
DTEND;TZID=Asia/Kolkata:20251015T233000
DTSTAMP:20260422T013447
CREATED:20251003T095706Z
LAST-MODIFIED:20251003T095706Z
UID:10020640-1760554800-1760571000@www.discoverhollywood.com
SUMMARY:Lojay
DESCRIPTION:Nigerian singer\, songwriter\, and producer Lojay is a prominent figure in the Afro-fusion scene\, known for his distinctive blend of Afrobeats and R&B. He achieved international success with his breakout single “Monalisa\,” a collaboration with producer Sarz that was later remixed to feature Chris Brown\, and contributed to Chris Brown’s Grammy-nominated song “Sensational.” Lojay continues to grow his global following with projects like his Gangster Romantic EP.
URL:https://www.discoverhollywood.com/event/lojay/
LOCATION:The Roxy\, 9009 Sunset Blvd.\, Los Angeles\, California
END:VEVENT
BEGIN:VEVENT
DTSTART;TZID=Asia/Kolkata:20251012T190000
DTEND;TZID=Asia/Kolkata:20251012T233000
DTSTAMP:20260422T013447
CREATED:20251003T092111Z
LAST-MODIFIED:20251003T092111Z
UID:10020602-1760295600-1760311800@www.discoverhollywood.com
SUMMARY:Wax
DESCRIPTION:Hip-hop artist Wax titled his album Continue… as a declaration of moving forward after a detour from his career path. After gaining millions of views on YouTube for his humorous and skillful rapping\, he signed with Def Jam in 2011\, a relationship that eventually didn’t work out due to creative differences that made him feel “locked into this box.” Being dropped from the label ultimately freed him to make the eclectic album he truly desired\, collaborating with producers like EOM and Greg Wells (Adele\, Eminem). The resulting album\, featuring the viral hit “Rosana\,” successfully blends his musicality with his innate ability to infuse self-deprecating humor into his versatile tracks\, proving his commitment to longevity in music.
URL:https://www.discoverhollywood.com/event/wax/
LOCATION:The Roxy\, 9009 Sunset Blvd.\, Los Angeles\, California
END:VEVENT
BEGIN:VEVENT
DTSTART;TZID=Asia/Kolkata:20251011T200000
DTEND;TZID=Asia/Kolkata:20251011T233000
DTSTAMP:20260422T013447
CREATED:20251002T181210Z
LAST-MODIFIED:20251002T181210Z
UID:10020514-1760212800-1760225400@www.discoverhollywood.com
SUMMARY:Junior Varsity
DESCRIPTION:This Los Angeles-based band is known for its Alternative Pop/Rock sound\, often incorporating dance-rock and punk elements. The current lineup is a trio featuring lead singers Greg Varteresian and Brooke Danaher\, along with multi-instrumentalist Zach Michel. They initially gained traction through unique live events and unconventional promotion before releasing EPs like Junior Varsity and My Star.
URL:https://www.discoverhollywood.com/event/junior-varsity/
LOCATION:The Roxy\, 9009 Sunset Blvd.\, Los Angeles\, California
END:VEVENT
BEGIN:VEVENT
DTSTART;TZID=Asia/Kolkata:20251009T190000
DTEND;TZID=Asia/Kolkata:20251009T220000
DTSTAMP:20260422T013447
CREATED:20250930T164347Z
LAST-MODIFIED:20250930T164347Z
UID:10020504-1760036400-1760047200@www.discoverhollywood.com
SUMMARY:Luna Luna
DESCRIPTION:The contemporary band Luna Luna is a Latinx Dream Pop/Indie Pop group currently based in Texas. Known for their bilingual songs\, their style fuses nostalgic retro synth-pop with elements of funk\, R&B\, and Latin rhythms like Cumbia. They are celebrated for their romantic\, lo-fi sound\, featured on tracks like “Commitment” and their album Flower Moon.
URL:https://www.discoverhollywood.com/event/luna-luna/
LOCATION:The Roxy\, 9009 Sunset Blvd.\, Los Angeles\, California
END:VEVENT
BEGIN:VEVENT
DTSTART;TZID=Asia/Kolkata:20251006T190000
DTEND;TZID=Asia/Kolkata:20251006T220000
DTSTAMP:20260422T013447
CREATED:20250930T160537Z
LAST-MODIFIED:20250930T160537Z
UID:10020495-1759777200-1759788000@www.discoverhollywood.com
SUMMARY:Bully with Marni
DESCRIPTION:The musical project Bully is the indie rock vehicle of singer-songwriter Alicia Bognanno. It is known for its noisy\, ’90s-influenced grunge-pop sound featuring her signature raw\, screaming vocals.
URL:https://www.discoverhollywood.com/event/bully-with-marni/
LOCATION:The Roxy\, 9009 Sunset Blvd.\, Los Angeles\, California
END:VEVENT
BEGIN:VEVENT
DTSTART;TZID=Asia/Kolkata:20251004T200000
DTEND;TZID=Asia/Kolkata:20251004T233000
DTSTAMP:20260422T013447
CREATED:20250929T164512Z
LAST-MODIFIED:20250929T164512Z
UID:10020486-1759608000-1759620600@www.discoverhollywood.com
SUMMARY:MXGPU with Moullinex + GPU Panic
DESCRIPTION:MXGPU is the electronic music duo featuring Portuguese producers Moullinex and GPU Panic. This is a highly-anticipated live performance focused on their debut album\, SUDDEN LIGHT\, exploring the boundaries of melodic house and techno. Known for their immersive\, 360° concerts that blur the line between performer and audience\, the show will be a visceral\, high-fidelity experience of emotional dance music.
URL:https://www.discoverhollywood.com/event/mxgpu-with-moullinex-gpu-panic/
LOCATION:The Roxy\, 9009 Sunset Blvd.\, Los Angeles\, California
END:VEVENT
BEGIN:VEVENT
DTSTART;TZID=Asia/Kolkata:20251003T200000
DTEND;TZID=Asia/Kolkata:20251003T233000
DTSTAMP:20260422T013447
CREATED:20250929T163535Z
LAST-MODIFIED:20250929T163535Z
UID:10020483-1759521600-1759534200@www.discoverhollywood.com
SUMMARY:NateWantsToBattle With Cam Steady
DESCRIPTION:A popular voice actor\, musician\, gaming commentator and YouTube star\, NateWantsToBattle is the nom de plume of Nathan Sharp. Sharp launched his popular YouTube channel in 2012\, where he performs original songs about video games and cover songs from popular anime games in English. He’s also released albums under the monikers Mangled and Sandcastle Kingdoms.
URL:https://www.discoverhollywood.com/event/natewantstobattle-with-cam-steady/
LOCATION:The Roxy\, 9009 Sunset Blvd.\, Los Angeles\, California
END:VEVENT
BEGIN:VEVENT
DTSTART;TZID=Asia/Kolkata:20251002T190000
DTEND;TZID=Asia/Kolkata:20251002T230000
DTSTAMP:20260422T013447
CREATED:20250929T160052Z
LAST-MODIFIED:20250929T160052Z
UID:10020474-1759431600-1759446000@www.discoverhollywood.com
SUMMARY:Madison McFerrin
DESCRIPTION:Madison McFerrin is a contemporary independent American singer-songwriter\, producer\, and multi-instrumentalist from Brooklyn\, New York.
URL:https://www.discoverhollywood.com/event/madison-mcferrin/
LOCATION:The Roxy\, 9009 Sunset Blvd.\, Los Angeles\, California
END:VEVENT
BEGIN:VEVENT
DTSTART;TZID=Asia/Kolkata:20220214T000000
DTEND;TZID=Asia/Kolkata:20220214T000000
DTSTAMP:20260422T013447
CREATED:20250630T091330Z
LAST-MODIFIED:20250630T091330Z
UID:10001253-1644796800-1644796800@www.discoverhollywood.com
SUMMARY:4th Ave
DESCRIPTION:DesignHTMLWords: 0   Characters: 0
URL:https://www.discoverhollywood.com/event/4th-ave-2/
LOCATION:The Roxy\, 9009 Sunset Blvd.\, Los Angeles\, California
END:VEVENT
BEGIN:VEVENT
DTSTART;TZID=Asia/Kolkata:20201028T000000
DTEND;TZID=Asia/Kolkata:20201028T000000
DTSTAMP:20260422T013447
CREATED:20250630T095702Z
LAST-MODIFIED:20250630T095702Z
UID:10001411-1603843200-1603843200@www.discoverhollywood.com
SUMMARY:A positive Spin Benefit Event
DESCRIPTION:with AC Slater%2c Bixel Boys%2c Craze%2c Kittens%2c Le Youth%2c Machinedrum B2B Taso%2c Mat Zo%2c Nadastrom %26amp%3b Vincent.DesignHTMLWords: 16   Characters: 95
URL:https://www.discoverhollywood.com/event/a-positive-spin-benefit-event-2/
LOCATION:The Roxy\, 9009 Sunset Blvd.\, Los Angeles\, California
END:VEVENT
BEGIN:VEVENT
DTSTART;TZID=Asia/Kolkata:20200907T000000
DTEND;TZID=Asia/Kolkata:20200907T000000
DTSTAMP:20260422T013447
CREATED:20250630T095721Z
LAST-MODIFIED:20250630T095721Z
UID:10001428-1599436800-1599436800@www.discoverhollywood.com
SUMMARY:A Static Lullaby
DESCRIPTION:DesignHTMLWords: 0   Characters: 0
URL:https://www.discoverhollywood.com/event/a-static-lullaby-2/
LOCATION:The Roxy\, 9009 Sunset Blvd.\, Los Angeles\, California
END:VEVENT
BEGIN:VEVENT
DTSTART;TZID=Asia/Kolkata:20200404T000000
DTEND;TZID=Asia/Kolkata:20200404T000000
DTSTAMP:20260422T013447
CREATED:20250630T100452Z
LAST-MODIFIED:20250630T100452Z
UID:10001480-1585958400-1585958400@www.discoverhollywood.com
SUMMARY:Aaron Gillespie
DESCRIPTION:%3cbr%3eDesignHTMLWords: 0   Characters: 0
URL:https://www.discoverhollywood.com/event/aaron-gillespie-2/
LOCATION:The Roxy\, 9009 Sunset Blvd.\, Los Angeles\, California
END:VEVENT
BEGIN:VEVENT
DTSTART;TZID=Asia/Kolkata:20200308T000000
DTEND;TZID=Asia/Kolkata:20200308T000000
DTSTAMP:20260422T013447
CREATED:20250630T100508Z
LAST-MODIFIED:20250630T100508Z
UID:10001489-1583625600-1583625600@www.discoverhollywood.com
SUMMARY:Abbarama
DESCRIPTION:%3ca href%3d%22https%3a//www.theroxy.com/%22 target%3d%22_blank%22%3ehttps%3a//www.theroxy.com/%3c/a%3eDesignHTMLWords: 1   Characters: 21
URL:https://www.discoverhollywood.com/event/abbarama-2/
LOCATION:The Roxy\, 9009 Sunset Blvd.\, Los Angeles\, California
END:VEVENT
BEGIN:VEVENT
DTSTART;TZID=Asia/Kolkata:20190407T000000
DTEND;TZID=Asia/Kolkata:20190407T000000
DTSTAMP:20260422T013447
CREATED:20250630T103033Z
LAST-MODIFIED:20250630T103033Z
UID:10001596-1554595200-1554595200@www.discoverhollywood.com
SUMMARY:Against The Current: In Our Bones World Tour – OTW/Alcatel Idol 4/Cricket
DESCRIPTION:DesignHTMLWords: 0   Characters: 0
URL:https://www.discoverhollywood.com/event/against-the-current-in-our-bones-world-tour-otw-alcatel-idol-4-cricket-2/
LOCATION:The Roxy\, 9009 Sunset Blvd.\, Los Angeles\, California
END:VEVENT
BEGIN:VEVENT
DTSTART;TZID=Asia/Kolkata:20190323T000000
DTEND;TZID=Asia/Kolkata:20190323T000000
DTSTAMP:20260422T013447
CREATED:20250630T103048Z
LAST-MODIFIED:20250630T103048Z
UID:10001601-1553299200-1553299200@www.discoverhollywood.com
SUMMARY:Agnostic Front
DESCRIPTION:%3ca href%3d%22https%3a//www.theroxy.com/events/detail/379310%22%3ehttps%3a//www.theroxy.com/events/detail/379310%3c/a%3eDesignHTMLWords: 1   Characters: 41
URL:https://www.discoverhollywood.com/event/agnostic-front-2/
LOCATION:The Roxy\, 9009 Sunset Blvd.\, Los Angeles\, California
END:VEVENT
BEGIN:VEVENT
DTSTART;TZID=Asia/Kolkata:20181030T000000
DTEND;TZID=Asia/Kolkata:20181030T000000
DTSTAMP:20260422T013447
CREATED:20250630T103304Z
LAST-MODIFIED:20250630T103304Z
UID:10001649-1540857600-1540857600@www.discoverhollywood.com
SUMMARY:Albert Hammond Jr.
DESCRIPTION:Indie Rock. %3cb%3e%3ci%3ePitchfork%3c/i%3e%3c/b%3e premiered his recent solo record%2c\n%3ci%3eMomentary Masters%3c/i%3e%2c which takes its name from astronomer Carl Sagan%27s\n%3ci%3ePale Blue Dot%3a A Vision of the Human Future in Space. %3c/i%3e\n%3cbr%3e\n%3cbr%3e\nRecorded in a converted barn at Albert%27s home in upstate New York%2c these songs roll big topics %28finding innocence again after experience%2c ego vs. id%2c how we fit into the universe…%29 into breezy lines of sharp indie rock.\n%3cbr%3e\n%3cbr%3e\n%3cbr%3eDesignHTMLWords: 67   Characters: 384
URL:https://www.discoverhollywood.com/event/albert-hammond-jr-4/
LOCATION:The Roxy\, 9009 Sunset Blvd.\, Los Angeles\, California
END:VEVENT
BEGIN:VEVENT
DTSTART;TZID=Asia/Kolkata:20181021T000000
DTEND;TZID=Asia/Kolkata:20181021T000000
DTSTAMP:20260422T013447
CREATED:20250630T103318Z
LAST-MODIFIED:20250630T103318Z
UID:10001652-1540080000-1540080000@www.discoverhollywood.com
SUMMARY:Alcest
DESCRIPTION:DesignHTMLWords: 0   Characters: 0
URL:https://www.discoverhollywood.com/event/alcest-2/
LOCATION:The Roxy\, 9009 Sunset Blvd.\, Los Angeles\, California
END:VEVENT
BEGIN:VEVENT
DTSTART;TZID=Asia/Kolkata:20180828T000000
DTEND;TZID=Asia/Kolkata:20180828T000000
DTSTAMP:20260422T013447
CREATED:20250630T103418Z
LAST-MODIFIED:20250630T103418Z
UID:10001670-1535414400-1535414400@www.discoverhollywood.com
SUMMARY:Alex & Sierra
DESCRIPTION:DesignHTMLWords: 0   Characters: 0
URL:https://www.discoverhollywood.com/event/alex-sierra-2/
LOCATION:The Roxy\, 9009 Sunset Blvd.\, Los Angeles\, California
END:VEVENT
END:VCALENDAR