BEGIN:VCALENDAR
VERSION:2.0
PRODID:-//Discover Hollywood Magazine - ECPv6.15.20//NONSGML v1.0//EN
CALSCALE:GREGORIAN
METHOD:PUBLISH
X-WR-CALNAME:Discover Hollywood Magazine
X-ORIGINAL-URL:https://www.discoverhollywood.com
X-WR-CALDESC:Events for Discover Hollywood Magazine
REFRESH-INTERVAL;VALUE=DURATION:PT1H
X-Robots-Tag:noindex
X-PUBLISHED-TTL:PT1H
BEGIN:VTIMEZONE
TZID:Asia/Kolkata
BEGIN:STANDARD
TZOFFSETFROM:+0530
TZOFFSETTO:+0530
TZNAME:IST
DTSTART:19780101T000000
END:STANDARD
END:VTIMEZONE
BEGIN:VEVENT
DTSTART;TZID=Asia/Kolkata:19830627T000000
DTEND;TZID=Asia/Kolkata:19830627T000000
DTSTAMP:20260426T092112
CREATED:20250714T092849Z
LAST-MODIFIED:20250714T092849Z
UID:10010405-425520000-425520000@www.discoverhollywood.com
SUMMARY:Pink Sweat$
DESCRIPTION:%3ca href%3d%22https%3a//www.theroxy.com/%22 target%3d%22_blank%22%3ehttps%3a//www.theroxy.com/%3c/a%3eDesignHTMLWords: 1   Characters: 21
URL:https://www.discoverhollywood.com/event/pink-sweat/
LOCATION:The Roxy\, 9009 Sunset Blvd.\, Los Angeles\, California
END:VEVENT
BEGIN:VEVENT
DTSTART;TZID=Asia/Kolkata:19830607T000000
DTEND;TZID=Asia/Kolkata:19830607T000000
DTSTAMP:20260426T092112
CREATED:20250714T092930Z
LAST-MODIFIED:20250714T092930Z
UID:10010425-423792000-423792000@www.discoverhollywood.com
SUMMARY:Plain White T's
DESCRIPTION:DesignHTMLWords: 0   Characters: 0
URL:https://www.discoverhollywood.com/event/plain-white-ts/
LOCATION:The Roxy\, 9009 Sunset Blvd.\, Los Angeles\, California
END:VEVENT
BEGIN:VEVENT
DTSTART;TZID=Asia/Kolkata:19830419T000000
DTEND;TZID=Asia/Kolkata:19830419T000000
DTSTAMP:20260426T092112
CREATED:20250714T093038Z
LAST-MODIFIED:20250714T093038Z
UID:10010474-419558400-419558400@www.discoverhollywood.com
SUMMARY:Poison The Well
DESCRIPTION:DesignHTMLWords: 0   Characters: 0
URL:https://www.discoverhollywood.com/event/poison-the-well/
LOCATION:The Roxy\, 9009 Sunset Blvd.\, Los Angeles\, California
END:VEVENT
BEGIN:VEVENT
DTSTART;TZID=Asia/Kolkata:19830328T000000
DTEND;TZID=Asia/Kolkata:19830328T000000
DTSTAMP:20260426T092112
CREATED:20250714T093111Z
LAST-MODIFIED:20250714T093111Z
UID:10010496-417657600-417657600@www.discoverhollywood.com
SUMMARY:Pop Evil
DESCRIPTION:%3cbr%3eDesignHTMLWords: 0   Characters: 0
URL:https://www.discoverhollywood.com/event/pop-evil/
LOCATION:The Roxy\, 9009 Sunset Blvd.\, Los Angeles\, California
END:VEVENT
BEGIN:VEVENT
DTSTART;TZID=Asia/Kolkata:19830319T000000
DTEND;TZID=Asia/Kolkata:19830319T000000
DTSTAMP:20260426T092112
CREATED:20250714T093121Z
LAST-MODIFIED:20250714T093121Z
UID:10010505-416880000-416880000@www.discoverhollywood.com
SUMMARY:Porter
DESCRIPTION:%3cbr%3eDesignHTMLWords: 0   Characters: 0
URL:https://www.discoverhollywood.com/event/porter/
LOCATION:The Roxy\, 9009 Sunset Blvd.\, Los Angeles\, California
END:VEVENT
BEGIN:VEVENT
DTSTART;TZID=Asia/Kolkata:19830221T000000
DTEND;TZID=Asia/Kolkata:19830221T000000
DTSTAMP:20260426T092112
CREATED:20250714T093147Z
LAST-MODIFIED:20250714T093147Z
UID:10010531-414633600-414633600@www.discoverhollywood.com
SUMMARY:Prateek Kuhad
DESCRIPTION:%3ca href%3d%22https%3a//www.theroxy.com/events/detail/379430%22%3ehttps%3a//www.theroxy.com/events/detail/379430%3c/a%3eDesignHTMLWords: 1   Characters: 41
URL:https://www.discoverhollywood.com/event/prateek-kuhad/
LOCATION:The Roxy\, 9009 Sunset Blvd.\, Los Angeles\, California
END:VEVENT
BEGIN:VEVENT
DTSTART;TZID=Asia/Kolkata:19830219T000000
DTEND;TZID=Asia/Kolkata:19830219T000000
DTSTAMP:20260426T092112
CREATED:20250714T093153Z
LAST-MODIFIED:20250714T093153Z
UID:10010533-414460800-414460800@www.discoverhollywood.com
SUMMARY:Prayers
DESCRIPTION:%3cbr%3eDesignHTMLWords: 0   Characters: 0
URL:https://www.discoverhollywood.com/event/prayers/
LOCATION:The Roxy\, 9009 Sunset Blvd.\, Los Angeles\, California
END:VEVENT
BEGIN:VEVENT
DTSTART;TZID=Asia/Kolkata:19830212T000000
DTEND;TZID=Asia/Kolkata:19830212T000000
DTSTAMP:20260426T092112
CREATED:20250714T093200Z
LAST-MODIFIED:20250714T093200Z
UID:10010540-413856000-413856000@www.discoverhollywood.com
SUMMARY:Preoccupations (fla Viet Cong)
DESCRIPTION:%3cbr%3eDesignHTMLWords: 0   Characters: 0
URL:https://www.discoverhollywood.com/event/preoccupations-fla-viet-cong/
LOCATION:The Roxy\, 9009 Sunset Blvd.\, Los Angeles\, California
END:VEVENT
BEGIN:VEVENT
DTSTART;TZID=Asia/Kolkata:19821211T000000
DTEND;TZID=Asia/Kolkata:19821211T000000
DTSTAMP:20260426T092112
CREATED:20250714T093415Z
LAST-MODIFIED:20250714T093415Z
UID:10010603-408412800-408412800@www.discoverhollywood.com
SUMMARY:Public Service Broadcasting
DESCRIPTION:Public Service Broadcasting is the corduroy-clad brainchild of London-based J. Willgoose%2c Esq. who%2c along with his drumming companion%2c Wrigglesworth%2c is on a quest to inform%2c educate and entertain audiences around the globe.DesignHTMLWords: 32   Characters: 214
URL:https://www.discoverhollywood.com/event/public-service-broadcasting/
LOCATION:The Roxy\, 9009 Sunset Blvd.\, Los Angeles\, California
END:VEVENT
BEGIN:VEVENT
DTSTART;TZID=Asia/Kolkata:19821203T000000
DTEND;TZID=Asia/Kolkata:19821203T000000
DTSTAMP:20260426T092112
CREATED:20250714T093447Z
LAST-MODIFIED:20250714T093447Z
UID:10010611-407721600-407721600@www.discoverhollywood.com
SUMMARY:Puggles Pity Party
DESCRIPTION:%3cbr%3eDesignHTMLWords: 0   Characters: 0
URL:https://www.discoverhollywood.com/event/puggles-pity-party/
LOCATION:The Roxy\, 9009 Sunset Blvd.\, Los Angeles\, California
END:VEVENT
BEGIN:VEVENT
DTSTART;TZID=Asia/Kolkata:19821030T000000
DTEND;TZID=Asia/Kolkata:19821030T000000
DTSTAMP:20260426T092112
CREATED:20250714T093541Z
LAST-MODIFIED:20250714T093541Z
UID:10010645-404784000-404784000@www.discoverhollywood.com
SUMMARY:Puzzle
DESCRIPTION:%3ca href%3d%22https%3a//www.theroxy.com/events%22%3ehttps%3a//www.theroxy.com/events%3c/a%3eDesignHTMLWords: 1   Characters: 27
URL:https://www.discoverhollywood.com/event/puzzle/
LOCATION:The Roxy\, 9009 Sunset Blvd.\, Los Angeles\, California
END:VEVENT
BEGIN:VEVENT
DTSTART;TZID=Asia/Kolkata:19821028T000000
DTEND;TZID=Asia/Kolkata:19821028T000000
DTSTAMP:20260426T092112
CREATED:20250714T093551Z
LAST-MODIFIED:20250714T093551Z
UID:10010647-404611200-404611200@www.discoverhollywood.com
SUMMARY:PVMNTS/WSTR
DESCRIPTION:With Special Guest Hold CloseDesignHTMLWords: 5   Characters: 29
URL:https://www.discoverhollywood.com/event/pvmnts-wstr/
LOCATION:The Roxy\, 9009 Sunset Blvd.\, Los Angeles\, California
END:VEVENT
BEGIN:VEVENT
DTSTART;TZID=Asia/Kolkata:19821020T000000
DTEND;TZID=Asia/Kolkata:19821020T000000
DTSTAMP:20260426T092112
CREATED:20250714T093601Z
LAST-MODIFIED:20250714T093601Z
UID:10010655-403920000-403920000@www.discoverhollywood.com
SUMMARY:Quantic
DESCRIPTION:Quantic is an umbrella name for UK-born%2c Will Holland%3a acclaimed Producer%2c Musician and DJ for over 15 years evolving and involving styles like Funk %26amp%3b Jazz to Electronic %26amp%3b Folk music through to Latin%2c Reggae%2c Dub %26amp%3b Cumbia. Holland has released over ten full-length albums internationally through the label%2c Tru Thoughts%2c … across six different projects ranging from his DJ/Producer/Remixer moniker that has packed dance floors from Bulgaria to Buenos Aires%2c Quantic%2c to his Latin-tinged%2c reggae and dDesignHTMLWords: 75   Characters: 483
URL:https://www.discoverhollywood.com/event/quantic/
LOCATION:The Roxy\, 9009 Sunset Blvd.\, Los Angeles\, California
END:VEVENT
BEGIN:VEVENT
DTSTART;TZID=Asia/Kolkata:19821012T000000
DTEND;TZID=Asia/Kolkata:19821012T000000
DTSTAMP:20260426T092112
CREATED:20250714T093706Z
LAST-MODIFIED:20250714T093706Z
UID:10010663-403228800-403228800@www.discoverhollywood.com
SUMMARY:Queen Naija
DESCRIPTION:DesignHTMLWords: 0   Characters: 0
URL:https://www.discoverhollywood.com/event/queen-naija/
LOCATION:The Roxy\, 9009 Sunset Blvd.\, Los Angeles\, California
END:VEVENT
BEGIN:VEVENT
DTSTART;TZID=Asia/Kolkata:19820923T000000
DTEND;TZID=Asia/Kolkata:19820923T000000
DTSTAMP:20260426T092112
CREATED:20250714T093745Z
LAST-MODIFIED:20250714T093745Z
UID:10010682-401587200-401587200@www.discoverhollywood.com
SUMMARY:R Baron Takeover
DESCRIPTION:%3ca href%3d%22https%3a//www.theroxy.com/events%22%3ehttps%3a//www.theroxy.com/events%3c/a%3eDesignHTMLWords: 1   Characters: 27
URL:https://www.discoverhollywood.com/event/r-baron-takeover/
LOCATION:The Roxy\, 9009 Sunset Blvd.\, Los Angeles\, California
END:VEVENT
BEGIN:VEVENT
DTSTART;TZID=Asia/Kolkata:19820920T000000
DTEND;TZID=Asia/Kolkata:19820920T000000
DTSTAMP:20260426T092112
CREATED:20250714T093745Z
LAST-MODIFIED:20250714T093745Z
UID:10010685-401328000-401328000@www.discoverhollywood.com
SUMMARY:R.LUM.R
DESCRIPTION:%3ca href%3d%22https%3a//www.theroxy.com/events%22%3ehttps%3a//www.theroxy.com/events%3c/a%3eDesignHTMLWords: 1   Characters: 27
URL:https://www.discoverhollywood.com/event/r-lum-r/
LOCATION:The Roxy\, 9009 Sunset Blvd.\, Los Angeles\, California
END:VEVENT
BEGIN:VEVENT
DTSTART;TZID=Asia/Kolkata:19820811T000000
DTEND;TZID=Asia/Kolkata:19820811T000000
DTSTAMP:20260426T092112
CREATED:20250714T093900Z
LAST-MODIFIED:20250714T093900Z
UID:10010725-397872000-397872000@www.discoverhollywood.com
SUMMARY:Rainbow Kitten Surprise
DESCRIPTION:DesignHTMLWords: 0   Characters: 0
URL:https://www.discoverhollywood.com/event/rainbow-kitten-surprise/
LOCATION:The Roxy\, 9009 Sunset Blvd.\, Los Angeles\, California
END:VEVENT
BEGIN:VEVENT
DTSTART;TZID=Asia/Kolkata:19820728T000000
DTEND;TZID=Asia/Kolkata:19820728T000000
DTSTAMP:20260426T092112
CREATED:20250714T093927Z
LAST-MODIFIED:20250714T093927Z
UID:10010739-396662400-396662400@www.discoverhollywood.com
SUMMARY:Rancid
DESCRIPTION:%3cbr%3eDesignHTMLWords: 0   Characters: 0
URL:https://www.discoverhollywood.com/event/rancid-3/
LOCATION:The Roxy\, 9009 Sunset Blvd.\, Los Angeles\, California
END:VEVENT
BEGIN:VEVENT
DTSTART;TZID=Asia/Kolkata:19820706T000000
DTEND;TZID=Asia/Kolkata:19820706T000000
DTSTAMP:20260426T092112
CREATED:20250714T094115Z
LAST-MODIFIED:20250714T094115Z
UID:10010761-394761600-394761600@www.discoverhollywood.com
SUMMARY:Raveena
DESCRIPTION:%3ca href%3d%22https%3a//www.theroxy.com/events/detail/376972%22%3ehttps%3a//www.theroxy.com/events/detail/376972%3c/a%3eDesignHTMLWords: 1   Characters: 41
URL:https://www.discoverhollywood.com/event/raveena/
LOCATION:The Roxy\, 9009 Sunset Blvd.\, Los Angeles\, California
END:VEVENT
BEGIN:VEVENT
DTSTART;TZID=Asia/Kolkata:19820702T000000
DTEND;TZID=Asia/Kolkata:19820702T000000
DTSTAMP:20260426T092112
CREATED:20250714T094121Z
LAST-MODIFIED:20250714T094121Z
UID:10010765-394416000-394416000@www.discoverhollywood.com
SUMMARY:Ravenna
DESCRIPTION:%3ca href%3d%22https%3a//www.theroxy.com/events%22%3ehttps%3a//www.theroxy.com/events%3c/a%3eDesignHTMLWords: 1   Characters: 27
URL:https://www.discoverhollywood.com/event/ravenna/
LOCATION:The Roxy\, 9009 Sunset Blvd.\, Los Angeles\, California
END:VEVENT
BEGIN:VEVENT
DTSTART;TZID=Asia/Kolkata:19820625T000000
DTEND;TZID=Asia/Kolkata:19820625T000000
DTSTAMP:20260426T092112
CREATED:20250714T094130Z
LAST-MODIFIED:20250714T094130Z
UID:10010772-393811200-393811200@www.discoverhollywood.com
SUMMARY:Ravyn Lenae: Crush Tour
DESCRIPTION:DesignHTMLWords: 0   Characters: 0
URL:https://www.discoverhollywood.com/event/ravyn-lenae-crush-tour/
LOCATION:The Roxy\, 9009 Sunset Blvd.\, Los Angeles\, California
END:VEVENT
BEGIN:VEVENT
DTSTART;TZID=Asia/Kolkata:19820624T000000
DTEND;TZID=Asia/Kolkata:19820624T000000
DTSTAMP:20260426T092112
CREATED:20250714T094131Z
LAST-MODIFIED:20250714T094131Z
UID:10010773-393724800-393724800@www.discoverhollywood.com
SUMMARY:Ray Blk
DESCRIPTION:%3cbr%3eDesignHTMLWords: 0   Characters: 0
URL:https://www.discoverhollywood.com/event/ray-blk/
LOCATION:The Roxy\, 9009 Sunset Blvd.\, Los Angeles\, California
END:VEVENT
BEGIN:VEVENT
DTSTART;TZID=Asia/Kolkata:19820427T000000
DTEND;TZID=Asia/Kolkata:19820427T000000
DTSTAMP:20260426T092112
CREATED:20250714T094451Z
LAST-MODIFIED:20250714T094451Z
UID:10010831-388713600-388713600@www.discoverhollywood.com
SUMMARY:Red Fang
DESCRIPTION:DesignHTMLWords: 0   Characters: 0
URL:https://www.discoverhollywood.com/event/red-fang/
LOCATION:The Roxy\, 9009 Sunset Blvd.\, Los Angeles\, California
END:VEVENT
BEGIN:VEVENT
DTSTART;TZID=Asia/Kolkata:19810913T000000
DTEND;TZID=Asia/Kolkata:19810913T000000
DTSTAMP:20260426T092112
CREATED:20250714T100928Z
LAST-MODIFIED:20250714T100928Z
UID:10011057-369187200-369187200@www.discoverhollywood.com
SUMMARY:Robert Randolph & The Family Band
DESCRIPTION:DesignHTMLWords: 0   Characters: 0
URL:https://www.discoverhollywood.com/event/robert-randolph-the-family-band/
LOCATION:The Roxy\, 9009 Sunset Blvd.\, Los Angeles\, California
END:VEVENT
BEGIN:VEVENT
DTSTART;TZID=Asia/Kolkata:19810111T000000
DTEND;TZID=Asia/Kolkata:19810111T000000
DTSTAMP:20260426T092112
CREATED:20250714T103142Z
LAST-MODIFIED:20250714T103142Z
UID:10011102-348019200-348019200@www.discoverhollywood.com
SUMMARY:Rockin' the Roxy
DESCRIPTION:%3cbr%3eDesignHTMLWords: 0   Characters: 0
URL:https://www.discoverhollywood.com/event/rockin-the-roxy/
LOCATION:The Roxy\, 9009 Sunset Blvd.\, Los Angeles\, California
END:VEVENT
BEGIN:VEVENT
DTSTART;TZID=Asia/Kolkata:19801203T000000
DTEND;TZID=Asia/Kolkata:19801203T000000
DTSTAMP:20260426T092112
CREATED:20250714T103223Z
LAST-MODIFIED:20250714T103223Z
UID:10011141-344649600-344649600@www.discoverhollywood.com
SUMMARY:Roky Erickson & the Hounds of Baskerville
DESCRIPTION:Roky Erickson %28born Roger Kynard Erickson on July 15%2c 1947%29 is an American singer%2c songwriter%2c harmonica player and guitarist from Austin%2c Texas. He was a founding member of the 13th Floor Elevators%2c who are considered to be one of the first two bands to ever use the word “psychedelic” %28 %2b see The Deep%29 to describe rock music.\n%3cbr%3eDesignHTMLWords: 57   Characters: 317
URL:https://www.discoverhollywood.com/event/roky-erickson-the-hounds-of-baskerville/
LOCATION:The Roxy\, 9009 Sunset Blvd.\, Los Angeles\, California
END:VEVENT
BEGIN:VEVENT
DTSTART;TZID=Asia/Kolkata:19800207T000000
DTEND;TZID=Asia/Kolkata:19800207T000000
DTSTAMP:20260426T092112
CREATED:20250714T113329Z
LAST-MODIFIED:20250714T113329Z
UID:10011441-318729600-318729600@www.discoverhollywood.com
SUMMARY:Roy Woods
DESCRIPTION:DesignHTMLWords: 0   Characters: 0
URL:https://www.discoverhollywood.com/event/roy-woods/
LOCATION:The Roxy\, 9009 Sunset Blvd.\, Los Angeles\, California
END:VEVENT
BEGIN:VEVENT
DTSTART;TZID=Asia/Kolkata:19800203T000000
DTEND;TZID=Asia/Kolkata:19800203T000000
DTSTAMP:20260426T092112
CREATED:20250714T113339Z
LAST-MODIFIED:20250714T113339Z
UID:10011445-318384000-318384000@www.discoverhollywood.com
SUMMARY:Royal machines
DESCRIPTION:%3cbr%3eDesignHTMLWords: 0   Characters: 0
URL:https://www.discoverhollywood.com/event/royal-machines/
LOCATION:The Roxy\, 9009 Sunset Blvd.\, Los Angeles\, California
END:VEVENT
BEGIN:VEVENT
DTSTART;TZID=Asia/Kolkata:19800117T000000
DTEND;TZID=Asia/Kolkata:19800117T000000
DTSTAMP:20260426T092112
CREATED:20250714T113402Z
LAST-MODIFIED:20250714T113402Z
UID:10011462-316915200-316915200@www.discoverhollywood.com
SUMMARY:Ruel
DESCRIPTION:DesignHTMLWords: 0   Characters: 0
URL:https://www.discoverhollywood.com/event/ruel/
LOCATION:The Roxy\, 9009 Sunset Blvd.\, Los Angeles\, California
END:VEVENT
BEGIN:VEVENT
DTSTART;TZID=Asia/Kolkata:19791230T000000
DTEND;TZID=Asia/Kolkata:19791230T000000
DTSTAMP:20260426T092112
CREATED:20250714T114903Z
LAST-MODIFIED:20250714T114903Z
UID:10011658-315360000-315360000@www.discoverhollywood.com
SUMMARY:Saved by the 90s
DESCRIPTION:DesignHTMLWords: 0   Characters: 0
URL:https://www.discoverhollywood.com/event/saved-by-the-90s-3/
LOCATION:The Roxy\, 9009 Sunset Blvd.\, Los Angeles\, California
END:VEVENT
END:VCALENDAR