BEGIN:VCALENDAR
VERSION:2.0
PRODID:-//Discover Hollywood Magazine - ECPv6.15.17//NONSGML v1.0//EN
CALSCALE:GREGORIAN
METHOD:PUBLISH
X-WR-CALNAME:Discover Hollywood Magazine
X-ORIGINAL-URL:https://www.discoverhollywood.com
X-WR-CALDESC:Events for Discover Hollywood Magazine
REFRESH-INTERVAL;VALUE=DURATION:PT1H
X-Robots-Tag:noindex
X-PUBLISHED-TTL:PT1H
BEGIN:VTIMEZONE
TZID:Asia/Kolkata
BEGIN:STANDARD
TZOFFSETFROM:+0530
TZOFFSETTO:+0530
TZNAME:IST
DTSTART:20090101T000000
END:STANDARD
END:VTIMEZONE
BEGIN:VEVENT
DTSTART;TZID=Asia/Kolkata:20140331T000000
DTEND;TZID=Asia/Kolkata:20140331T000000
DTSTAMP:20260422T171318
CREATED:20250630T114751Z
LAST-MODIFIED:20250630T114751Z
UID:10002304-1396224000-1396224000@www.discoverhollywood.com
SUMMARY:Ataris
DESCRIPTION:%3cbr%3eDesignHTMLWords: 0   Characters: 0
URL:https://www.discoverhollywood.com/event/ataris/
LOCATION:The Roxy\, 9009 Sunset Blvd.\, Los Angeles\, California
END:VEVENT
BEGIN:VEVENT
DTSTART;TZID=Asia/Kolkata:20140207T000000
DTEND;TZID=Asia/Kolkata:20140207T000000
DTSTAMP:20260422T171318
CREATED:20250630T120007Z
LAST-MODIFIED:20250630T120007Z
UID:10002330-1391731200-1391731200@www.discoverhollywood.com
SUMMARY:Aunt Mary Pat
DESCRIPTION:%3ca href%3d%22https%3a//www.theroxy.com/events%22%3ehttps%3a//www.theroxy.com/events%3c/a%3eDesignHTMLWords: 1   Characters: 27
URL:https://www.discoverhollywood.com/event/aunt-mary-pat/
LOCATION:The Roxy\, 9009 Sunset Blvd.\, Los Angeles\, California
END:VEVENT
BEGIN:VEVENT
DTSTART;TZID=Asia/Kolkata:20140128T000000
DTEND;TZID=Asia/Kolkata:20140128T000000
DTSTAMP:20260422T171318
CREATED:20250630T120021Z
LAST-MODIFIED:20250630T120021Z
UID:10002335-1390867200-1390867200@www.discoverhollywood.com
SUMMARY:Aurora
DESCRIPTION:DesignHTMLWords: 0   Characters: 0
URL:https://www.discoverhollywood.com/event/aurora-2/
LOCATION:The Roxy\, 9009 Sunset Blvd.\, Los Angeles\, California
END:VEVENT
BEGIN:VEVENT
DTSTART;TZID=Asia/Kolkata:20131203T000000
DTEND;TZID=Asia/Kolkata:20131203T000000
DTSTAMP:20260422T171318
CREATED:20250630T120244Z
LAST-MODIFIED:20250630T120244Z
UID:10002363-1386028800-1386028800@www.discoverhollywood.com
SUMMARY:Awsten & Travis' Slumber Party
DESCRIPTION:DesignHTMLWords: 0   Characters: 0
URL:https://www.discoverhollywood.com/event/awsten-travis-slumber-party/
LOCATION:The Roxy\, 9009 Sunset Blvd.\, Los Angeles\, California
END:VEVENT
BEGIN:VEVENT
DTSTART;TZID=Asia/Kolkata:20131121T000000
DTEND;TZID=Asia/Kolkata:20131121T000000
DTSTAMP:20260422T171318
CREATED:20250630T120249Z
LAST-MODIFIED:20250630T120249Z
UID:10002369-1384992000-1384992000@www.discoverhollywood.com
SUMMARY:Ayokay: We Come Alive. Fall 2019 Tour
DESCRIPTION:%3ca href%3d%22https%3a//www.theroxy.com/events/detail/380192%22%3ehttps%3a//www.theroxy.com/events/detail/380192%3c/a%3eDesignHTMLWords: 1   Characters: 41
URL:https://www.discoverhollywood.com/event/ayokay-we-come-alive-fall-2019-tour/
LOCATION:The Roxy\, 9009 Sunset Blvd.\, Los Angeles\, California
END:VEVENT
BEGIN:VEVENT
DTSTART;TZID=Asia/Kolkata:20131117T000000
DTEND;TZID=Asia/Kolkata:20131117T000000
DTSTAMP:20260422T171318
CREATED:20250630T120258Z
LAST-MODIFIED:20250630T120258Z
UID:10002371-1384646400-1384646400@www.discoverhollywood.com
SUMMARY:Azizi Gibson
DESCRIPTION:DesignHTMLWords: 0   Characters: 0
URL:https://www.discoverhollywood.com/event/azizi-gibson/
LOCATION:The Roxy\, 9009 Sunset Blvd.\, Los Angeles\, California
END:VEVENT
BEGIN:VEVENT
DTSTART;TZID=Asia/Kolkata:20131115T000000
DTEND;TZID=Asia/Kolkata:20131115T000000
DTSTAMP:20260422T171318
CREATED:20250630T120258Z
LAST-MODIFIED:20250630T120258Z
UID:10002372-1384473600-1384473600@www.discoverhollywood.com
SUMMARY:Azizi Gibson & Kamandi  with ishDARR
DESCRIPTION:%3cbr%3eDesignHTMLWords: 0   Characters: 0
URL:https://www.discoverhollywood.com/event/azizi-gibson-kamandi-with-ishdarr/
LOCATION:The Roxy\, 9009 Sunset Blvd.\, Los Angeles\, California
END:VEVENT
BEGIN:VEVENT
DTSTART;TZID=Asia/Kolkata:20131024T000000
DTEND;TZID=Asia/Kolkata:20131024T000000
DTSTAMP:20260422T171318
CREATED:20250630T120315Z
LAST-MODIFIED:20250630T120315Z
UID:10002383-1382572800-1382572800@www.discoverhollywood.com
SUMMARY:Babes in Toyland
DESCRIPTION:%3cbr%3eDesignHTMLWords: 0   Characters: 0
URL:https://www.discoverhollywood.com/event/babes-in-toyland/
LOCATION:The Roxy\, 9009 Sunset Blvd.\, Los Angeles\, California
END:VEVENT
BEGIN:VEVENT
DTSTART;TZID=Asia/Kolkata:20130815T000000
DTEND;TZID=Asia/Kolkata:20130815T000000
DTSTAMP:20260422T171318
CREATED:20250630T120405Z
LAST-MODIFIED:20250630T120405Z
UID:10002418-1376524800-1376524800@www.discoverhollywood.com
SUMMARY:Bad Gyal
DESCRIPTION:%3ca href%3d%22https%3a//www.theroxy.com/events/detail/378939%22%3ehttps%3a//www.theroxy.com/events/detail/378939%3c/a%3eDesignHTMLWords: 1   Characters: 41
URL:https://www.discoverhollywood.com/event/bad-gyal/
LOCATION:The Roxy\, 9009 Sunset Blvd.\, Los Angeles\, California
END:VEVENT
BEGIN:VEVENT
DTSTART;TZID=Asia/Kolkata:20130805T000000
DTEND;TZID=Asia/Kolkata:20130805T000000
DTSTAMP:20260422T171318
CREATED:20250630T120413Z
LAST-MODIFIED:20250630T120413Z
UID:10002423-1375660800-1375660800@www.discoverhollywood.com
SUMMARY:Bad Manners
DESCRIPTION:%3ca target%3d%22_blank%22 href%3d%22http%3a//www.theroxy.com/calendar/%22%3eGenesis of the Manners%3c/a%3e… Formed in 1976 by school chums who lived in London%2c Bad Manners have become a British Institution.DesignHTMLWords: 21   Characters: 120
URL:https://www.discoverhollywood.com/event/bad-manners/
LOCATION:The Roxy\, 9009 Sunset Blvd.\, Los Angeles\, California
END:VEVENT
BEGIN:VEVENT
DTSTART;TZID=Asia/Kolkata:20130724T000000
DTEND;TZID=Asia/Kolkata:20130724T000000
DTSTAMP:20260422T171318
CREATED:20250630T120415Z
LAST-MODIFIED:20250630T120415Z
UID:10002429-1374624000-1374624000@www.discoverhollywood.com
SUMMARY:BADBADNOTGOOD
DESCRIPTION:%3cbr%3eDesignHTMLWords: 0   Characters: 0
URL:https://www.discoverhollywood.com/event/badbadnotgood/
LOCATION:The Roxy\, 9009 Sunset Blvd.\, Los Angeles\, California
END:VEVENT
BEGIN:VEVENT
DTSTART;TZID=Asia/Kolkata:20130702T000000
DTEND;TZID=Asia/Kolkata:20130702T000000
DTSTAMP:20260422T171318
CREATED:20250630T120431Z
LAST-MODIFIED:20250630T120431Z
UID:10002440-1372723200-1372723200@www.discoverhollywood.com
SUMMARY:Bakar
DESCRIPTION:%3ca href%3d%22https%3a//www.theroxy.com/events/detail/380297%22%3ehttps%3a//www.theroxy.com/events/detail/380297%3c/a%3eDesignHTMLWords: 1   Characters: 41
URL:https://www.discoverhollywood.com/event/bakar/
LOCATION:The Roxy\, 9009 Sunset Blvd.\, Los Angeles\, California
END:VEVENT
BEGIN:VEVENT
DTSTART;TZID=Asia/Kolkata:20130626T000000
DTEND;TZID=Asia/Kolkata:20130626T000000
DTSTAMP:20260422T171318
CREATED:20250630T120431Z
LAST-MODIFIED:20250630T120431Z
UID:10002443-1372204800-1372204800@www.discoverhollywood.com
SUMMARY:Balance and Composure
DESCRIPTION:A sonic assault melding influences such as Sunny Day Real Estate%2c Neutral Milk Hotel and Nirvana%2c their 2011%2c critically heralded debut album%2c Separation%2c adhered to the band%27s namesake. A cohesive listen of anthemic and melodic guitar blitzes with poignant lyricism%2c rhythmic thrusts and an abrasive pop knack in its overall deliverance%2c Separation helped establish Balance and Composure as one of underground rock%27s most promising newcomers.\n%3cbr%3eDesignHTMLWords: 65   Characters: 432
URL:https://www.discoverhollywood.com/event/balance-and-composure/
LOCATION:The Roxy\, 9009 Sunset Blvd.\, Los Angeles\, California
END:VEVENT
BEGIN:VEVENT
DTSTART;TZID=Asia/Kolkata:20130405T000000
DTEND;TZID=Asia/Kolkata:20130405T000000
DTSTAMP:20260422T171318
CREATED:20250630T120505Z
LAST-MODIFIED:20250630T120505Z
UID:10002484-1365120000-1365120000@www.discoverhollywood.com
SUMMARY:Barcelona
DESCRIPTION:DesignHTMLWords: 0   Characters: 0
URL:https://www.discoverhollywood.com/event/barcelona/
LOCATION:The Roxy\, 9009 Sunset Blvd.\, Los Angeles\, California
END:VEVENT
BEGIN:VEVENT
DTSTART;TZID=Asia/Kolkata:20121031T000000
DTEND;TZID=Asia/Kolkata:20121031T000000
DTSTAMP:20260422T171318
CREATED:20250630T120611Z
LAST-MODIFIED:20250630T120612Z
UID:10002562-1351641600-1351641600@www.discoverhollywood.com
SUMMARY:Bay Faction
DESCRIPTION:%3ca href%3d%22https%3a//www.theroxy.com/events%22%3ehttps%3a//www.theroxy.com/events%3c/a%3eDesignHTMLWords: 1   Characters: 27
URL:https://www.discoverhollywood.com/event/bay-faction/
LOCATION:The Roxy\, 9009 Sunset Blvd.\, Los Angeles\, California
END:VEVENT
BEGIN:VEVENT
DTSTART;TZID=Asia/Kolkata:20121021T000000
DTEND;TZID=Asia/Kolkata:20121021T000000
DTSTAMP:20260422T171318
CREATED:20250630T120617Z
LAST-MODIFIED:20250630T120617Z
UID:10002567-1350777600-1350777600@www.discoverhollywood.com
SUMMARY:Bea Miller
DESCRIPTION:%3ca href%3d%22https%3a//www.theroxy.com/%22 target%3d%22_blank%22%3ehttps%3a//www.theroxy.com/%3c/a%3eDesignHTMLWords: 1   Characters: 21
URL:https://www.discoverhollywood.com/event/bea-miller/
LOCATION:The Roxy\, 9009 Sunset Blvd.\, Los Angeles\, California
END:VEVENT
BEGIN:VEVENT
DTSTART;TZID=Asia/Kolkata:20121013T000000
DTEND;TZID=Asia/Kolkata:20121013T000000
DTSTAMP:20260422T171318
CREATED:20250630T120620Z
LAST-MODIFIED:20250630T120620Z
UID:10002571-1350086400-1350086400@www.discoverhollywood.com
SUMMARY:Beach Bums
DESCRIPTION:DesignHTMLWords: 0   Characters: 0
URL:https://www.discoverhollywood.com/event/beach-bums/
LOCATION:The Roxy\, 9009 Sunset Blvd.\, Los Angeles\, California
END:VEVENT
BEGIN:VEVENT
DTSTART;TZID=Asia/Kolkata:20121011T000000
DTEND;TZID=Asia/Kolkata:20121011T000000
DTSTAMP:20260422T171318
CREATED:20250630T120620Z
LAST-MODIFIED:20250630T120620Z
UID:10002572-1349913600-1349913600@www.discoverhollywood.com
SUMMARY:Beach Bunny
DESCRIPTION:%3ca href%3d%22https%3a//www.theroxy.com/events%22%3ehttps%3a//www.theroxy.com/events%3c/a%3eDesignHTMLWords: 1   Characters: 27
URL:https://www.discoverhollywood.com/event/beach-bunny/
LOCATION:The Roxy\, 9009 Sunset Blvd.\, Los Angeles\, California
END:VEVENT
BEGIN:VEVENT
DTSTART;TZID=Asia/Kolkata:20121009T000000
DTEND;TZID=Asia/Kolkata:20121009T000000
DTSTAMP:20260422T171318
CREATED:20250630T120620Z
LAST-MODIFIED:20250630T120620Z
UID:10002573-1349740800-1349740800@www.discoverhollywood.com
SUMMARY:Beach Goons
DESCRIPTION:%3ca href%3d%22https%3a//www.theroxy.com/events%22%3ehttps%3a//www.theroxy.com/events%3c/a%3eDesignHTMLWords: 1   Characters: 27
URL:https://www.discoverhollywood.com/event/beach-goons/
LOCATION:The Roxy\, 9009 Sunset Blvd.\, Los Angeles\, California
END:VEVENT
BEGIN:VEVENT
DTSTART;TZID=Asia/Kolkata:20120919T000000
DTEND;TZID=Asia/Kolkata:20120919T000000
DTSTAMP:20260422T171318
CREATED:20250630T120629Z
LAST-MODIFIED:20250630T120629Z
UID:10002583-1348012800-1348012800@www.discoverhollywood.com
SUMMARY:Bearson
DESCRIPTION:DesignHTMLWords: 0   Characters: 0
URL:https://www.discoverhollywood.com/event/bearson/
LOCATION:The Roxy\, 9009 Sunset Blvd.\, Los Angeles\, California
END:VEVENT
BEGIN:VEVENT
DTSTART;TZID=Asia/Kolkata:20120303T000000
DTEND;TZID=Asia/Kolkata:20120303T000000
DTSTAMP:20260422T171318
CREATED:20250630T122729Z
LAST-MODIFIED:20250630T122729Z
UID:10002683-1330732800-1330732800@www.discoverhollywood.com
SUMMARY:Ben Kweller
DESCRIPTION:%3ca href%3d%22https%3a//www.theroxy.com/%22 target%3d%22_blank%22%3ehttps%3a//www.theroxy.com/%3c/a%3eDesignHTMLWords: 1   Characters: 21
URL:https://www.discoverhollywood.com/event/ben-kweller/
LOCATION:The Roxy\, 9009 Sunset Blvd.\, Los Angeles\, California
END:VEVENT
BEGIN:VEVENT
DTSTART;TZID=Asia/Kolkata:20120129T000000
DTEND;TZID=Asia/Kolkata:20120129T000000
DTSTAMP:20260422T171318
CREATED:20250630T122818Z
LAST-MODIFIED:20250630T122819Z
UID:10002700-1327795200-1327795200@www.discoverhollywood.com
SUMMARY:Benjamin Booker
DESCRIPTION:Benjamin Booker is a young New Orleans based singer-songwriter%2c influenced by The Gun Club%2c Blind Willie Johnson%2c and T. Rex.\n%3cbr%3eDesignHTMLWords: 20   Characters: 119
URL:https://www.discoverhollywood.com/event/benjamin-booker/
LOCATION:The Roxy\, 9009 Sunset Blvd.\, Los Angeles\, California
END:VEVENT
BEGIN:VEVENT
DTSTART;TZID=Asia/Kolkata:20120125T000000
DTEND;TZID=Asia/Kolkata:20120125T000000
DTSTAMP:20260422T171318
CREATED:20250630T122819Z
LAST-MODIFIED:20250630T122819Z
UID:10002702-1327449600-1327449600@www.discoverhollywood.com
SUMMARY:Benjamin Francis Leftwich
DESCRIPTION:DesignHTMLWords: 0   Characters: 0
URL:https://www.discoverhollywood.com/event/benjamin-francis-leftwich/
LOCATION:The Roxy\, 9009 Sunset Blvd.\, Los Angeles\, California
END:VEVENT
BEGIN:VEVENT
DTSTART;TZID=Asia/Kolkata:20111019T000000
DTEND;TZID=Asia/Kolkata:20111019T000000
DTSTAMP:20260422T171318
CREATED:20250630T122928Z
LAST-MODIFIED:20250630T122928Z
UID:10002751-1318982400-1318982400@www.discoverhollywood.com
SUMMARY:Between The Buried & Me
DESCRIPTION:%3cbr%3eDesignHTMLWords: 0   Characters: 0
URL:https://www.discoverhollywood.com/event/between-the-buried-me/
LOCATION:The Roxy\, 9009 Sunset Blvd.\, Los Angeles\, California
END:VEVENT
BEGIN:VEVENT
DTSTART;TZID=Asia/Kolkata:20110812T000000
DTEND;TZID=Asia/Kolkata:20110812T000000
DTSTAMP:20260422T171318
CREATED:20250630T123053Z
LAST-MODIFIED:20250630T123053Z
UID:10002785-1313107200-1313107200@www.discoverhollywood.com
SUMMARY:Big D And The Kids Table
DESCRIPTION:%3cbr%3eDesignHTMLWords: 0   Characters: 0
URL:https://www.discoverhollywood.com/event/big-d-and-the-kids-table/
LOCATION:The Roxy\, 9009 Sunset Blvd.\, Los Angeles\, California
END:VEVENT
BEGIN:VEVENT
DTSTART;TZID=Asia/Kolkata:20110124T000000
DTEND;TZID=Asia/Kolkata:20110124T000000
DTSTAMP:20260422T171318
CREATED:20250630T123311Z
LAST-MODIFIED:20250630T123312Z
UID:10002886-1295827200-1295827200@www.discoverhollywood.com
SUMMARY:Bingo
DESCRIPTION:DesignHTMLWords: 0   Characters: 0
URL:https://www.discoverhollywood.com/event/bingo/
LOCATION:The Roxy\, 9009 Sunset Blvd.\, Los Angeles\, California
END:VEVENT
BEGIN:VEVENT
DTSTART;TZID=Asia/Kolkata:20101217T000000
DTEND;TZID=Asia/Kolkata:20101217T000000
DTSTAMP:20260422T171318
CREATED:20250630T123636Z
LAST-MODIFIED:20250630T123636Z
UID:10002905-1292544000-1292544000@www.discoverhollywood.com
SUMMARY:Black Flag
DESCRIPTION:%3ca href%3d%22https%3a//www.theroxy.com/events/detail/375915%22%3ehttps%3a//www.theroxy.com/events/detail/375915%3c/a%3eDesignHTMLWords: 1   Characters: 41
URL:https://www.discoverhollywood.com/event/black-flag/
LOCATION:The Roxy\, 9009 Sunset Blvd.\, Los Angeles\, California
END:VEVENT
BEGIN:VEVENT
DTSTART;TZID=Asia/Kolkata:20101006T000000
DTEND;TZID=Asia/Kolkata:20101006T000000
DTSTAMP:20260422T171318
CREATED:20250630T130853Z
LAST-MODIFIED:20250716T121611Z
UID:10002941-1286323200-1286323200@www.discoverhollywood.com
SUMMARY:Black Veil Brides
DESCRIPTION:DesignHTMLWords: 0   Characters: 0
URL:https://www.discoverhollywood.com/event/black-veil-brides/
LOCATION:The Roxy\, 9009 Sunset Blvd.\, Los Angeles\, California
END:VEVENT
BEGIN:VEVENT
DTSTART;TZID=Asia/Kolkata:20100930T000000
DTEND;TZID=Asia/Kolkata:20100930T000000
DTSTAMP:20260422T171318
CREATED:20250630T130854Z
LAST-MODIFIED:20250716T121611Z
UID:10002944-1285804800-1285804800@www.discoverhollywood.com
SUMMARY:Blackalicious: 20th Anniversary of NIA
DESCRIPTION:%3ca href%3d%22https%3a//www.theroxy.com/events%22%3ehttps%3a//www.theroxy.com/events%3c/a%3eDesignHTMLWords: 1   Characters: 27
URL:https://www.discoverhollywood.com/event/blackalicious-20th-anniversary-of-nia/
LOCATION:The Roxy\, 9009 Sunset Blvd.\, Los Angeles\, California
END:VEVENT
BEGIN:VEVENT
DTSTART;TZID=Asia/Kolkata:20100920T000000
DTEND;TZID=Asia/Kolkata:20100920T000000
DTSTAMP:20260422T171318
CREATED:20250630T130912Z
LAST-MODIFIED:20250716T121640Z
UID:10002949-1284940800-1284940800@www.discoverhollywood.com
SUMMARY:Blackbird Blackbird
DESCRIPTION:DesignHTMLWords: 0   Characters: 0
URL:https://www.discoverhollywood.com/event/blackbird-blackbird/
LOCATION:The Roxy\, 9009 Sunset Blvd.\, Los Angeles\, California
END:VEVENT
END:VCALENDAR