BEGIN:VCALENDAR
VERSION:2.0
PRODID:-//Discover Hollywood Magazine - ECPv6.15.20//NONSGML v1.0//EN
CALSCALE:GREGORIAN
METHOD:PUBLISH
X-WR-CALNAME:Discover Hollywood Magazine
X-ORIGINAL-URL:https://www.discoverhollywood.com
X-WR-CALDESC:Events for Discover Hollywood Magazine
REFRESH-INTERVAL;VALUE=DURATION:PT1H
X-Robots-Tag:noindex
X-PUBLISHED-TTL:PT1H
BEGIN:VTIMEZONE
TZID:Asia/Kolkata
BEGIN:STANDARD
TZOFFSETFROM:+0530
TZOFFSETTO:+0530
TZNAME:IST
DTSTART:19690101T000000
END:STANDARD
END:VTIMEZONE
BEGIN:VEVENT
DTSTART;TZID=Asia/Kolkata:19850113T000000
DTEND;TZID=Asia/Kolkata:19850113T000000
DTSTAMP:20260425T163608
CREATED:20250710T123840Z
LAST-MODIFIED:20250710T123840Z
UID:10010269-474422400-474422400@www.discoverhollywood.com
SUMMARY:Over There: Comedy is his Best Weapon
DESCRIPTION:DesignHTMLWords: 0   Characters: 0
URL:https://www.discoverhollywood.com/event/over-there-comedy-is-his-best-weapon/
LOCATION:Theatre Asylum\, 6320 Santa Monica Blvd.\, Los Angeles\, California
END:VEVENT
BEGIN:VEVENT
DTSTART;TZID=Asia/Kolkata:19830724T000000
DTEND;TZID=Asia/Kolkata:19830724T000000
DTSTAMP:20260425T163608
CREATED:20250714T092720Z
LAST-MODIFIED:20250714T092720Z
UID:10010378-427852800-427852800@www.discoverhollywood.com
SUMMARY:PianoFight
DESCRIPTION:DesignHTMLWords: 0   Characters: 0
URL:https://www.discoverhollywood.com/event/pianofight/
LOCATION:Theatre Asylum\, 6320 Santa Monica Blvd.\, Los Angeles\, California
END:VEVENT
BEGIN:VEVENT
DTSTART;TZID=Asia/Kolkata:19830525T000000
DTEND;TZID=Asia/Kolkata:19830525T000000
DTSTAMP:20260425T163608
CREATED:20250714T092958Z
LAST-MODIFIED:20250714T092958Z
UID:10010438-422668800-422668800@www.discoverhollywood.com
SUMMARY:Play Dates
DESCRIPTION:DesignHTMLWords: 0   Characters: 0
URL:https://www.discoverhollywood.com/event/play-dates/
LOCATION:Theatre Asylum\, 6320 Santa Monica Blvd.\, Los Angeles\, California
END:VEVENT
BEGIN:VEVENT
DTSTART;TZID=Asia/Kolkata:19821125T000000
DTEND;TZID=Asia/Kolkata:19821125T000000
DTSTAMP:20260425T163608
CREATED:20250714T093505Z
LAST-MODIFIED:20250714T093505Z
UID:10010619-407030400-407030400@www.discoverhollywood.com
SUMMARY:Pulp Shakespeare
DESCRIPTION:This lively and imaginative re-invention%22 %28LA Weekly%29 imagines what it might be like had the cult film “Pulp Fiction” been written by William Shakespeare. Set in Elizabethan England%2c Pulp Shakespeare weaves the story of a pair of murderers%2c their boss’s alluring wife%2c and a desperate knight%2c all brought to life by a cast of acclaimed Los Angeles Shakespearean actors. -DesignHTMLWords: 59   Characters: 359
URL:https://www.discoverhollywood.com/event/pulp-shakespeare/
LOCATION:Theatre Asylum\, 6320 Santa Monica Blvd.\, Los Angeles\, California
END:VEVENT
BEGIN:VEVENT
DTSTART;TZID=Asia/Kolkata:19790705T000000
DTEND;TZID=Asia/Kolkata:19790705T000000
DTSTAMP:20260425T163608
CREATED:20250714T115905Z
LAST-MODIFIED:20250714T115905Z
UID:10011836-299980800-299980800@www.discoverhollywood.com
SUMMARY:Sex\, Lies and the KKK
DESCRIPTION:DesignHTMLWords: 0   Characters: 0
URL:https://www.discoverhollywood.com/event/sex-lies-and-the-kkk/
LOCATION:Theatre Asylum\, 6320 Santa Monica Blvd.\, Los Angeles\, California
END:VEVENT
BEGIN:VEVENT
DTSTART;TZID=Asia/Kolkata:19790607T000000
DTEND;TZID=Asia/Kolkata:19790607T000000
DTSTAMP:20260425T163608
CREATED:20250714T120328Z
LAST-MODIFIED:20250714T120328Z
UID:10011864-297561600-297561600@www.discoverhollywood.com
SUMMARY:Shakespeare UnScripted
DESCRIPTION:DesignHTMLWords: 0   Characters: 0
URL:https://www.discoverhollywood.com/event/shakespeare-unscripted/
LOCATION:Theatre Asylum\, 6320 Santa Monica Blvd.\, Los Angeles\, California
END:VEVENT
BEGIN:VEVENT
DTSTART;TZID=Asia/Kolkata:19790605T000000
DTEND;TZID=Asia/Kolkata:19790605T000000
DTSTAMP:20260425T163608
CREATED:20250714T120328Z
LAST-MODIFIED:20250714T120328Z
UID:10011866-297388800-297388800@www.discoverhollywood.com
SUMMARY:Shakespeare(ish)
DESCRIPTION:%3cem%3e%3ca target%3d%22_blank%22 href%3d%22rogueartists.org/shakespeareish%22%3eShakespeare%28ish%29%3c/a%3e%3c/em%3e is twisted love poetry on the edge of madness and merriment – a sword fight with masked kings%2c prophesying puppets%2c and singing clowns. In this hyper-fun%2c hyper-family-friendly performance%2c Rogue Artists Ensemble digs down to the heart of the Bard%2c sharing the joys%2c the sorrows and the non-stop action of the greatest playwright of all time.\n%3cbr%3eDesignHTMLWords: 55   Characters: 344
URL:https://www.discoverhollywood.com/event/shakespeareish/
LOCATION:Theatre Asylum\, 6320 Santa Monica Blvd.\, Los Angeles\, California
END:VEVENT
BEGIN:VEVENT
DTSTART;TZID=Asia/Kolkata:19790603T000000
DTEND;TZID=Asia/Kolkata:19790603T000000
DTSTAMP:20260425T163608
CREATED:20250714T120400Z
LAST-MODIFIED:20250714T120400Z
UID:10011868-297216000-297216000@www.discoverhollywood.com
SUMMARY:Shame Based Fun
DESCRIPTION:%3cbr%3eDesignHTMLWords: 0   Characters: 0
URL:https://www.discoverhollywood.com/event/shame-based-fun/
LOCATION:Theatre Asylum\, 6320 Santa Monica Blvd.\, Los Angeles\, California
END:VEVENT
BEGIN:VEVENT
DTSTART;TZID=Asia/Kolkata:19790309T000000
DTEND;TZID=Asia/Kolkata:19790309T000000
DTSTAMP:20260425T163608
CREATED:20250714T120618Z
LAST-MODIFIED:20250714T120618Z
UID:10011954-289785600-289785600@www.discoverhollywood.com
SUMMARY:Shortlived 3.0
DESCRIPTION:DesignHTMLWords: 0   Characters: 0
URL:https://www.discoverhollywood.com/event/shortlived-3-0/
LOCATION:Theatre Asylum\, 6320 Santa Monica Blvd.\, Los Angeles\, California
END:VEVENT
BEGIN:VEVENT
DTSTART;TZID=Asia/Kolkata:19780719T000000
DTEND;TZID=Asia/Kolkata:19780719T000000
DTSTAMP:20260425T163608
CREATED:20250714T124546Z
LAST-MODIFIED:20250714T124546Z
UID:10012187-269654400-269654400@www.discoverhollywood.com
SUMMARY:Snack
DESCRIPTION:Megan Dolan%27s hilarious one-woman show %3ci%3eSNACK%2c%3c/i%3e a depiction of domestic life%2c smoothie addiction%2c comfort food%2c and parentingDesignHTMLWords: 17   Characters: 117
URL:https://www.discoverhollywood.com/event/snack/
LOCATION:Theatre Asylum\, 6320 Santa Monica Blvd.\, Los Angeles\, California
END:VEVENT
BEGIN:VEVENT
DTSTART;TZID=Asia/Kolkata:19770727T000000
DTEND;TZID=Asia/Kolkata:19770727T000000
DTSTAMP:20260425T163608
CREATED:20250715T090834Z
LAST-MODIFIED:20250715T090834Z
UID:10012545-238809600-238809600@www.discoverhollywood.com
SUMMARY:Still Standing
DESCRIPTION:DesignHTMLWords: 0   Characters: 0
URL:https://www.discoverhollywood.com/event/still-standing/
LOCATION:Theatre Asylum\, 6320 Santa Monica Blvd.\, Los Angeles\, California
END:VEVENT
BEGIN:VEVENT
DTSTART;TZID=Asia/Kolkata:19760314T000000
DTEND;TZID=Asia/Kolkata:19760314T000000
DTSTAMP:20260425T163608
CREATED:20250715T110732Z
LAST-MODIFIED:20250715T110732Z
UID:10013045-195609600-195609600@www.discoverhollywood.com
SUMMARY:The Agony and The Ecstasy of Steve Jobs
DESCRIPTION:DesignHTMLWords: 0   Characters: 0
URL:https://www.discoverhollywood.com/event/the-agony-and-the-ecstasy-of-steve-jobs/
LOCATION:Theatre Asylum\, 6320 Santa Monica Blvd.\, Los Angeles\, California
END:VEVENT
BEGIN:VEVENT
DTSTART;TZID=Asia/Kolkata:19760127T000000
DTEND;TZID=Asia/Kolkata:19760127T000000
DTSTAMP:20260425T163608
CREATED:20250715T111228Z
LAST-MODIFIED:20250715T111228Z
UID:10013092-191548800-191548800@www.discoverhollywood.com
SUMMARY:The Asylum Jam
DESCRIPTION:DesignHTMLWords: 0   Characters: 0
URL:https://www.discoverhollywood.com/event/the-asylum-jam/
LOCATION:Theatre Asylum\, 6320 Santa Monica Blvd.\, Los Angeles\, California
END:VEVENT
BEGIN:VEVENT
DTSTART;TZID=Asia/Kolkata:19760103T000000
DTEND;TZID=Asia/Kolkata:19760103T000000
DTSTAMP:20260425T163608
CREATED:20250715T111423Z
LAST-MODIFIED:20250715T111423Z
UID:10013116-189475200-189475200@www.discoverhollywood.com
SUMMARY:The Bad Arm - Confessions of a Dodgy Irish Dancer
DESCRIPTION:DesignHTMLWords: 0   Characters: 0
URL:https://www.discoverhollywood.com/event/the-bad-arm-confessions-of-a-dodgy-irish-dancer/
LOCATION:Theatre Asylum\, 6320 Santa Monica Blvd.\, Los Angeles\, California
END:VEVENT
BEGIN:VEVENT
DTSTART;TZID=Asia/Kolkata:19751222T000000
DTEND;TZID=Asia/Kolkata:19751222T000000
DTSTAMP:20260425T163608
CREATED:20250715T111635Z
LAST-MODIFIED:20250715T111635Z
UID:10013128-188438400-188438400@www.discoverhollywood.com
SUMMARY:The Barking Pig
DESCRIPTION:DesignHTMLWords: 0   Characters: 0
URL:https://www.discoverhollywood.com/event/the-barking-pig/
LOCATION:Theatre Asylum\, 6320 Santa Monica Blvd.\, Los Angeles\, California
END:VEVENT
BEGIN:VEVENT
DTSTART;TZID=Asia/Kolkata:19740211T000000
DTEND;TZID=Asia/Kolkata:19740211T000000
DTSTAMP:20260425T163608
CREATED:20250715T124717Z
LAST-MODIFIED:20250715T124717Z
UID:10013622-129772800-129772800@www.discoverhollywood.com
SUMMARY:The Latina Christmas Special
DESCRIPTION:DesignHTMLWords: 0   Characters: 0
URL:https://www.discoverhollywood.com/event/the-latina-christmas-special/
LOCATION:Theatre Asylum\, 6320 Santa Monica Blvd.\, Los Angeles\, California
END:VEVENT
BEGIN:VEVENT
DTSTART;TZID=Asia/Kolkata:19731026T000000
DTEND;TZID=Asia/Kolkata:19731026T000000
DTSTAMP:20260425T163608
CREATED:20250715T125017Z
LAST-MODIFIED:20250715T125017Z
UID:10013730-120441600-120441600@www.discoverhollywood.com
SUMMARY:The Mermaid Who Learned How To Fly
DESCRIPTION:%3cbr%3eDesignHTMLWords: 0   Characters: 0
URL:https://www.discoverhollywood.com/event/the-mermaid-who-learned-how-to-fly/
LOCATION:Theatre Asylum\, 6320 Santa Monica Blvd.\, Los Angeles\, California
END:VEVENT
BEGIN:VEVENT
DTSTART;TZID=Asia/Kolkata:19730806T000000
DTEND;TZID=Asia/Kolkata:19730806T000000
DTSTAMP:20260425T163608
CREATED:20250715T125231Z
LAST-MODIFIED:20250715T125231Z
UID:10013811-113443200-113443200@www.discoverhollywood.com
SUMMARY:The Next Best Thing
DESCRIPTION:DesignHTMLWords: 0   Characters: 0
URL:https://www.discoverhollywood.com/event/the-next-best-thing/
LOCATION:Theatre Asylum\, 6320 Santa Monica Blvd.\, Los Angeles\, California
END:VEVENT
BEGIN:VEVENT
DTSTART;TZID=Asia/Kolkata:19730628T000000
DTEND;TZID=Asia/Kolkata:19730628T000000
DTSTAMP:20260425T163608
CREATED:20250715T125353Z
LAST-MODIFIED:20250715T125353Z
UID:10013850-110073600-110073600@www.discoverhollywood.com
SUMMARY:The Online Improv Show
DESCRIPTION:With Titled Frame Network %28TFN%29DesignHTMLWords: 5   Characters: 29
URL:https://www.discoverhollywood.com/event/the-online-improv-show/
LOCATION:Theatre Asylum\, 6320 Santa Monica Blvd.\, Los Angeles\, California
END:VEVENT
BEGIN:VEVENT
DTSTART;TZID=Asia/Kolkata:19730524T000000
DTEND;TZID=Asia/Kolkata:19730524T000000
DTSTAMP:20260425T163608
CREATED:20250716T050950Z
LAST-MODIFIED:20250716T050950Z
UID:10013885-107049600-107049600@www.discoverhollywood.com
SUMMARY:The Perfect Lover (L'amante Perfetto)
DESCRIPTION:%3cbr%3eDesignHTMLWords: 0   Characters: 0
URL:https://www.discoverhollywood.com/event/the-perfect-lover-lamante-perfetto/
LOCATION:Theatre Asylum\, 6320 Santa Monica Blvd.\, Los Angeles\, California
END:VEVENT
BEGIN:VEVENT
DTSTART;TZID=Asia/Kolkata:19730419T000000
DTEND;TZID=Asia/Kolkata:19730419T000000
DTSTAMP:20260425T163608
CREATED:20250716T052211Z
LAST-MODIFIED:20250716T052211Z
UID:10013920-104025600-104025600@www.discoverhollywood.com
SUMMARY:The Pokemusical
DESCRIPTION:DesignHTMLWords: 0   Characters: 0
URL:https://www.discoverhollywood.com/event/the-pokemusical/
LOCATION:Theatre Asylum\, 6320 Santa Monica Blvd.\, Los Angeles\, California
END:VEVENT
BEGIN:VEVENT
DTSTART;TZID=Asia/Kolkata:19721120T000000
DTEND;TZID=Asia/Kolkata:19721120T000000
DTSTAMP:20260425T163608
CREATED:20250716T052907Z
LAST-MODIFIED:20250716T052907Z
UID:10014070-91065600-91065600@www.discoverhollywood.com
SUMMARY:The Sketchy Dames
DESCRIPTION:DesignHTMLWords: 0   Characters: 0
URL:https://www.discoverhollywood.com/event/the-sketchy-dames/
LOCATION:Theatre Asylum\, 6320 Santa Monica Blvd.\, Los Angeles\, California
END:VEVENT
BEGIN:VEVENT
DTSTART;TZID=Asia/Kolkata:19720515T000000
DTEND;TZID=Asia/Kolkata:19720515T000000
DTSTAMP:20260425T163608
CREATED:20250716T060222Z
LAST-MODIFIED:20250716T060222Z
UID:10014259-74736000-74736000@www.discoverhollywood.com
SUMMARY:The Wake
DESCRIPTION:%3cbr%3eDesignHTMLWords: 0   Characters: 0
URL:https://www.discoverhollywood.com/event/the-wake/
LOCATION:Theatre Asylum\, 6320 Santa Monica Blvd.\, Los Angeles\, California
END:VEVENT
BEGIN:VEVENT
DTSTART;TZID=Asia/Kolkata:19720504T000000
DTEND;TZID=Asia/Kolkata:19720504T000000
DTSTAMP:20260425T163608
CREATED:20250716T060423Z
LAST-MODIFIED:20250716T060423Z
UID:10014270-73785600-73785600@www.discoverhollywood.com
SUMMARY:The Waste Land
DESCRIPTION:DesignHTMLWords: 0   Characters: 0
URL:https://www.discoverhollywood.com/event/the-waste-land/
LOCATION:Theatre Asylum\, 6320 Santa Monica Blvd.\, Los Angeles\, California
END:VEVENT
BEGIN:VEVENT
DTSTART;TZID=Asia/Kolkata:19720219T000000
DTEND;TZID=Asia/Kolkata:19720219T000000
DTSTAMP:20260425T163608
CREATED:20250716T060853Z
LAST-MODIFIED:20250716T060853Z
UID:10014345-67305600-67305600@www.discoverhollywood.com
SUMMARY:The Zombie Holiday Special
DESCRIPTION:DesignHTMLWords: 0   Characters: 0
URL:https://www.discoverhollywood.com/event/the-zombie-holiday-special/
LOCATION:Theatre Asylum\, 6320 Santa Monica Blvd.\, Los Angeles\, California
END:VEVENT
BEGIN:VEVENT
DTSTART;TZID=Asia/Kolkata:19711002T000000
DTEND;TZID=Asia/Kolkata:19711002T000000
DTSTAMP:20260425T163608
CREATED:20250716T065218Z
LAST-MODIFIED:20250716T065218Z
UID:10014480-55209600-55209600@www.discoverhollywood.com
SUMMARY:Tilted Frame
DESCRIPTION:Tilted Frame examines the world of technology and entertainment by bringing together spontaneous theater with live media and the Internet.DesignHTMLWords: 20   Characters: 137
URL:https://www.discoverhollywood.com/event/tilted-frame/
LOCATION:Theatre Asylum\, 6320 Santa Monica Blvd.\, Los Angeles\, California
END:VEVENT
BEGIN:VEVENT
DTSTART;TZID=Asia/Kolkata:20260425T163608
DTEND;TZID=Asia/Kolkata:20260425T163608
DTSTAMP:20260425T163608
CREATED:20250716T084142Z
LAST-MODIFIED:20250716T084142Z
UID:10015450-0-0@www.discoverhollywood.com
SUMMARY:Wonderful Life
DESCRIPTION:DesignHTMLWords: 0   Characters: 0
URL:https://www.discoverhollywood.com/event/wonderful-life/
LOCATION:Theatre Asylum\, 6320 Santa Monica Blvd.\, Los Angeles\, California
END:VEVENT
BEGIN:VEVENT
DTSTART;TZID=Asia/Kolkata:20260425T163608
DTEND;TZID=Asia/Kolkata:20260425T163608
DTSTAMP:20260425T163608
CREATED:20250716T084110Z
LAST-MODIFIED:20250716T091356Z
UID:10015434-0-0@www.discoverhollywood.com
SUMMARY:Women
DESCRIPTION:%3cp%3eJo March really thinks she could be the voice of her generation….or at least%2c a voice%2c of a generation. %26nbsp%3bThis fast paced comedy is a mash-up of Louisa May Alcott%27s classic%2c Little Women%2c and HBO%27s critically acclaimed %22Girls%22%2c delivering a smartly crafted and hilarious 55 minute show.%26nbsp%3b%3c/p%3e\n%3cbr%3eDesignHTMLWords: 47   Characters: 271
URL:https://www.discoverhollywood.com/event/women/
LOCATION:Theatre Asylum\, 6320 Santa Monica Blvd.\, Los Angeles\, California
END:VEVENT
BEGIN:VEVENT
DTSTART;TZID=Asia/Kolkata:20260425T163608
DTEND;TZID=Asia/Kolkata:20260425T163608
DTSTAMP:20260425T163608
CREATED:20250716T082650Z
LAST-MODIFIED:20250716T082650Z
UID:10015283-0-0@www.discoverhollywood.com
SUMMARY:What We Don't Say
DESCRIPTION:DesignHTMLWords: 0   Characters: 0
URL:https://www.discoverhollywood.com/event/what-we-dont-say/
LOCATION:Theatre Asylum\, 6320 Santa Monica Blvd.\, Los Angeles\, California
END:VEVENT
BEGIN:VEVENT
DTSTART;TZID=Asia/Kolkata:20260425T163608
DTEND;TZID=Asia/Kolkata:20260425T163608
DTSTAMP:20260425T163608
CREATED:20250716T082607Z
LAST-MODIFIED:20250716T082607Z
UID:10015265-0-0@www.discoverhollywood.com
SUMMARY:Wet Cookies
DESCRIPTION:DesignHTMLWords: 0   Characters: 0
URL:https://www.discoverhollywood.com/event/wet-cookies/
LOCATION:Theatre Asylum\, 6320 Santa Monica Blvd.\, Los Angeles\, California
END:VEVENT
END:VCALENDAR