BEGIN:VCALENDAR
VERSION:2.0
PRODID:-//Discover Hollywood Magazine - ECPv6.15.20//NONSGML v1.0//EN
CALSCALE:GREGORIAN
METHOD:PUBLISH
X-ORIGINAL-URL:https://www.discoverhollywood.com
X-WR-CALDESC:Events for Discover Hollywood Magazine
REFRESH-INTERVAL;VALUE=DURATION:PT1H
X-Robots-Tag:noindex
X-PUBLISHED-TTL:PT1H
BEGIN:VTIMEZONE
TZID:Asia/Kolkata
BEGIN:STANDARD
TZOFFSETFROM:+0530
TZOFFSETTO:+0530
TZNAME:IST
DTSTART:19840101T000000
END:STANDARD
END:VTIMEZONE
BEGIN:VEVENT
DTSTART;TZID=Asia/Kolkata:20081105T000000
DTEND;TZID=Asia/Kolkata:20081105T000000
DTSTAMP:20260423T035219
CREATED:20250701T063138Z
LAST-MODIFIED:20250701T063138Z
UID:10003286-1225843200-1225843200@www.discoverhollywood.com
SUMMARY:Brownsville Bred
DESCRIPTION:DesignHTMLWords: 0   Characters: 0
URL:https://www.discoverhollywood.com/event/brownsville-bred/
LOCATION:Theatre of NOTE\, 1517 N. Cahuenga Blvd\, Los Angeles\, California
END:VEVENT
BEGIN:VEVENT
DTSTART;TZID=Asia/Kolkata:20080612T000000
DTEND;TZID=Asia/Kolkata:20080612T000000
DTSTAMP:20260423T035219
CREATED:20250701T063312Z
LAST-MODIFIED:20250701T063312Z
UID:10003359-1213228800-1213228800@www.discoverhollywood.com
SUMMARY:Burton
DESCRIPTION:DesignHTMLWords: 0   Characters: 0
URL:https://www.discoverhollywood.com/event/burton-2/
LOCATION:Theatre of NOTE\, 1517 N. Cahuenga Blvd\, Los Angeles\, California
END:VEVENT
BEGIN:VEVENT
DTSTART;TZID=Asia/Kolkata:20050220T000000
DTEND;TZID=Asia/Kolkata:20050220T000000
DTSTAMP:20260423T035219
CREATED:20250701T093502Z
LAST-MODIFIED:20250701T093502Z
UID:10003868-1108857600-1108857600@www.discoverhollywood.com
SUMMARY:Cleo\, Theo\, and Wu
DESCRIPTION:%3cspan%3eA fun play about women and history.%3c/span%3eDesignHTMLWords: 7   Characters: 34
URL:https://www.discoverhollywood.com/event/cleo-theo-and-wu/
LOCATION:Theatre of NOTE\, 1517 N. Cahuenga Blvd\, Los Angeles\, California
END:VEVENT
BEGIN:VEVENT
DTSTART;TZID=Asia/Kolkata:20050115T000000
DTEND;TZID=Asia/Kolkata:20050115T000000
DTSTAMP:20260423T035219
CREATED:20250701T093533Z
LAST-MODIFIED:20250701T093533Z
UID:10003886-1105747200-1105747200@www.discoverhollywood.com
SUMMARY:Clownfish
DESCRIPTION:World Premiere. Written by Amy Dellagiarino%3b directed by Laura Stribling%3cdiv%3e\n	%3cspan%3e%3cspan%3e%3cb%3ewww.theatreofnote.com%3c/b%3e%3c/span%3e%3c/span%3e\n%3c/div%3e\n%3cdiv%3e\n	%3cp class%3d%22ydp468c4f2ayiv4071493591msonormal%22%3e%3cspan%3e%3ca href%3d%22https%3a//m.bpt.me/event/5484923%3ffbclid%3dIwAR2Jec0CKRBJu1jDckn8mHhoVynjaeNMr8ozDLbXTUijJXhI1OtLdBYiU7c%22 target%3d%22_blank%22%3ehttps%3a//m.bpt.me/event/5484923%3ffbclid%3dIwAR2Jec0CKRBJu1jDckn8mHhoVynjaeNMr8ozDLbXTUijJXhI1OtLdBYiU7c%3c/a%3e%3c/span%3e\n		%3cspan%3e%3c/span%3e\n	%3c/p%3e\n	%3cspan%3e%3cspan%3e%3cb%3e%3c/b%3e%3c/span%3e%3c/span%3e\n%3c/div%3eDesignHTMLWords: 12   Characters: 187
URL:https://www.discoverhollywood.com/event/clownfish/
LOCATION:Theatre of NOTE\, 1517 N. Cahuenga Blvd\, Los Angeles\, California
END:VEVENT
BEGIN:VEVENT
DTSTART;TZID=Asia/Kolkata:20040228T000000
DTEND;TZID=Asia/Kolkata:20040228T000000
DTSTAMP:20260423T035219
CREATED:20250701T104702Z
LAST-MODIFIED:20250701T104702Z
UID:10004047-1077926400-1077926400@www.discoverhollywood.com
SUMMARY:Copy
DESCRIPTION:DesignHTMLWords: 0   Characters: 0
URL:https://www.discoverhollywood.com/event/copy/
LOCATION:Theatre of NOTE\, 1517 N. Cahuenga Blvd\, Los Angeles\, California
END:VEVENT
BEGIN:VEVENT
DTSTART;TZID=Asia/Kolkata:20030510T000000
DTEND;TZID=Asia/Kolkata:20030510T000000
DTSTAMP:20260423T035219
CREATED:20250701T111807Z
LAST-MODIFIED:20250701T111807Z
UID:10004194-1052524800-1052524800@www.discoverhollywood.com
SUMMARY:D Deb Debbie Deborah
DESCRIPTION:%3cp%3e%3cb%3eHailed as a %27%3ci%3edizzyingly clever new play%3c/i%3e%27 by the %3ci%3eNew York Times%27%3c/i%3e Ben Brantley%2c%3c/b%3e\n	%3cb%3eD DEB DEBBIE DEBORAH%3c/b%3e\n	%3cb%3etackles questions of self%2c one%27s place in the world%2c where we fit in%2c and who%2c exactly%2c takes authorship of his or her art. %3cbr%3e%3c/b%3e\n%3c/p%3eDesignHTMLWords: 41   Characters: 211
URL:https://www.discoverhollywood.com/event/d-deb-debbie-deborah/
LOCATION:Theatre of NOTE\, 1517 N. Cahuenga Blvd\, Los Angeles\, California
END:VEVENT
BEGIN:VEVENT
DTSTART;TZID=Asia/Kolkata:20001024T000000
DTEND;TZID=Asia/Kolkata:20001024T000000
DTSTAMP:20260423T035219
CREATED:20250701T122910Z
LAST-MODIFIED:20250701T122910Z
UID:10004648-972345600-972345600@www.discoverhollywood.com
SUMMARY:Disassembly
DESCRIPTION:%3cbr%3eDesignHTMLWords: 0   Characters: 0
URL:https://www.discoverhollywood.com/event/disassembly/
LOCATION:Theatre of NOTE\, 1517 N. Cahuenga Blvd\, Los Angeles\, California
END:VEVENT
BEGIN:VEVENT
DTSTART;TZID=Asia/Kolkata:20000704T000000
DTEND;TZID=Asia/Kolkata:20000704T000000
DTSTAMP:20260423T035219
CREATED:20250701T124836Z
LAST-MODIFIED:20250701T124836Z
UID:10004704-962668800-962668800@www.discoverhollywood.com
SUMMARY:Do Not Disturb
DESCRIPTION:%3cbr%3eDesignHTMLWords: 0   Characters: 0
URL:https://www.discoverhollywood.com/event/do-not-disturb/
LOCATION:Theatre of NOTE\, 1517 N. Cahuenga Blvd\, Los Angeles\, California
END:VEVENT
BEGIN:VEVENT
DTSTART;TZID=Asia/Kolkata:19990821T000000
DTEND;TZID=Asia/Kolkata:19990821T000000
DTSTAMP:20260423T035219
CREATED:20250701T125946Z
LAST-MODIFIED:20250701T125946Z
UID:10004863-935193600-935193600@www.discoverhollywood.com
SUMMARY:Driving Wilde
DESCRIPTION:%3ca href%3d%22https%3a//www.theatreofnote.com/%22%3ehttps%3a//www.theatreofnote.com/%3c/a%3eDesignHTMLWords: 1   Characters: 27
URL:https://www.discoverhollywood.com/event/driving-wilde/
LOCATION:Theatre of NOTE\, 1517 N. Cahuenga Blvd\, Los Angeles\, California
END:VEVENT
BEGIN:VEVENT
DTSTART;TZID=Asia/Kolkata:19990319T000000
DTEND;TZID=Asia/Kolkata:19990319T000000
DTSTAMP:20260423T035219
CREATED:20250701T133409Z
LAST-MODIFIED:20250702T044311Z
UID:10004980-921801600-921801600@www.discoverhollywood.com
SUMMARY:Eat the Runt
DESCRIPTION:%3cp align%3d%22center%22%3e%3cspan%3e\n		%3cu%3e\n			%3cspan%3e%3cb%3eLos Angeles %3c/b%3e%3c/span%3e\n		%3c/u%3e\n		%3cspan%3e%3c/span%3e\n		%3cspan%3e%3cu%3e\n				%3cb%3ePremiere%3c/b%3e\n			%3c/u%3e%3c/span%3e\n	%3c/span%3e%3c/p%3e\n%3cp align%3d%22center%22%3e%3cspan%3ewith her comedy%3a%3c/span%3e%3c/p%3e\n%3cp align%3d%22center%22%3e%3cspan%3e%3cbr%3e%3c/span%3e%3c/p%3e\n%3cp align%3d%22center%22%3e%3cspan%3e%3cspan%3e%3ci%3e%3cb%3eEAT THE RUNT%3c/b%3e%3c/i%3e%3c/span%3e%3c/span%3e%3c/p%3e\n%3cp align%3d%22center%22%3e%3cspan%3e%3cbr%3e%3c/span%3e%3c/p%3e\n%3cp align%3d%22center%22%3e%3cspan%3e%3cspan%3e\n			%3ci%3e%3cb%3e%3cspan%3eEAT OR BE EATEN… %3c/span%3e%3c/b%3e%3c/i%3e\n			%3cspan%3e%3cspan%3e%3cb%3e%3cu%3eYOU%3c/u%3e%3c/b%3e%3c/span%3e%3c/span%3e\n			%3cbDesignHTMLWords: 14   Characters: 78
URL:https://www.discoverhollywood.com/event/eat-the-runt/
LOCATION:Theatre of NOTE\, 1517 N. Cahuenga Blvd\, Los Angeles\, California
END:VEVENT
BEGIN:VEVENT
DTSTART;TZID=Asia/Kolkata:19990318T000000
DTEND;TZID=Asia/Kolkata:19990318T000000
DTSTAMP:20260423T035219
CREATED:20250701T133411Z
LAST-MODIFIED:20250702T044325Z
UID:10004981-921715200-921715200@www.discoverhollywood.com
SUMMARY:Eat The Runt
DESCRIPTION:DesignHTMLWords: 0   Characters: 0
URL:https://www.discoverhollywood.com/event/eat-the-runt-2/
LOCATION:Theatre of NOTE\, 1517 N. Cahuenga Blvd\, Los Angeles\, California
END:VEVENT
BEGIN:VEVENT
DTSTART;TZID=Asia/Kolkata:19990223T000000
DTEND;TZID=Asia/Kolkata:19990223T000000
DTSTAMP:20260423T035219
CREATED:20250701T133635Z
LAST-MODIFIED:20250702T044426Z
UID:10005004-919728000-919728000@www.discoverhollywood.com
SUMMARY:Eco-Friendly Jihad
DESCRIPTION:DesignHTMLWords: 0   Characters: 0
URL:https://www.discoverhollywood.com/event/eco-friendly-jihad/
LOCATION:Theatre of NOTE\, 1517 N. Cahuenga Blvd\, Los Angeles\, California
END:VEVENT
BEGIN:VEVENT
DTSTART;TZID=Asia/Kolkata:19981208T000000
DTEND;TZID=Asia/Kolkata:19981208T000000
DTSTAMP:20260423T035219
CREATED:20250702T044826Z
LAST-MODIFIED:20250702T044826Z
UID:10005081-913075200-913075200@www.discoverhollywood.com
SUMMARY:Electric\, I
DESCRIPTION:%3cspan%3eThe plight of an artist and a scientist unite to outrun the media’s trajectory while hoping to carve out a path illuminated by nature and genuine human connection.%3c/span%3eDesignHTMLWords: 28   Characters: 162
URL:https://www.discoverhollywood.com/event/electric-i/
LOCATION:Theatre of NOTE\, 1517 N. Cahuenga Blvd\, Los Angeles\, California
END:VEVENT
BEGIN:VEVENT
DTSTART;TZID=Asia/Kolkata:19980812T000000
DTEND;TZID=Asia/Kolkata:19980812T000000
DTSTAMP:20260423T035219
CREATED:20250702T050541Z
LAST-MODIFIED:20250702T050541Z
UID:10005199-902880000-902880000@www.discoverhollywood.com
SUMMARY:Entropy
DESCRIPTION:Written by Bill Robens%2c %3ca target%3d%22_blank%22 href%3d%22http%3a//www.theatreofnote.com/%22%3eEntropy%3c/a%3e takes place partly in space and partly on the ground%2c with zero gravity simulated live on stage%2c a Vomit Comet%2c and robots.\n%3cbr%3eDesignHTMLWords: 27   Characters: 150
URL:https://www.discoverhollywood.com/event/entropy/
LOCATION:Theatre of NOTE\, 1517 N. Cahuenga Blvd\, Los Angeles\, California
END:VEVENT
BEGIN:VEVENT
DTSTART;TZID=Asia/Kolkata:19971015T000000
DTEND;TZID=Asia/Kolkata:19971015T000000
DTSTAMP:20260423T035219
CREATED:20250702T060318Z
LAST-MODIFIED:20250702T060318Z
UID:10005500-876873600-876873600@www.discoverhollywood.com
SUMMARY:Figure 8
DESCRIPTION:DesignHTMLWords: 0   Characters: 0
URL:https://www.discoverhollywood.com/event/figure-8/
LOCATION:Theatre of NOTE\, 1517 N. Cahuenga Blvd\, Los Angeles\, California
END:VEVENT
BEGIN:VEVENT
DTSTART;TZID=Asia/Kolkata:19970623T000000
DTEND;TZID=Asia/Kolkata:19970623T000000
DTSTAMP:20260423T035219
CREATED:20250703T061926Z
LAST-MODIFIED:20250703T061926Z
UID:10005610-867024000-867024000@www.discoverhollywood.com
SUMMARY:For the Love of (or the roller derby play)
DESCRIPTION:%3cdiv%3eWhen Joy gets on the derby team Brooklyn Scallywags and meets the star%2c Lizzie Lightning%2c she and her long term partner Michelle find their lives turned upside down. For The Love Of asks how much you’re willing to sacrifice – or lose – in order to follow your heart.%3c/div%3e\n%3cdiv%3e%3c/div%3e\n%3cdiv%3e\n	%3ca href%3d%22http%3a//www.theatreofnote.com/%22 target%3d%22_blank%22%3ehttp%3a//www.theatreofnote.com/%3c/a%3e\n%3c/div%3eDesignHTMLWords: 50   Characters: 289
URL:https://www.discoverhollywood.com/event/for-the-love-of-or-the-roller-derby-play/
LOCATION:Theatre of NOTE\, 1517 N. Cahuenga Blvd\, Los Angeles\, California
END:VEVENT
BEGIN:VEVENT
DTSTART;TZID=Asia/Kolkata:19961210T000000
DTEND;TZID=Asia/Kolkata:19961210T000000
DTSTAMP:20260423T035219
CREATED:20250703T064209Z
LAST-MODIFIED:20250703T064209Z
UID:10005805-850176000-850176000@www.discoverhollywood.com
SUMMARY:Fruition
DESCRIPTION:%3cdiv style%3d%22box-sizing%3aborder-box%3b margin%3a0px%3b padding%3a0px%3b border%3a0px%3b outline%3a0px%3b vertical-align%3abottom%3b background%3argb%28248%2c 248%2c 248%29%3b color%3argb%2823%2c 23%2c 23%29%3b font-family%3amontserrat%2c Arial%2c sans-serif%3b font-size%3a15px%3b%22%3eFruition considers the idea that the seeds we are planting in our current political climate%3c/div%3e\n%3cdiv style%3d%22box-sizing%3aborder-box%3b margin%3a0px%3b padding%3a0px%3b border%3a0px%3b outline%3a0px%3b vertical-align%3abottom%3b background%3argb%28248%2c 248%2c 248%29%3b color%3argb%2823%2c 23%2c 23%29%3b font-family%3amontserrat%2c ArialDesignHTMLWords: 15   Characters: 91
URL:https://www.discoverhollywood.com/event/fruition/
LOCATION:Theatre of NOTE\, 1517 N. Cahuenga Blvd\, Los Angeles\, California
END:VEVENT
BEGIN:VEVENT
DTSTART;TZID=Asia/Kolkata:19950726T000000
DTEND;TZID=Asia/Kolkata:19950726T000000
DTSTAMP:20260423T035219
CREATED:20250703T084457Z
LAST-MODIFIED:20250703T084457Z
UID:10006308-806716800-806716800@www.discoverhollywood.com
SUMMARY:Grimm Tales
DESCRIPTION:%3cspan style%3d%22margin%3a0px%3b font-family%3aCalibri%2csans-serif%3b font-size%3a11pt%3b%22%3e%3ca href%3d%22http%3a//www.hollywoodfringe.org/projects/4613%3ftab%3ddetails%22%3e%3cspan%3ehttp%3a//www.hollywoodfringe.org/projects/4613%3ftab%3ddetails%3c/span%3e%3c/a%3e%3c/span%3eDesignHTMLWords: 1   Characters: 52
URL:https://www.discoverhollywood.com/event/grimm-tales/
LOCATION:Theatre of NOTE\, 1517 N. Cahuenga Blvd\, Los Angeles\, California
END:VEVENT
BEGIN:VEVENT
DTSTART;TZID=Asia/Kolkata:19940401T000000
DTEND;TZID=Asia/Kolkata:19940401T000000
DTSTAMP:20260423T035219
CREATED:20250703T095846Z
LAST-MODIFIED:20250703T095846Z
UID:10006504-765158400-765158400@www.discoverhollywood.com
SUMMARY:Holy Ghost
DESCRIPTION:DesignHTMLWords: 0   Characters: 0
URL:https://www.discoverhollywood.com/event/holy-ghost/
LOCATION:Theatre of NOTE\, 1517 N. Cahuenga Blvd\, Los Angeles\, California
END:VEVENT
BEGIN:VEVENT
DTSTART;TZID=Asia/Kolkata:19931111T000000
DTEND;TZID=Asia/Kolkata:19931111T000000
DTSTAMP:20260423T035219
CREATED:20250703T105716Z
LAST-MODIFIED:20250703T105716Z
UID:10006645-752976000-752976000@www.discoverhollywood.com
SUMMARY:I Can Hear You...But I'm Not Listening
DESCRIPTION:%3cbr%3eDesignHTMLWords: 0   Characters: 0
URL:https://www.discoverhollywood.com/event/i-can-hear-you-but-im-not-listening/
LOCATION:Theatre of NOTE\, 1517 N. Cahuenga Blvd\, Los Angeles\, California
END:VEVENT
BEGIN:VEVENT
DTSTART;TZID=Asia/Kolkata:19931013T000000
DTEND;TZID=Asia/Kolkata:19931013T000000
DTSTAMP:20260423T035219
CREATED:20250703T105751Z
LAST-MODIFIED:20250703T105751Z
UID:10006674-750470400-750470400@www.discoverhollywood.com
SUMMARY:I Wanna Hold Your Hand
DESCRIPTION:%3cbr%3eDesignHTMLWords: 0   Characters: 0
URL:https://www.discoverhollywood.com/event/i-wanna-hold-your-hand/
LOCATION:Theatre of NOTE\, 1517 N. Cahuenga Blvd\, Los Angeles\, California
END:VEVENT
BEGIN:VEVENT
DTSTART;TZID=Asia/Kolkata:19930511T000000
DTEND;TZID=Asia/Kolkata:19930511T000000
DTSTAMP:20260423T035219
CREATED:20250703T110223Z
LAST-MODIFIED:20250703T110223Z
UID:10006829-737078400-737078400@www.discoverhollywood.com
SUMMARY:Ineffable
DESCRIPTION:DesignHTMLWords: 0   Characters: 0
URL:https://www.discoverhollywood.com/event/ineffable/
LOCATION:Theatre of NOTE\, 1517 N. Cahuenga Blvd\, Los Angeles\, California
END:VEVENT
BEGIN:VEVENT
DTSTART;TZID=Asia/Kolkata:19900608T000000
DTEND;TZID=Asia/Kolkata:19900608T000000
DTSTAMP:20260423T035219
CREATED:20250709T060605Z
LAST-MODIFIED:20250709T060605Z
UID:10007897-644803200-644803200@www.discoverhollywood.com
SUMMARY:Kill Me Deadly
DESCRIPTION:DesignHTMLWords: 0   Characters: 0
URL:https://www.discoverhollywood.com/event/kill-me-deadly/
LOCATION:Theatre of NOTE\, 1517 N. Cahuenga Blvd\, Los Angeles\, California
END:VEVENT
BEGIN:VEVENT
DTSTART;TZID=Asia/Kolkata:19881216T000000
DTEND;TZID=Asia/Kolkata:19881216T000000
DTSTAMP:20260423T035219
CREATED:20250709T123843Z
LAST-MODIFIED:20250709T123843Z
UID:10008836-598233600-598233600@www.discoverhollywood.com
SUMMARY:Marian\, or the True Tale of Robin Hood
DESCRIPTION:A gender-bending%2c patriarchy-smashing%2c hilarious new take on the classic myth starring Kirsten Vangsness.DesignHTMLWords: 13   Characters: 100
URL:https://www.discoverhollywood.com/event/marian-or-the-true-tale-of-robin-hood/
LOCATION:Theatre of NOTE\, 1517 N. Cahuenga Blvd\, Los Angeles\, California
END:VEVENT
BEGIN:VEVENT
DTSTART;TZID=Asia/Kolkata:19880226T000000
DTEND;TZID=Asia/Kolkata:19880226T000000
DTSTAMP:20260423T035219
CREATED:20250710T095356Z
LAST-MODIFIED:20250710T095356Z
UID:10009130-572832000-572832000@www.discoverhollywood.com
SUMMARY:MESS
DESCRIPTION:DesignHTMLWords: 0   Characters: 0
URL:https://www.discoverhollywood.com/event/mess/
LOCATION:Theatre of NOTE\, 1517 N. Cahuenga Blvd\, Los Angeles\, California
END:VEVENT
BEGIN:VEVENT
DTSTART;TZID=Asia/Kolkata:19861214T000000
DTEND;TZID=Asia/Kolkata:19861214T000000
DTSTAMP:20260423T035219
CREATED:20250710T101920Z
LAST-MODIFIED:20250710T101920Z
UID:10009569-534902400-534902400@www.discoverhollywood.com
SUMMARY:Music And Laughs
DESCRIPTION:%3cbr%3eDesignHTMLWords: 0   Characters: 0
URL:https://www.discoverhollywood.com/event/music-and-laughs/
LOCATION:Theatre of NOTE\, 1517 N. Cahuenga Blvd\, Los Angeles\, California
END:VEVENT
BEGIN:VEVENT
DTSTART;TZID=Asia/Kolkata:19860513T000000
DTEND;TZID=Asia/Kolkata:19860513T000000
DTSTAMP:20260423T035219
CREATED:20250710T120301Z
LAST-MODIFIED:20250710T120301Z
UID:10009784-516326400-516326400@www.discoverhollywood.com
SUMMARY:Neva
DESCRIPTION:In a dimly lit rehearsal room in St. Petersburg during the winter of 1905%2c Anton Chekhov’s widow%2c the actress Olga Knipper%2c along with two other actors%2c await the rest of the cast and their director while unseen striking workers are being gunned down in the streets by the tsarist regime. A politically charged%2c haunting interrogation of theater and the revolutionary impulse.DesignHTMLWords: 61   Characters: 368
URL:https://www.discoverhollywood.com/event/neva/
LOCATION:Theatre of NOTE\, 1517 N. Cahuenga Blvd\, Los Angeles\, California
END:VEVENT
BEGIN:VEVENT
DTSTART;TZID=Asia/Kolkata:19860314T000000
DTEND;TZID=Asia/Kolkata:19860314T000000
DTSTAMP:20260423T035219
CREATED:20250710T120701Z
LAST-MODIFIED:20250710T120701Z
UID:10009844-511142400-511142400@www.discoverhollywood.com
SUMMARY:Niagra Falls
DESCRIPTION:Newlyweds Jack and Avery Perch want to enjoy their kitschy Niagara Falls honeymoon%2c but doubts about their speedy nuptials%2c the unfortunate hotel room%2c and an interrupting concierge aren%27t helping to set the mood. A mysterious event sends both on a chase through a nearby carnival… and a parallel universe. %3ca target%3d%22_blank%22 href%3d%22http%3a//www.lastagetix.com/2015/TheatreofNOTE/NiagaraFalls%22%3eNIAGARA FALLS%3c/a%3e is a dark%2c romantic comedy that takes up the torch for love and romance.DesignHTMLWords: 65   Characters: 384
URL:https://www.discoverhollywood.com/event/niagra-falls/
LOCATION:Theatre of NOTE\, 1517 N. Cahuenga Blvd\, Los Angeles\, California
END:VEVENT
BEGIN:VEVENT
DTSTART;TZID=Asia/Kolkata:19860312T000000
DTEND;TZID=Asia/Kolkata:19860312T000000
DTSTAMP:20260423T035219
CREATED:20250710T120702Z
LAST-MODIFIED:20250710T120702Z
UID:10009846-510969600-510969600@www.discoverhollywood.com
SUMMARY:Nibbler
DESCRIPTION:DesignHTMLWords: 0   Characters: 0
URL:https://www.discoverhollywood.com/event/nibbler/
LOCATION:Theatre of NOTE\, 1517 N. Cahuenga Blvd\, Los Angeles\, California
END:VEVENT
BEGIN:VEVENT
DTSTART;TZID=Asia/Kolkata:19850203T000000
DTEND;TZID=Asia/Kolkata:19850203T000000
DTSTAMP:20260423T035219
CREATED:20250710T123547Z
LAST-MODIFIED:20250710T123547Z
UID:10010248-476236800-476236800@www.discoverhollywood.com
SUMMARY:Out of the Vault: The Happiest Leap Day on Earth!
DESCRIPTION:%3ca href%3d%22https%3a//www.theatreofnote.com/%22%3ehttps%3a//www.theatreofnote.com/%3c/a%3eDesignHTMLWords: 1   Characters: 27
URL:https://www.discoverhollywood.com/event/out-of-the-vault-the-happiest-leap-day-on-earth/
LOCATION:Theatre of NOTE\, 1517 N. Cahuenga Blvd\, Los Angeles\, California
END:VEVENT
END:VCALENDAR