BEGIN:VCALENDAR
VERSION:2.0
PRODID:-//Discover Hollywood Magazine - ECPv6.15.20//NONSGML v1.0//EN
CALSCALE:GREGORIAN
METHOD:PUBLISH
X-ORIGINAL-URL:https://www.discoverhollywood.com
X-WR-CALDESC:Events for Discover Hollywood Magazine
REFRESH-INTERVAL;VALUE=DURATION:PT1H
X-Robots-Tag:noindex
X-PUBLISHED-TTL:PT1H
BEGIN:VTIMEZONE
TZID:Asia/Kolkata
BEGIN:STANDARD
TZOFFSETFROM:+0530
TZOFFSETTO:+0530
TZNAME:IST
DTSTART:20160101T000000
END:STANDARD
END:VTIMEZONE
BEGIN:VEVENT
DTSTART;TZID=Asia/Kolkata:20170420T000000
DTEND;TZID=Asia/Kolkata:20170420T000000
DTSTAMP:20260425T092357
CREATED:20250630T105326Z
LAST-MODIFIED:20250630T105326Z
UID:10001835-1492646400-1492646400@www.discoverhollywood.com
SUMMARY:American Sculptor Robert Russin
DESCRIPTION:%3cimg id%3d%22_x0000_i1025%22 src%3d%22http%3a//www.triggison.com/index.1247.jpg%22 height%3d%22204%22 width%3d%22314%22 border%3d%2210%22%3e\n%3cbr%3e\n%3cp align%3d%22center%22%3e%3ca target%3d%22_blank%22 href%3d%22http%3a//www.triggison.com/%22 title%3d%22http%3a//www.triggison.com/%22%3ehttp%3a//www.triggison.com%3c/a%3e%3c/p%3e\n%3cbr%3eDesignHTMLWords: 1   Characters: 21
URL:https://www.discoverhollywood.com/event/american-sculptor-robert-russin-2/
LOCATION:Trigg Ison Fine Art\, 511 N Robertson Blvd\, West Hollywood\, California
END:VEVENT
END:VCALENDAR