BEGIN:VCALENDAR
VERSION:2.0
PRODID:-//Discover Hollywood Magazine - ECPv6.15.17//NONSGML v1.0//EN
CALSCALE:GREGORIAN
METHOD:PUBLISH
X-WR-CALNAME:Discover Hollywood Magazine
X-ORIGINAL-URL:https://www.discoverhollywood.com
X-WR-CALDESC:Events for Discover Hollywood Magazine
REFRESH-INTERVAL;VALUE=DURATION:PT1H
X-Robots-Tag:noindex
X-PUBLISHED-TTL:PT1H
BEGIN:VTIMEZONE
TZID:Asia/Kolkata
BEGIN:STANDARD
TZOFFSETFROM:+0530
TZOFFSETTO:+0530
TZNAME:IST
DTSTART:19750101T000000
END:STANDARD
END:VTIMEZONE
BEGIN:VEVENT
DTSTART;TZID=Asia/Kolkata:19780708T000000
DTEND;TZID=Asia/Kolkata:19780708T000000
DTSTAMP:20260420T000053
CREATED:20250714T124616Z
LAST-MODIFIED:20250714T124616Z
UID:10012198-268704000-268704000@www.discoverhollywood.com
SUMMARY:Snot
DESCRIPTION:DesignHTMLWords: 0   Characters: 0
URL:https://www.discoverhollywood.com/event/snot/
LOCATION:Troubadour\, 9081 Santa Monica Blvd.\, Hollywood\, California
END:VEVENT
BEGIN:VEVENT
DTSTART;TZID=Asia/Kolkata:19780611T000000
DTEND;TZID=Asia/Kolkata:19780611T000000
DTSTAMP:20260420T000053
CREATED:20250714T124650Z
LAST-MODIFIED:20250714T124650Z
UID:10012225-266371200-266371200@www.discoverhollywood.com
SUMMARY:SOHN
DESCRIPTION:DesignHTMLWords: 0   Characters: 0
URL:https://www.discoverhollywood.com/event/sohn/
LOCATION:Troubadour\, 9081 Santa Monica Blvd.\, Hollywood\, California
END:VEVENT
BEGIN:VEVENT
DTSTART;TZID=Asia/Kolkata:19780424T000000
DTEND;TZID=Asia/Kolkata:19780424T000000
DTSTAMP:20260420T000053
CREATED:20250715T080545Z
LAST-MODIFIED:20250715T080545Z
UID:10012274-262224000-262224000@www.discoverhollywood.com
SUMMARY:Sondre Lerche
DESCRIPTION:%3cbr%3eDesignHTMLWords: 0   Characters: 0
URL:https://www.discoverhollywood.com/event/sondre-lerche/
LOCATION:Troubadour\, 9081 Santa Monica Blvd.\, Hollywood\, California
END:VEVENT
BEGIN:VEVENT
DTSTART;TZID=Asia/Kolkata:19780423T000000
DTEND;TZID=Asia/Kolkata:19780423T000000
DTSTAMP:20260420T000053
CREATED:20250715T080546Z
LAST-MODIFIED:20250715T080546Z
UID:10012275-262137600-262137600@www.discoverhollywood.com
SUMMARY:Sondre Lerche
DESCRIPTION:%3cbr%3eDesignHTMLWords: 0   Characters: 0
URL:https://www.discoverhollywood.com/event/sondre-lerche-2/
LOCATION:Troubadour\, 9081 Santa Monica Blvd.\, Hollywood\, California
END:VEVENT
BEGIN:VEVENT
DTSTART;TZID=Asia/Kolkata:19780318T000000
DTEND;TZID=Asia/Kolkata:19780318T000000
DTSTAMP:20260420T000053
CREATED:20250715T081954Z
LAST-MODIFIED:20250715T081954Z
UID:10012311-259027200-259027200@www.discoverhollywood.com
SUMMARY:Sound Collective
DESCRIPTION:%3ca href%3d%22https%3a//www.troubadour.com/calendar/%22%3ehttps%3a//www.troubadour.com/calendar/%3c/a%3eDesignHTMLWords: 1   Characters: 33
URL:https://www.discoverhollywood.com/event/sound-collective/
LOCATION:Troubadour\, 9081 Santa Monica Blvd.\, Hollywood\, California
END:VEVENT
BEGIN:VEVENT
DTSTART;TZID=Asia/Kolkata:19780220T000000
DTEND;TZID=Asia/Kolkata:19780220T000000
DTSTAMP:20260420T000053
CREATED:20250715T082958Z
LAST-MODIFIED:20250715T082958Z
UID:10012337-256780800-256780800@www.discoverhollywood.com
SUMMARY:Spanish Gold
DESCRIPTION:%3cbr%3eDesignHTMLWords: 0   Characters: 0
URL:https://www.discoverhollywood.com/event/spanish-gold/
LOCATION:Troubadour\, 9081 Santa Monica Blvd.\, Hollywood\, California
END:VEVENT
BEGIN:VEVENT
DTSTART;TZID=Asia/Kolkata:19771222T000000
DTEND;TZID=Asia/Kolkata:19771222T000000
DTSTAMP:20260420T000053
CREATED:20250715T085411Z
LAST-MODIFIED:20250715T085411Z
UID:10012397-251596800-251596800@www.discoverhollywood.com
SUMMARY:St. Paul and The Broken Bones
DESCRIPTION:DesignHTMLWords: 0   Characters: 0
URL:https://www.discoverhollywood.com/event/st-paul-and-the-broken-bones/
LOCATION:Troubadour\, 9081 Santa Monica Blvd.\, Hollywood\, California
END:VEVENT
BEGIN:VEVENT
DTSTART;TZID=Asia/Kolkata:19771207T000000
DTEND;TZID=Asia/Kolkata:19771207T000000
DTSTAMP:20260420T000053
CREATED:20250715T090013Z
LAST-MODIFIED:20250715T090013Z
UID:10012412-250300800-250300800@www.discoverhollywood.com
SUMMARY:Stagnant Pools
DESCRIPTION:%3cbr%3eDesignHTMLWords: 0   Characters: 0
URL:https://www.discoverhollywood.com/event/stagnant-pools/
LOCATION:Troubadour\, 9081 Santa Monica Blvd.\, Hollywood\, California
END:VEVENT
BEGIN:VEVENT
DTSTART;TZID=Asia/Kolkata:19771027T000000
DTEND;TZID=Asia/Kolkata:19771027T000000
DTSTAMP:20260420T000053
CREATED:20250715T090641Z
LAST-MODIFIED:20250715T090641Z
UID:10012453-246758400-246758400@www.discoverhollywood.com
SUMMARY:Station Breaks : Record Release
DESCRIPTION:DesignHTMLWords: 0   Characters: 0
URL:https://www.discoverhollywood.com/event/station-breaks-record-release/
LOCATION:Troubadour\, 9081 Santa Monica Blvd.\, Hollywood\, California
END:VEVENT
BEGIN:VEVENT
DTSTART;TZID=Asia/Kolkata:19770908T000000
DTEND;TZID=Asia/Kolkata:19770908T000000
DTSTAMP:20260420T000053
CREATED:20250715T090753Z
LAST-MODIFIED:20250715T090753Z
UID:10012502-242524800-242524800@www.discoverhollywood.com
SUMMARY:Steve Earle & The Dukes
DESCRIPTION:%3cbr%3eDesignHTMLWords: 0   Characters: 0
URL:https://www.discoverhollywood.com/event/steve-earle-the-dukes/
LOCATION:Troubadour\, 9081 Santa Monica Blvd.\, Hollywood\, California
END:VEVENT
BEGIN:VEVENT
DTSTART;TZID=Asia/Kolkata:19770811T000000
DTEND;TZID=Asia/Kolkata:19770811T000000
DTSTAMP:20260420T000053
CREATED:20250715T090820Z
LAST-MODIFIED:20250715T090820Z
UID:10012530-240105600-240105600@www.discoverhollywood.com
SUMMARY:Steven Page Trio (formerly of Barenaked Ladies)
DESCRIPTION:DesignHTMLWords: 0   Characters: 0
URL:https://www.discoverhollywood.com/event/steven-page-trio-formerly-of-barenaked-ladies/
LOCATION:Troubadour\, 9081 Santa Monica Blvd.\, Hollywood\, California
END:VEVENT
BEGIN:VEVENT
DTSTART;TZID=Asia/Kolkata:19770803T000000
DTEND;TZID=Asia/Kolkata:19770803T000000
DTSTAMP:20260420T000053
CREATED:20250715T090826Z
LAST-MODIFIED:20250715T090826Z
UID:10012538-239414400-239414400@www.discoverhollywood.com
SUMMARY:Sticky Fingers
DESCRIPTION:%3cbr%3eDesignHTMLWords: 0   Characters: 0
URL:https://www.discoverhollywood.com/event/sticky-fingers/
LOCATION:Troubadour\, 9081 Santa Monica Blvd.\, Hollywood\, California
END:VEVENT
BEGIN:VEVENT
DTSTART;TZID=Asia/Kolkata:19770704T000000
DTEND;TZID=Asia/Kolkata:19770704T000000
DTSTAMP:20260420T000053
CREATED:20250715T092044Z
LAST-MODIFIED:20250715T092044Z
UID:10012568-236822400-236822400@www.discoverhollywood.com
SUMMARY:Strand of Oaks
DESCRIPTION:%3cbr%3eDesignHTMLWords: 0   Characters: 0
URL:https://www.discoverhollywood.com/event/strand-of-oaks/
LOCATION:Troubadour\, 9081 Santa Monica Blvd.\, Hollywood\, California
END:VEVENT
BEGIN:VEVENT
DTSTART;TZID=Asia/Kolkata:19770501T000000
DTEND;TZID=Asia/Kolkata:19770501T000000
DTSTAMP:20260420T000053
CREATED:20250715T092603Z
LAST-MODIFIED:20250715T092603Z
UID:10012632-231292800-231292800@www.discoverhollywood.com
SUMMARY:Sucker for Pumps
DESCRIPTION:DesignHTMLWords: 0   Characters: 0
URL:https://www.discoverhollywood.com/event/sucker-for-pumps/
LOCATION:Troubadour\, 9081 Santa Monica Blvd.\, Hollywood\, California
END:VEVENT
BEGIN:VEVENT
DTSTART;TZID=Asia/Kolkata:19770401T000000
DTEND;TZID=Asia/Kolkata:19770401T000000
DTSTAMP:20260420T000053
CREATED:20250715T092730Z
LAST-MODIFIED:20250715T092730Z
UID:10012662-228700800-228700800@www.discoverhollywood.com
SUMMARY:Summer Lovin' 2012
DESCRIPTION:DesignHTMLWords: 0   Characters: 0
URL:https://www.discoverhollywood.com/event/summer-lovin-2012/
LOCATION:Troubadour\, 9081 Santa Monica Blvd.\, Hollywood\, California
END:VEVENT
BEGIN:VEVENT
DTSTART;TZID=Asia/Kolkata:19770331T000000
DTEND;TZID=Asia/Kolkata:19770331T000000
DTSTAMP:20260420T000053
CREATED:20250715T092731Z
LAST-MODIFIED:20250715T092731Z
UID:10012663-228614400-228614400@www.discoverhollywood.com
SUMMARY:Summer Moon
DESCRIPTION:%3cbr%3eDesignHTMLWords: 0   Characters: 0
URL:https://www.discoverhollywood.com/event/summer-moon/
LOCATION:Troubadour\, 9081 Santa Monica Blvd.\, Hollywood\, California
END:VEVENT
BEGIN:VEVENT
DTSTART;TZID=Asia/Kolkata:19770112T000000
DTEND;TZID=Asia/Kolkata:19770112T000000
DTSTAMP:20260420T000053
CREATED:20250715T093455Z
LAST-MODIFIED:20250715T093455Z
UID:10012741-221875200-221875200@www.discoverhollywood.com
SUMMARY:Sure Sure
DESCRIPTION:%3ca href%3d%22https%3a//www.troubadour.com/calendar/%22%3ehttps%3a//www.troubadour.com/calendar/%3c/a%3eDesignHTMLWords: 1   Characters: 33
URL:https://www.discoverhollywood.com/event/sure-sure/
LOCATION:Troubadour\, 9081 Santa Monica Blvd.\, Hollywood\, California
END:VEVENT
BEGIN:VEVENT
DTSTART;TZID=Asia/Kolkata:19761220T000000
DTEND;TZID=Asia/Kolkata:19761220T000000
DTSTAMP:20260420T000053
CREATED:20250715T093601Z
LAST-MODIFIED:20250715T093601Z
UID:10012764-219888000-219888000@www.discoverhollywood.com
SUMMARY:Susto
DESCRIPTION:%3ca href%3d%22https%3a//www.troubadour.com%22 target%3d%22_blank%22%3ehttps%3a//www.troubadour.com%3c/a%3eDesignHTMLWords: 1   Characters: 23
URL:https://www.discoverhollywood.com/event/susto/
LOCATION:Troubadour\, 9081 Santa Monica Blvd.\, Hollywood\, California
END:VEVENT
BEGIN:VEVENT
DTSTART;TZID=Asia/Kolkata:19760901T000000
DTEND;TZID=Asia/Kolkata:19760901T000000
DTSTAMP:20260420T000053
CREATED:20250715T105105Z
LAST-MODIFIED:20250715T105105Z
UID:10012874-210384000-210384000@www.discoverhollywood.com
SUMMARY:Tanya Tucker: While I'm Livin' Tour
DESCRIPTION:%3ca href%3d%22https%3a//www.troubadour.com/event/1875195-tanya-tucker-while-im-livin-los-angeles/%22%3ehttps%3a//www.troubadour.com/event/1875195-tanya-tucker-while-im-livin-los-angeles/%3c/a%3eDesignHTMLWords: 1   Characters: 71
URL:https://www.discoverhollywood.com/event/tanya-tucker-while-im-livin-tour/
LOCATION:Troubadour\, 9081 Santa Monica Blvd.\, Hollywood\, California
END:VEVENT
BEGIN:VEVENT
DTSTART;TZID=Asia/Kolkata:19760713T000000
DTEND;TZID=Asia/Kolkata:19760713T000000
DTSTAMP:20260420T000053
CREATED:20250715T105228Z
LAST-MODIFIED:20250715T105228Z
UID:10012924-206064000-206064000@www.discoverhollywood.com
SUMMARY:Teenage Bottlerocket
DESCRIPTION:DesignHTMLWords: 0   Characters: 0
URL:https://www.discoverhollywood.com/event/teenage-bottlerocket/
LOCATION:Troubadour\, 9081 Santa Monica Blvd.\, Hollywood\, California
END:VEVENT
BEGIN:VEVENT
DTSTART;TZID=Asia/Kolkata:19760712T000000
DTEND;TZID=Asia/Kolkata:19760712T000000
DTSTAMP:20260420T000053
CREATED:20250715T105228Z
LAST-MODIFIED:20250715T105228Z
UID:10012925-205977600-205977600@www.discoverhollywood.com
SUMMARY:Teenage Bottlerocket / Nerf Herder
DESCRIPTION:%3ca href%3d%22https%3a//www.troubadour.com/%22 target%3d%22_blank%22%3ehttps%3a//www.troubadour.com/%3c/a%3eDesignHTMLWords: 1   Characters: 24
URL:https://www.discoverhollywood.com/event/teenage-bottlerocket-nerf-herder/
LOCATION:Troubadour\, 9081 Santa Monica Blvd.\, Hollywood\, California
END:VEVENT
BEGIN:VEVENT
DTSTART;TZID=Asia/Kolkata:19760628T000000
DTEND;TZID=Asia/Kolkata:19760628T000000
DTSTAMP:20260420T000053
CREATED:20250715T105445Z
LAST-MODIFIED:20250715T105445Z
UID:10012939-204768000-204768000@www.discoverhollywood.com
SUMMARY:Ten Fé w/Madison Malone
DESCRIPTION:%3ca href%3d%22https%3a//www.troubadour.com/%22 target%3d%22_blank%22%3ehttps%3a//www.troubadour.com/%3c/a%3eDesignHTMLWords: 1   Characters: 24
URL:https://www.discoverhollywood.com/event/ten-fe-w-madison-malone/
LOCATION:Troubadour\, 9081 Santa Monica Blvd.\, Hollywood\, California
END:VEVENT
BEGIN:VEVENT
DTSTART;TZID=Asia/Kolkata:19760627T000000
DTEND;TZID=Asia/Kolkata:19760627T000000
DTSTAMP:20260420T000053
CREATED:20250715T105445Z
LAST-MODIFIED:20250715T105445Z
UID:10012940-204681600-204681600@www.discoverhollywood.com
SUMMARY:Ten Fe with Madison Malone
DESCRIPTION:%3ca href%3d%22https%3a//www.troubadour.com%22 target%3d%22_blank%22%3ehttps%3a//www.troubadour.com%3c/a%3eDesignHTMLWords: 1   Characters: 23
URL:https://www.discoverhollywood.com/event/ten-fe-with-madison-malone/
LOCATION:Troubadour\, 9081 Santa Monica Blvd.\, Hollywood\, California
END:VEVENT
BEGIN:VEVENT
DTSTART;TZID=Asia/Kolkata:19760620T000000
DTEND;TZID=Asia/Kolkata:19760620T000000
DTSTAMP:20260420T000053
CREATED:20250715T105604Z
LAST-MODIFIED:20250715T105604Z
UID:10012947-204076800-204076800@www.discoverhollywood.com
SUMMARY:Tender
DESCRIPTION:%3ca href%3d%22https%3a//www.troubadour.com/%22 target%3d%22_blank%22%3ehttps%3a//www.troubadour.com/%3c/a%3eDesignHTMLWords: 1   Characters: 24
URL:https://www.discoverhollywood.com/event/tender/
LOCATION:Troubadour\, 9081 Santa Monica Blvd.\, Hollywood\, California
END:VEVENT
BEGIN:VEVENT
DTSTART;TZID=Asia/Kolkata:19760617T000000
DTEND;TZID=Asia/Kolkata:19760617T000000
DTSTAMP:20260420T000053
CREATED:20250715T105647Z
LAST-MODIFIED:20250715T105647Z
UID:10012950-203817600-203817600@www.discoverhollywood.com
SUMMARY:Tennis & Matt Costa
DESCRIPTION:DesignHTMLWords: 0   Characters: 0
URL:https://www.discoverhollywood.com/event/tennis-matt-costa/
LOCATION:Troubadour\, 9081 Santa Monica Blvd.\, Hollywood\, California
END:VEVENT
BEGIN:VEVENT
DTSTART;TZID=Asia/Kolkata:19760607T000000
DTEND;TZID=Asia/Kolkata:19760607T000000
DTSTAMP:20260420T000053
CREATED:20250715T105847Z
LAST-MODIFIED:20250715T105847Z
UID:10012960-202953600-202953600@www.discoverhollywood.com
SUMMARY:Terra Naomi
DESCRIPTION:%3cbr%3eDesignHTMLWords: 0   Characters: 0
URL:https://www.discoverhollywood.com/event/terra-naomi/
LOCATION:Troubadour\, 9081 Santa Monica Blvd.\, Hollywood\, California
END:VEVENT
BEGIN:VEVENT
DTSTART;TZID=Asia/Kolkata:19760530T000000
DTEND;TZID=Asia/Kolkata:19760530T000000
DTSTAMP:20260420T000053
CREATED:20250715T110007Z
LAST-MODIFIED:20250715T110007Z
UID:10012968-202262400-202262400@www.discoverhollywood.com
SUMMARY:Tessa Violet
DESCRIPTION:DesignHTMLWords: 0   Characters: 0
URL:https://www.discoverhollywood.com/event/tessa-violet/
LOCATION:Troubadour\, 9081 Santa Monica Blvd.\, Hollywood\, California
END:VEVENT
BEGIN:VEVENT
DTSTART;TZID=Asia/Kolkata:19760529T000000
DTEND;TZID=Asia/Kolkata:19760529T000000
DTSTAMP:20260420T000053
CREATED:20250715T110048Z
LAST-MODIFIED:20250715T110048Z
UID:10012969-202176000-202176000@www.discoverhollywood.com
SUMMARY:TesseracT
DESCRIPTION:%3cbr%3eDesignHTMLWords: 0   Characters: 0
URL:https://www.discoverhollywood.com/event/tesseract/
LOCATION:Troubadour\, 9081 Santa Monica Blvd.\, Hollywood\, California
END:VEVENT
BEGIN:VEVENT
DTSTART;TZID=Asia/Kolkata:19760526T000000
DTEND;TZID=Asia/Kolkata:19760526T000000
DTSTAMP:20260420T000053
CREATED:20250715T110048Z
LAST-MODIFIED:20250715T110048Z
UID:10012972-201916800-201916800@www.discoverhollywood.com
SUMMARY:Test Stan
DESCRIPTION:%3cbr%3eDesignHTMLWords: 0   Characters: 0
URL:https://www.discoverhollywood.com/event/test-stan/
LOCATION:Troubadour\, 9081 Santa Monica Blvd.\, Hollywood\, California
END:VEVENT
BEGIN:VEVENT
DTSTART;TZID=Asia/Kolkata:19760430T000000
DTEND;TZID=Asia/Kolkata:19760430T000000
DTSTAMP:20260420T000053
CREATED:20250715T110218Z
LAST-MODIFIED:20250715T110218Z
UID:10012998-199670400-199670400@www.discoverhollywood.com
SUMMARY:Thatwasthen
DESCRIPTION:DesignHTMLWords: 0   Characters: 0
URL:https://www.discoverhollywood.com/event/thatwasthen/
LOCATION:Troubadour\, 9081 Santa Monica Blvd.\, Hollywood\, California
END:VEVENT
END:VCALENDAR