BEGIN:VCALENDAR
VERSION:2.0
PRODID:-//Discover Hollywood Magazine - ECPv6.15.17//NONSGML v1.0//EN
CALSCALE:GREGORIAN
METHOD:PUBLISH
X-ORIGINAL-URL:https://www.discoverhollywood.com
X-WR-CALDESC:Events for Discover Hollywood Magazine
REFRESH-INTERVAL;VALUE=DURATION:PT1H
X-Robots-Tag:noindex
X-PUBLISHED-TTL:PT1H
BEGIN:VTIMEZONE
TZID:Asia/Kolkata
BEGIN:STANDARD
TZOFFSETFROM:+0530
TZOFFSETTO:+0530
TZNAME:IST
DTSTART:19720101T000000
END:STANDARD
END:VTIMEZONE
BEGIN:VEVENT
DTSTART;TZID=Asia/Kolkata:19750924T000000
DTEND;TZID=Asia/Kolkata:19750924T000000
DTSTAMP:20260421T222223
CREATED:20250715T115230Z
LAST-MODIFIED:20250715T115230Z
UID:10013217-180748800-180748800@www.discoverhollywood.com
SUMMARY:The BoDeans
DESCRIPTION:DesignHTMLWords: 0   Characters: 0
URL:https://www.discoverhollywood.com/event/the-bodeans/
LOCATION:Troubadour\, 9081 Santa Monica Blvd.\, Hollywood\, California
END:VEVENT
BEGIN:VEVENT
DTSTART;TZID=Asia/Kolkata:19750812T000000
DTEND;TZID=Asia/Kolkata:19750812T000000
DTSTAMP:20260421T222223
CREATED:20250715T115338Z
LAST-MODIFIED:20250715T115338Z
UID:10013260-177033600-177033600@www.discoverhollywood.com
SUMMARY:The Cactus Blossoms
DESCRIPTION:%3ca href%3d%22https%3a//www.troubadour.com%22 target%3d%22_blank%22%3ehttps%3a//www.troubadour.com%3c/a%3eDesignHTMLWords: 1   Characters: 23
URL:https://www.discoverhollywood.com/event/the-cactus-blossoms/
LOCATION:Troubadour\, 9081 Santa Monica Blvd.\, Hollywood\, California
END:VEVENT
BEGIN:VEVENT
DTSTART;TZID=Asia/Kolkata:19750811T000000
DTEND;TZID=Asia/Kolkata:19750811T000000
DTSTAMP:20260421T222223
CREATED:20250715T115338Z
LAST-MODIFIED:20250715T115338Z
UID:10013261-176947200-176947200@www.discoverhollywood.com
SUMMARY:The Cadillac Three
DESCRIPTION:%3ca href%3d%22https%3a//www.troubadour.com/event/1881995-cadillac-three-los-angeles/%22%3ehttps%3a//www.troubadour.com/event/1881995-cadillac-three-los-angeles/%3c/a%3eDesignHTMLWords: 1   Characters: 61
URL:https://www.discoverhollywood.com/event/the-cadillac-three/
LOCATION:Troubadour\, 9081 Santa Monica Blvd.\, Hollywood\, California
END:VEVENT
BEGIN:VEVENT
DTSTART;TZID=Asia/Kolkata:19750809T000000
DTEND;TZID=Asia/Kolkata:19750809T000000
DTSTAMP:20260421T222223
CREATED:20250715T115338Z
LAST-MODIFIED:20250715T115338Z
UID:10013263-176774400-176774400@www.discoverhollywood.com
SUMMARY:The California Honeydrops
DESCRIPTION:DesignHTMLWords: 0   Characters: 0
URL:https://www.discoverhollywood.com/event/the-california-honeydrops/
LOCATION:Troubadour\, 9081 Santa Monica Blvd.\, Hollywood\, California
END:VEVENT
BEGIN:VEVENT
DTSTART;TZID=Asia/Kolkata:19741230T000000
DTEND;TZID=Asia/Kolkata:19741230T000000
DTSTAMP:20260421T222223
CREATED:20250715T120037Z
LAST-MODIFIED:20250715T120037Z
UID:10013310-157593600-157593600@www.discoverhollywood.com
SUMMARY:The Falcon
DESCRIPTION:%3cbr%3eDesignHTMLWords: 0   Characters: 0
URL:https://www.discoverhollywood.com/event/the-falcon/
LOCATION:Troubadour\, 9081 Santa Monica Blvd.\, Hollywood\, California
END:VEVENT
BEGIN:VEVENT
DTSTART;TZID=Asia/Kolkata:19741128T000000
DTEND;TZID=Asia/Kolkata:19741128T000000
DTSTAMP:20260421T222223
CREATED:20250715T120404Z
LAST-MODIFIED:20250715T120404Z
UID:10013332-154828800-154828800@www.discoverhollywood.com
SUMMARY:The Forest Rangers
DESCRIPTION:%3cimg title%3d%22The Forest Rangers%22 alt%3d%22The Forest Rangers%22 src%3d%22http%3a//cdn.ticketfly.com/i/00/01/27/85/19-atlg.jpeg%22 height%3d%22400%22 width%3d%22300%22%3eDesignHTMLWords: 0   Characters: 0
URL:https://www.discoverhollywood.com/event/the-forest-rangers/
LOCATION:Troubadour\, 9081 Santa Monica Blvd.\, Hollywood\, California
END:VEVENT
BEGIN:VEVENT
DTSTART;TZID=Asia/Kolkata:19741112T000000
DTEND;TZID=Asia/Kolkata:19741112T000000
DTSTAMP:20260421T222223
CREATED:20250715T120429Z
LAST-MODIFIED:20250715T120429Z
UID:10013348-153446400-153446400@www.discoverhollywood.com
SUMMARY:The Freeks
DESCRIPTION:%3cbr%3eDesignHTMLWords: 0   Characters: 0
URL:https://www.discoverhollywood.com/event/the-freeks/
LOCATION:Troubadour\, 9081 Santa Monica Blvd.\, Hollywood\, California
END:VEVENT
BEGIN:VEVENT
DTSTART;TZID=Asia/Kolkata:19741105T000000
DTEND;TZID=Asia/Kolkata:19741105T000000
DTSTAMP:20260421T222223
CREATED:20250715T120445Z
LAST-MODIFIED:20250715T120445Z
UID:10013355-152841600-152841600@www.discoverhollywood.com
SUMMARY:The Front Bottoms
DESCRIPTION:DesignHTMLWords: 0   Characters: 0
URL:https://www.discoverhollywood.com/event/the-front-bottoms/
LOCATION:Troubadour\, 9081 Santa Monica Blvd.\, Hollywood\, California
END:VEVENT
BEGIN:VEVENT
DTSTART;TZID=Asia/Kolkata:19741027T000000
DTEND;TZID=Asia/Kolkata:19741027T000000
DTSTAMP:20260421T222223
CREATED:20250715T120505Z
LAST-MODIFIED:20250715T120505Z
UID:10013364-152064000-152064000@www.discoverhollywood.com
SUMMARY:The Futures League\, Reignwolf
DESCRIPTION:%3cbr%3eDesignHTMLWords: 0   Characters: 0
URL:https://www.discoverhollywood.com/event/the-futures-league-reignwolf/
LOCATION:Troubadour\, 9081 Santa Monica Blvd.\, Hollywood\, California
END:VEVENT
BEGIN:VEVENT
DTSTART;TZID=Asia/Kolkata:19740902T000000
DTEND;TZID=Asia/Kolkata:19740902T000000
DTSTAMP:20260421T222223
CREATED:20250715T121307Z
LAST-MODIFIED:20250715T121307Z
UID:10013419-147312000-147312000@www.discoverhollywood.com
SUMMARY:The Good Life
DESCRIPTION:%3cbr%3eDesignHTMLWords: 0   Characters: 0
URL:https://www.discoverhollywood.com/event/the-good-life/
LOCATION:Troubadour\, 9081 Santa Monica Blvd.\, Hollywood\, California
END:VEVENT
BEGIN:VEVENT
DTSTART;TZID=Asia/Kolkata:19740815T000000
DTEND;TZID=Asia/Kolkata:19740815T000000
DTSTAMP:20260421T222223
CREATED:20250715T121335Z
LAST-MODIFIED:20250715T121335Z
UID:10013437-145756800-145756800@www.discoverhollywood.com
SUMMARY:The Griswolds
DESCRIPTION:%3cstrong%3e%3cbr%3e%3c/strong%3eDesignHTMLWords: 0   Characters: 0
URL:https://www.discoverhollywood.com/event/the-griswolds/
LOCATION:Troubadour\, 9081 Santa Monica Blvd.\, Hollywood\, California
END:VEVENT
BEGIN:VEVENT
DTSTART;TZID=Asia/Kolkata:19740617T000000
DTEND;TZID=Asia/Kolkata:19740617T000000
DTSTAMP:20260421T222223
CREATED:20250715T122240Z
LAST-MODIFIED:20250715T122240Z
UID:10013496-140659200-140659200@www.discoverhollywood.com
SUMMARY:The Honorary Title
DESCRIPTION:%3cp%3eCelebrating 15 year anniversary of their self titled EP and playing Anything But The Truth in it%27s entirety%3c/p%3e\n%3cspan style%3d%22display%3ainline %21important%3b float%3anone%3b background-color%3atransparent%3b color%3argb%2843%2c 52%2c 57%29%3b font-family%3aAkkurat-Pro%2csans-serif%3b font-size%3a11px%3b font-size-adjust%3anone%3b font-stretch%3anormal%3b font-style%3anormal%3b font-variant%3anormal%3b font-weight%3a400%3b letter-spacing%3anormal%3b line-height%3a16.5px%3b orphans%3a2%3b text-align%3aleft%3b text-decoration%3anone%3b text-indent%3a0px%3b text-transform%3anone%3b -webkitDesignHTMLWords: 18   Characters: 106
URL:https://www.discoverhollywood.com/event/the-honorary-title/
LOCATION:Troubadour\, 9081 Santa Monica Blvd.\, Hollywood\, California
END:VEVENT
BEGIN:VEVENT
DTSTART;TZID=Asia/Kolkata:19740601T000000
DTEND;TZID=Asia/Kolkata:19740601T000000
DTSTAMP:20260421T222223
CREATED:20250715T122259Z
LAST-MODIFIED:20250715T122259Z
UID:10013512-139276800-139276800@www.discoverhollywood.com
SUMMARY:The Hush Sound
DESCRIPTION:%3ch1 class%3d%22headliners summary%22%3e\n	%3ca class%3d%22url%22 href%3d%22http%3a//www.troubadour.com/event/1147851-hush-sound-10-year-los-angeles/%22%3e10 Year Anniversary Tour %3c/a%3e\n%3c/h1%3eDesignHTMLWords: 4   Characters: 24
URL:https://www.discoverhollywood.com/event/the-hush-sound/
LOCATION:Troubadour\, 9081 Santa Monica Blvd.\, Hollywood\, California
END:VEVENT
BEGIN:VEVENT
DTSTART;TZID=Asia/Kolkata:19740521T000000
DTEND;TZID=Asia/Kolkata:19740521T000000
DTSTAMP:20260421T222223
CREATED:20250715T122316Z
LAST-MODIFIED:20250715T122316Z
UID:10013523-138326400-138326400@www.discoverhollywood.com
SUMMARY:The Infamous Stringdusters
DESCRIPTION:%3ca href%3d%22https%3a//www.troubadour.com/%22 target%3d%22_blank%22%3ehttps%3a//www.troubadour.com/%3c/a%3eDesignHTMLWords: 1   Characters: 24
URL:https://www.discoverhollywood.com/event/the-infamous-stringdusters/
LOCATION:Troubadour\, 9081 Santa Monica Blvd.\, Hollywood\, California
END:VEVENT
BEGIN:VEVENT
DTSTART;TZID=Asia/Kolkata:19740430T000000
DTEND;TZID=Asia/Kolkata:19740430T000000
DTSTAMP:20260421T222223
CREATED:20250715T122532Z
LAST-MODIFIED:20250715T122532Z
UID:10013544-136512000-136512000@www.discoverhollywood.com
SUMMARY:The Jacks
DESCRIPTION:%3ca href%3d%22https%3a//www.troubadour.com/calendar/%22%3ehttps%3a//www.troubadour.com/calendar/%3c/a%3eDesignHTMLWords: 1   Characters: 33
URL:https://www.discoverhollywood.com/event/the-jacks/
LOCATION:Troubadour\, 9081 Santa Monica Blvd.\, Hollywood\, California
END:VEVENT
BEGIN:VEVENT
DTSTART;TZID=Asia/Kolkata:19740416T000000
DTEND;TZID=Asia/Kolkata:19740416T000000
DTSTAMP:20260421T222223
CREATED:20250715T122733Z
LAST-MODIFIED:20250715T122733Z
UID:10013558-135302400-135302400@www.discoverhollywood.com
SUMMARY:The Jezabels with Benjamin Francis Leftwich
DESCRIPTION:DesignHTMLWords: 0   Characters: 0
URL:https://www.discoverhollywood.com/event/the-jezabels-with-benjamin-francis-leftwich/
LOCATION:Troubadour\, 9081 Santa Monica Blvd.\, Hollywood\, California
END:VEVENT
BEGIN:VEVENT
DTSTART;TZID=Asia/Kolkata:19740327T000000
DTEND;TZID=Asia/Kolkata:19740327T000000
DTSTAMP:20260421T222223
CREATED:20250715T124624Z
LAST-MODIFIED:20250715T124624Z
UID:10013578-133574400-133574400@www.discoverhollywood.com
SUMMARY:The Kin
DESCRIPTION:DesignHTMLWords: 0   Characters: 0
URL:https://www.discoverhollywood.com/event/the-kin/
LOCATION:Troubadour\, 9081 Santa Monica Blvd.\, Hollywood\, California
END:VEVENT
BEGIN:VEVENT
DTSTART;TZID=Asia/Kolkata:19731215T000000
DTEND;TZID=Asia/Kolkata:19731215T000000
DTSTAMP:20260421T222223
CREATED:20250715T124847Z
LAST-MODIFIED:20250715T124847Z
UID:10013680-124761600-124761600@www.discoverhollywood.com
SUMMARY:The Loved Ones
DESCRIPTION:DesignHTMLWords: 0   Characters: 0
URL:https://www.discoverhollywood.com/event/the-loved-ones/
LOCATION:Troubadour\, 9081 Santa Monica Blvd.\, Hollywood\, California
END:VEVENT
BEGIN:VEVENT
DTSTART;TZID=Asia/Kolkata:19731212T000000
DTEND;TZID=Asia/Kolkata:19731212T000000
DTSTAMP:20260421T222223
CREATED:20250715T124847Z
LAST-MODIFIED:20250715T124847Z
UID:10013683-124502400-124502400@www.discoverhollywood.com
SUMMARY:The Lucky Lonely
DESCRIPTION:%3cbr%3eDesignHTMLWords: 0   Characters: 0
URL:https://www.discoverhollywood.com/event/the-lucky-lonely/
LOCATION:Troubadour\, 9081 Santa Monica Blvd.\, Hollywood\, California
END:VEVENT
BEGIN:VEVENT
DTSTART;TZID=Asia/Kolkata:19731207T000000
DTEND;TZID=Asia/Kolkata:19731207T000000
DTSTAMP:20260421T222223
CREATED:20250715T124855Z
LAST-MODIFIED:20250715T124855Z
UID:10013688-124070400-124070400@www.discoverhollywood.com
SUMMARY:The Maccabees
DESCRIPTION:%3cbr%3eDesignHTMLWords: 0   Characters: 0
URL:https://www.discoverhollywood.com/event/the-maccabees/
LOCATION:Troubadour\, 9081 Santa Monica Blvd.\, Hollywood\, California
END:VEVENT
BEGIN:VEVENT
DTSTART;TZID=Asia/Kolkata:19731204T000000
DTEND;TZID=Asia/Kolkata:19731204T000000
DTSTAMP:20260421T222223
CREATED:20250715T124905Z
LAST-MODIFIED:20250715T124905Z
UID:10013691-123811200-123811200@www.discoverhollywood.com
SUMMARY:The MAGIC BAND
DESCRIPTION:DesignHTMLWords: 0   Characters: 0
URL:https://www.discoverhollywood.com/event/the-magic-band/
LOCATION:Troubadour\, 9081 Santa Monica Blvd.\, Hollywood\, California
END:VEVENT
BEGIN:VEVENT
DTSTART;TZID=Asia/Kolkata:19731127T000000
DTEND;TZID=Asia/Kolkata:19731127T000000
DTSTAMP:20260421T222223
CREATED:20250715T124916Z
LAST-MODIFIED:20250715T124916Z
UID:10013698-123206400-123206400@www.discoverhollywood.com
SUMMARY:The Maine
DESCRIPTION:%3cbr%3eDesignHTMLWords: 0   Characters: 0
URL:https://www.discoverhollywood.com/event/the-maine/
LOCATION:Troubadour\, 9081 Santa Monica Blvd.\, Hollywood\, California
END:VEVENT
BEGIN:VEVENT
DTSTART;TZID=Asia/Kolkata:19731031T000000
DTEND;TZID=Asia/Kolkata:19731031T000000
DTSTAMP:20260421T222223
CREATED:20250715T125006Z
LAST-MODIFIED:20250715T125006Z
UID:10013725-120873600-120873600@www.discoverhollywood.com
SUMMARY:The Melvins
DESCRIPTION:%3cbr%3eDesignHTMLWords: 0   Characters: 0
URL:https://www.discoverhollywood.com/event/the-melvins/
LOCATION:Troubadour\, 9081 Santa Monica Blvd.\, Hollywood\, California
END:VEVENT
BEGIN:VEVENT
DTSTART;TZID=Asia/Kolkata:19731030T000000
DTEND;TZID=Asia/Kolkata:19731030T000000
DTSTAMP:20260421T222223
CREATED:20250715T125006Z
LAST-MODIFIED:20250715T125006Z
UID:10013726-120787200-120787200@www.discoverhollywood.com
SUMMARY:The Melvins
DESCRIPTION:%3cbr%3eDesignHTMLWords: 0   Characters: 0
URL:https://www.discoverhollywood.com/event/the-melvins-2/
LOCATION:Troubadour\, 9081 Santa Monica Blvd.\, Hollywood\, California
END:VEVENT
BEGIN:VEVENT
DTSTART;TZID=Asia/Kolkata:19731029T000000
DTEND;TZID=Asia/Kolkata:19731029T000000
DTSTAMP:20260421T222223
CREATED:20250715T125006Z
LAST-MODIFIED:20250715T125006Z
UID:10013727-120700800-120700800@www.discoverhollywood.com
SUMMARY:The Melvins
DESCRIPTION:DesignHTMLWords: 0   Characters: 0
URL:https://www.discoverhollywood.com/event/the-melvins-3/
LOCATION:Troubadour\, 9081 Santa Monica Blvd.\, Hollywood\, California
END:VEVENT
BEGIN:VEVENT
DTSTART;TZID=Asia/Kolkata:19731028T000000
DTEND;TZID=Asia/Kolkata:19731028T000000
DTSTAMP:20260421T222223
CREATED:20250715T125006Z
LAST-MODIFIED:20250715T125006Z
UID:10013728-120614400-120614400@www.discoverhollywood.com
SUMMARY:The Melvins with Unsane
DESCRIPTION:DesignHTMLWords: 0   Characters: 0
URL:https://www.discoverhollywood.com/event/the-melvins-with-unsane/
LOCATION:Troubadour\, 9081 Santa Monica Blvd.\, Hollywood\, California
END:VEVENT
BEGIN:VEVENT
DTSTART;TZID=Asia/Kolkata:19730920T000000
DTEND;TZID=Asia/Kolkata:19730920T000000
DTSTAMP:20260421T222223
CREATED:20250715T125130Z
LAST-MODIFIED:20250715T125130Z
UID:10013766-117331200-117331200@www.discoverhollywood.com
SUMMARY:The Moth & The Flame
DESCRIPTION:%3cbr%3eDesignHTMLWords: 0   Characters: 0
URL:https://www.discoverhollywood.com/event/the-moth-the-flame/
LOCATION:Troubadour\, 9081 Santa Monica Blvd.\, Hollywood\, California
END:VEVENT
BEGIN:VEVENT
DTSTART;TZID=Asia/Kolkata:19730918T000000
DTEND;TZID=Asia/Kolkata:19730918T000000
DTSTAMP:20260421T222223
CREATED:20250715T125130Z
LAST-MODIFIED:20250715T125130Z
UID:10013768-117158400-117158400@www.discoverhollywood.com
SUMMARY:The Mother Hips
DESCRIPTION:%3cbr%3eDesignHTMLWords: 0   Characters: 0
URL:https://www.discoverhollywood.com/event/the-mother-hips/
LOCATION:Troubadour\, 9081 Santa Monica Blvd.\, Hollywood\, California
END:VEVENT
BEGIN:VEVENT
DTSTART;TZID=Asia/Kolkata:19730909T000000
DTEND;TZID=Asia/Kolkata:19730909T000000
DTSTAMP:20260421T222223
CREATED:20250715T125145Z
LAST-MODIFIED:20250715T125145Z
UID:10013777-116380800-116380800@www.discoverhollywood.com
SUMMARY:The Mowgli's
DESCRIPTION:%3cbr%3eDesignHTMLWords: 0   Characters: 0
URL:https://www.discoverhollywood.com/event/the-mowglis/
LOCATION:Troubadour\, 9081 Santa Monica Blvd.\, Hollywood\, California
END:VEVENT
BEGIN:VEVENT
DTSTART;TZID=Asia/Kolkata:19730908T000000
DTEND;TZID=Asia/Kolkata:19730908T000000
DTSTAMP:20260421T222223
CREATED:20250715T125145Z
LAST-MODIFIED:20250715T125145Z
UID:10013778-116294400-116294400@www.discoverhollywood.com
SUMMARY:The Mowgli's
DESCRIPTION:DesignHTMLWords: 0   Characters: 0
URL:https://www.discoverhollywood.com/event/the-mowglis-2/
LOCATION:Troubadour\, 9081 Santa Monica Blvd.\, Hollywood\, California
END:VEVENT
END:VCALENDAR