BEGIN:VCALENDAR
VERSION:2.0
PRODID:-//Discover Hollywood Magazine - ECPv6.15.17//NONSGML v1.0//EN
CALSCALE:GREGORIAN
METHOD:PUBLISH
X-WR-CALNAME:Discover Hollywood Magazine
X-ORIGINAL-URL:https://www.discoverhollywood.com
X-WR-CALDESC:Events for Discover Hollywood Magazine
REFRESH-INTERVAL;VALUE=DURATION:PT1H
X-Robots-Tag:noindex
X-PUBLISHED-TTL:PT1H
BEGIN:VTIMEZONE
TZID:Asia/Kolkata
BEGIN:STANDARD
TZOFFSETFROM:+0530
TZOFFSETTO:+0530
TZNAME:IST
DTSTART:19690101T000000
END:STANDARD
END:VTIMEZONE
BEGIN:VEVENT
DTSTART;TZID=Asia/Kolkata:19720331T000000
DTEND;TZID=Asia/Kolkata:19720331T000000
DTSTAMP:20260422T064339
CREATED:20250716T060741Z
LAST-MODIFIED:20250716T060741Z
UID:10014304-70848000-70848000@www.discoverhollywood.com
SUMMARY:The Wind + the Wave
DESCRIPTION:DesignHTMLWords: 0   Characters: 0
URL:https://www.discoverhollywood.com/event/the-wind-the-wave/
LOCATION:Troubadour\, 9081 Santa Monica Blvd.\, Hollywood\, California
END:VEVENT
BEGIN:VEVENT
DTSTART;TZID=Asia/Kolkata:19720330T000000
DTEND;TZID=Asia/Kolkata:19720330T000000
DTSTAMP:20260422T064339
CREATED:20250716T060741Z
LAST-MODIFIED:20250716T060741Z
UID:10014305-70761600-70761600@www.discoverhollywood.com
SUMMARY:The Winehouse Experience
DESCRIPTION:%3ca href%3d%22https%3a//www.troubadour.com%22 target%3d%22_blank%22%3ehttps%3a//www.troubadour.com%3c/a%3eDesignHTMLWords: 1   Characters: 23
URL:https://www.discoverhollywood.com/event/the-winehouse-experience/
LOCATION:Troubadour\, 9081 Santa Monica Blvd.\, Hollywood\, California
END:VEVENT
BEGIN:VEVENT
DTSTART;TZID=Asia/Kolkata:19720320T000000
DTEND;TZID=Asia/Kolkata:19720320T000000
DTSTAMP:20260422T064339
CREATED:20250716T060752Z
LAST-MODIFIED:20250716T060752Z
UID:10014315-69897600-69897600@www.discoverhollywood.com
SUMMARY:The Wonder Years
DESCRIPTION:with Polar Bear Club%2c Transit%2c The Story So Far%2c and Into It Over ItDesignHTMLWords: 14   Characters: 65
URL:https://www.discoverhollywood.com/event/the-wonder-years/
LOCATION:Troubadour\, 9081 Santa Monica Blvd.\, Hollywood\, California
END:VEVENT
BEGIN:VEVENT
DTSTART;TZID=Asia/Kolkata:19720318T000000
DTEND;TZID=Asia/Kolkata:19720318T000000
DTSTAMP:20260422T064339
CREATED:20250716T060752Z
LAST-MODIFIED:20250716T060752Z
UID:10014317-69724800-69724800@www.discoverhollywood.com
SUMMARY:The Wood Brothers
DESCRIPTION:%3cbr%3eDesignHTMLWords: 0   Characters: 0
URL:https://www.discoverhollywood.com/event/the-wood-brothers/
LOCATION:Troubadour\, 9081 Santa Monica Blvd.\, Hollywood\, California
END:VEVENT
BEGIN:VEVENT
DTSTART;TZID=Asia/Kolkata:19720220T000000
DTEND;TZID=Asia/Kolkata:19720220T000000
DTSTAMP:20260422T064339
CREATED:20250716T060853Z
LAST-MODIFIED:20250716T060853Z
UID:10014344-67392000-67392000@www.discoverhollywood.com
SUMMARY:The Zeros
DESCRIPTION:DesignHTMLWords: 0   Characters: 0
URL:https://www.discoverhollywood.com/event/the-zeros/
LOCATION:Troubadour\, 9081 Santa Monica Blvd.\, Hollywood\, California
END:VEVENT
BEGIN:VEVENT
DTSTART;TZID=Asia/Kolkata:19720212T000000
DTEND;TZID=Asia/Kolkata:19720212T000000
DTSTAMP:20260422T064339
CREATED:20250716T061012Z
LAST-MODIFIED:20250716T061012Z
UID:10014352-66700800-66700800@www.discoverhollywood.com
SUMMARY:Thee Silver Mt. Zion Memorial Orchestra
DESCRIPTION:DesignHTMLWords: 0   Characters: 0
URL:https://www.discoverhollywood.com/event/thee-silver-mt-zion-memorial-orchestra/
LOCATION:Troubadour\, 9081 Santa Monica Blvd.\, Hollywood\, California
END:VEVENT
BEGIN:VEVENT
DTSTART;TZID=Asia/Kolkata:19720205T000000
DTEND;TZID=Asia/Kolkata:19720205T000000
DTSTAMP:20260422T064339
CREATED:20250716T061117Z
LAST-MODIFIED:20250716T061117Z
UID:10014359-66096000-66096000@www.discoverhollywood.com
SUMMARY:Theo Katzman / Joey Dosik
DESCRIPTION:%3cbr%3eDesignHTMLWords: 0   Characters: 0
URL:https://www.discoverhollywood.com/event/theo-katzman-joey-dosik/
LOCATION:Troubadour\, 9081 Santa Monica Blvd.\, Hollywood\, California
END:VEVENT
BEGIN:VEVENT
DTSTART;TZID=Asia/Kolkata:19720128T000000
DTEND;TZID=Asia/Kolkata:19720128T000000
DTSTAMP:20260422T064339
CREATED:20250716T061128Z
LAST-MODIFIED:20250716T061128Z
UID:10014367-65404800-65404800@www.discoverhollywood.com
SUMMARY:Theresa Andersson
DESCRIPTION:DesignHTMLWords: 0   Characters: 0
URL:https://www.discoverhollywood.com/event/theresa-andersson/
LOCATION:Troubadour\, 9081 Santa Monica Blvd.\, Hollywood\, California
END:VEVENT
BEGIN:VEVENT
DTSTART;TZID=Asia/Kolkata:19711203T000000
DTEND;TZID=Asia/Kolkata:19711203T000000
DTSTAMP:20260422T064339
CREATED:20250716T061559Z
LAST-MODIFIED:20250716T061559Z
UID:10014423-60566400-60566400@www.discoverhollywood.com
SUMMARY:THREE OF CLUBS: Flagship\, Little Daylight and Terraplane Sun
DESCRIPTION:DesignHTMLWords: 0   Characters: 0
URL:https://www.discoverhollywood.com/event/three-of-clubs-flagship-little-daylight-and-terraplane-sun/
LOCATION:Troubadour\, 9081 Santa Monica Blvd.\, Hollywood\, California
END:VEVENT
BEGIN:VEVENT
DTSTART;TZID=Asia/Kolkata:19710620T000000
DTEND;TZID=Asia/Kolkata:19710620T000000
DTSTAMP:20260422T064339
CREATED:20250716T065929Z
LAST-MODIFIED:20250716T065929Z
UID:10014569-46224000-46224000@www.discoverhollywood.com
SUMMARY:TONE DOWN FOR WHAT
DESCRIPTION:%3cbr%3eDesignHTMLWords: 0   Characters: 0
URL:https://www.discoverhollywood.com/event/tone-down-for-what/
LOCATION:Troubadour\, 9081 Santa Monica Blvd.\, Hollywood\, California
END:VEVENT
BEGIN:VEVENT
DTSTART;TZID=Asia/Kolkata:19710610T000000
DTEND;TZID=Asia/Kolkata:19710610T000000
DTSTAMP:20260422T064339
CREATED:20250716T065943Z
LAST-MODIFIED:20250716T065943Z
UID:10014579-45360000-45360000@www.discoverhollywood.com
SUMMARY:Tony Ferrari
DESCRIPTION:DesignHTMLWords: 0   Characters: 0
URL:https://www.discoverhollywood.com/event/tony-ferrari/
LOCATION:Troubadour\, 9081 Santa Monica Blvd.\, Hollywood\, California
END:VEVENT
BEGIN:VEVENT
DTSTART;TZID=Asia/Kolkata:19710603T000000
DTEND;TZID=Asia/Kolkata:19710603T000000
DTSTAMP:20260422T064339
CREATED:20250716T065954Z
LAST-MODIFIED:20250716T065954Z
UID:10014586-44755200-44755200@www.discoverhollywood.com
SUMMARY:Too Many Zooz
DESCRIPTION:%3cbr%3eDesignHTMLWords: 0   Characters: 0
URL:https://www.discoverhollywood.com/event/too-many-zooz/
LOCATION:Troubadour\, 9081 Santa Monica Blvd.\, Hollywood\, California
END:VEVENT
BEGIN:VEVENT
DTSTART;TZID=Asia/Kolkata:19710328T000000
DTEND;TZID=Asia/Kolkata:19710328T000000
DTSTAMP:20260422T064339
CREATED:20250716T070627Z
LAST-MODIFIED:20250716T070627Z
UID:10014653-38966400-38966400@www.discoverhollywood.com
SUMMARY:TRAIN Performs Led Zeppelin II
DESCRIPTION:%3cbr%3eDesignHTMLWords: 0   Characters: 0
URL:https://www.discoverhollywood.com/event/train-performs-led-zeppelin-ii/
LOCATION:Troubadour\, 9081 Santa Monica Blvd.\, Hollywood\, California
END:VEVENT
BEGIN:VEVENT
DTSTART;TZID=Asia/Kolkata:19710310T000000
DTEND;TZID=Asia/Kolkata:19710310T000000
DTSTAMP:20260422T064339
CREATED:20250716T070707Z
LAST-MODIFIED:20250716T070707Z
UID:10014671-37411200-37411200@www.discoverhollywood.com
SUMMARY:Trashcan Sinatras
DESCRIPTION:%3cbr%3eDesignHTMLWords: 0   Characters: 0
URL:https://www.discoverhollywood.com/event/trashcan-sinatras/
LOCATION:Troubadour\, 9081 Santa Monica Blvd.\, Hollywood\, California
END:VEVENT
BEGIN:VEVENT
DTSTART;TZID=Asia/Kolkata:19710216T000000
DTEND;TZID=Asia/Kolkata:19710216T000000
DTSTAMP:20260422T064339
CREATED:20250716T070737Z
LAST-MODIFIED:20250716T070737Z
UID:10014693-35510400-35510400@www.discoverhollywood.com
SUMMARY:Trevor Hall
DESCRIPTION:DesignHTMLWords: 0   Characters: 0
URL:https://www.discoverhollywood.com/event/trevor-hall/
LOCATION:Troubadour\, 9081 Santa Monica Blvd.\, Hollywood\, California
END:VEVENT
BEGIN:VEVENT
DTSTART;TZID=Asia/Kolkata:19710120T000000
DTEND;TZID=Asia/Kolkata:19710120T000000
DTSTAMP:20260422T064339
CREATED:20250716T070856Z
LAST-MODIFIED:20250716T070856Z
UID:10014720-33177600-33177600@www.discoverhollywood.com
SUMMARY:Trixie Whitley
DESCRIPTION:%3cbr%3eDesignHTMLWords: 0   Characters: 0
URL:https://www.discoverhollywood.com/event/trixie-whitley/
LOCATION:Troubadour\, 9081 Santa Monica Blvd.\, Hollywood\, California
END:VEVENT
BEGIN:VEVENT
DTSTART;TZID=Asia/Kolkata:20260422T064339
DTEND;TZID=Asia/Kolkata:20260422T064339
DTSTAMP:20260422T064339
CREATED:20250716T091733Z
LAST-MODIFIED:20250716T091733Z
UID:10015563-0-0@www.discoverhollywood.com
SUMMARY:Yonder Mountain String Band
DESCRIPTION:%3cbr%3eDesignHTMLWords: 0   Characters: 0
URL:https://www.discoverhollywood.com/event/yonder-mountain-string-band/
LOCATION:Troubadour\, 9081 Santa Monica Blvd.\, Hollywood\, California
END:VEVENT
BEGIN:VEVENT
DTSTART;TZID=Asia/Kolkata:20260422T064339
DTEND;TZID=Asia/Kolkata:20260422T064339
DTSTAMP:20260422T064339
CREATED:20250716T090119Z
LAST-MODIFIED:20250716T090119Z
UID:10015538-0-0@www.discoverhollywood.com
SUMMARY:Zhavia
DESCRIPTION:%3ca href%3d%22https%3a//www.troubadour.com/%22 target%3d%22_blank%22%3ehttps%3a//www.troubadour.com/%3c/a%3eDesignHTMLWords: 1   Characters: 24
URL:https://www.discoverhollywood.com/event/zhavia/
LOCATION:Troubadour\, 9081 Santa Monica Blvd.\, Hollywood\, California
END:VEVENT
BEGIN:VEVENT
DTSTART;TZID=Asia/Kolkata:20260422T064339
DTEND;TZID=Asia/Kolkata:20260422T064339
DTSTAMP:20260422T064339
CREATED:20250716T090049Z
LAST-MODIFIED:20250716T090049Z
UID:10015527-0-0@www.discoverhollywood.com
SUMMARY:Zane Carney
DESCRIPTION:DesignHTMLWords: 0   Characters: 0
URL:https://www.discoverhollywood.com/event/zane-carney/
LOCATION:Troubadour\, 9081 Santa Monica Blvd.\, Hollywood\, California
END:VEVENT
BEGIN:VEVENT
DTSTART;TZID=Asia/Kolkata:20260422T064339
DTEND;TZID=Asia/Kolkata:20260422T064339
DTSTAMP:20260422T064339
CREATED:20250716T090047Z
LAST-MODIFIED:20250716T090047Z
UID:10015521-0-0@www.discoverhollywood.com
SUMMARY:Zak Waters
DESCRIPTION:DesignHTMLWords: 0   Characters: 0
URL:https://www.discoverhollywood.com/event/zak-waters/
LOCATION:Troubadour\, 9081 Santa Monica Blvd.\, Hollywood\, California
END:VEVENT
BEGIN:VEVENT
DTSTART;TZID=Asia/Kolkata:20260422T064339
DTEND;TZID=Asia/Kolkata:20260422T064339
DTSTAMP:20260422T064339
CREATED:20250716T084713Z
LAST-MODIFIED:20250716T084713Z
UID:10015504-0-0@www.discoverhollywood.com
SUMMARY:Xyzyx
DESCRIPTION:with Elyse and the Aftermath%2c Young Beautiful in a Hurry%2c Stage 11%2c and Bella NovaDesignHTMLWords: 15   Characters: 79
URL:https://www.discoverhollywood.com/event/xyzyx/
LOCATION:Troubadour\, 9081 Santa Monica Blvd.\, Hollywood\, California
END:VEVENT
BEGIN:VEVENT
DTSTART;TZID=Asia/Kolkata:20260422T064339
DTEND;TZID=Asia/Kolkata:20260422T064339
DTSTAMP:20260422T064339
CREATED:20250716T084617Z
LAST-MODIFIED:20250716T084617Z
UID:10015501-0-0@www.discoverhollywood.com
SUMMARY:XEB (ex Original Members of Third Eye Blind)
DESCRIPTION:%3cbr%3eDesignHTMLWords: 0   Characters: 0
URL:https://www.discoverhollywood.com/event/xeb-ex-original-members-of-third-eye-blind/
LOCATION:Troubadour\, 9081 Santa Monica Blvd.\, Hollywood\, California
END:VEVENT
BEGIN:VEVENT
DTSTART;TZID=Asia/Kolkata:20260422T064339
DTEND;TZID=Asia/Kolkata:20260422T064339
DTSTAMP:20260422T064339
CREATED:20250716T084311Z
LAST-MODIFIED:20250716T091516Z
UID:10015473-0-0@www.discoverhollywood.com
SUMMARY:Wrabel & Billy Raffoul: happy people sing sad songs tour
DESCRIPTION:%3ca href%3d%22https%3a//www.troubadour.com/event/1881749-wrabel-billy-raffoul-happy-los-angeles/%22%3ehttps%3a//www.troubadour.com/event/1881749-wrabel-billy-raffoul-happy-los-angeles/%3c/a%3eDesignHTMLWords: 1   Characters: 71
URL:https://www.discoverhollywood.com/event/wrabel-billy-raffoul-happy-people-sing-sad-songs-tour/
LOCATION:Troubadour\, 9081 Santa Monica Blvd.\, Hollywood\, California
END:VEVENT
BEGIN:VEVENT
DTSTART;TZID=Asia/Kolkata:20260422T064339
DTEND;TZID=Asia/Kolkata:20260422T064339
DTSTAMP:20260422T064339
CREATED:20250716T084221Z
LAST-MODIFIED:20250716T084221Z
UID:10015467-0-0@www.discoverhollywood.com
SUMMARY:World Party
DESCRIPTION:%3cbr%3eDesignHTMLWords: 0   Characters: 0
URL:https://www.discoverhollywood.com/event/world-party/
LOCATION:Troubadour\, 9081 Santa Monica Blvd.\, Hollywood\, California
END:VEVENT
BEGIN:VEVENT
DTSTART;TZID=Asia/Kolkata:20260422T064339
DTEND;TZID=Asia/Kolkata:20260422T064339
DTSTAMP:20260422T064339
CREATED:20250716T083838Z
LAST-MODIFIED:20250716T091242Z
UID:10015415-0-0@www.discoverhollywood.com
SUMMARY:With Confidence & Broadside
DESCRIPTION:DesignHTMLWords: 0   Characters: 0
URL:https://www.discoverhollywood.com/event/with-confidence-broadside/
LOCATION:Troubadour\, 9081 Santa Monica Blvd.\, Hollywood\, California
END:VEVENT
BEGIN:VEVENT
DTSTART;TZID=Asia/Kolkata:20260422T064339
DTEND;TZID=Asia/Kolkata:20260422T064339
DTSTAMP:20260422T064339
CREATED:20250716T083735Z
LAST-MODIFIED:20250716T083735Z
UID:10015381-0-0@www.discoverhollywood.com
SUMMARY:William Singe
DESCRIPTION:DesignHTMLWords: 0   Characters: 0
URL:https://www.discoverhollywood.com/event/william-singe/
LOCATION:Troubadour\, 9081 Santa Monica Blvd.\, Hollywood\, California
END:VEVENT
BEGIN:VEVENT
DTSTART;TZID=Asia/Kolkata:20260422T064339
DTEND;TZID=Asia/Kolkata:20260422T064339
DTSTAMP:20260422T064339
CREATED:20250716T083720Z
LAST-MODIFIED:20250716T083720Z
UID:10015372-0-0@www.discoverhollywood.com
SUMMARY:Will Kimbrough
DESCRIPTION:%3cbr%3eDesignHTMLWords: 0   Characters: 0
URL:https://www.discoverhollywood.com/event/will-kimbrough/
LOCATION:Troubadour\, 9081 Santa Monica Blvd.\, Hollywood\, California
END:VEVENT
BEGIN:VEVENT
DTSTART;TZID=Asia/Kolkata:20260422T064339
DTEND;TZID=Asia/Kolkata:20260422T064339
DTSTAMP:20260422T064339
CREATED:20250716T083720Z
LAST-MODIFIED:20250716T083720Z
UID:10015375-0-0@www.discoverhollywood.com
SUMMARY:William Fitzsimmons
DESCRIPTION:%3cbr%3eDesignHTMLWords: 0   Characters: 0
URL:https://www.discoverhollywood.com/event/william-fitzsimmons/
LOCATION:Troubadour\, 9081 Santa Monica Blvd.\, Hollywood\, California
END:VEVENT
BEGIN:VEVENT
DTSTART;TZID=Asia/Kolkata:20260422T064339
DTEND;TZID=Asia/Kolkata:20260422T064339
DTSTAMP:20260422T064339
CREATED:20250716T083720Z
LAST-MODIFIED:20250716T083720Z
UID:10015376-0-0@www.discoverhollywood.com
SUMMARY:William FItzsimmons with Denison Witmer
DESCRIPTION:DesignHTMLWords: 0   Characters: 0
URL:https://www.discoverhollywood.com/event/william-fitzsimmons-with-denison-witmer/
LOCATION:Troubadour\, 9081 Santa Monica Blvd.\, Hollywood\, California
END:VEVENT
BEGIN:VEVENT
DTSTART;TZID=Asia/Kolkata:20260422T064339
DTEND;TZID=Asia/Kolkata:20260422T064339
DTSTAMP:20260422T064339
CREATED:20250716T083650Z
LAST-MODIFIED:20250716T090841Z
UID:10015365-0-0@www.discoverhollywood.com
SUMMARY:Wilder Woods - Live In Concert
DESCRIPTION:%3ca href%3d%22https%3a//www.troubadour.com/event/1864720-wilder-woods-live-in-concert-los-angeles/%22%3ehttps%3a//www.troubadour.com/event/1864720-wilder-woods-live-in-concert-los-angeles/%3c/a%3eDesignHTMLWords: 1   Characters: 72
URL:https://www.discoverhollywood.com/event/wilder-woods-live-in-concert/
LOCATION:Troubadour\, 9081 Santa Monica Blvd.\, Hollywood\, California
END:VEVENT
END:VCALENDAR