BEGIN:VCALENDAR
VERSION:2.0
PRODID:-//Discover Hollywood Magazine - ECPv6.15.17//NONSGML v1.0//EN
CALSCALE:GREGORIAN
METHOD:PUBLISH
X-WR-CALNAME:Discover Hollywood Magazine
X-ORIGINAL-URL:https://www.discoverhollywood.com
X-WR-CALDESC:Events for Discover Hollywood Magazine
REFRESH-INTERVAL;VALUE=DURATION:PT1H
X-Robots-Tag:noindex
X-PUBLISHED-TTL:PT1H
BEGIN:VTIMEZONE
TZID:Asia/Kolkata
BEGIN:STANDARD
TZOFFSETFROM:+0530
TZOFFSETTO:+0530
TZNAME:IST
DTSTART:19690101T000000
END:STANDARD
END:VTIMEZONE
BEGIN:VEVENT
DTSTART;TZID=Asia/Kolkata:19710328T000000
DTEND;TZID=Asia/Kolkata:19710328T000000
DTSTAMP:20260422T083532
CREATED:20250716T070627Z
LAST-MODIFIED:20250716T070627Z
UID:10014653-38966400-38966400@www.discoverhollywood.com
SUMMARY:TRAIN Performs Led Zeppelin II
DESCRIPTION:%3cbr%3eDesignHTMLWords: 0   Characters: 0
URL:https://www.discoverhollywood.com/event/train-performs-led-zeppelin-ii/
LOCATION:Troubadour\, 9081 Santa Monica Blvd.\, Hollywood\, California
END:VEVENT
BEGIN:VEVENT
DTSTART;TZID=Asia/Kolkata:19710310T000000
DTEND;TZID=Asia/Kolkata:19710310T000000
DTSTAMP:20260422T083532
CREATED:20250716T070707Z
LAST-MODIFIED:20250716T070707Z
UID:10014671-37411200-37411200@www.discoverhollywood.com
SUMMARY:Trashcan Sinatras
DESCRIPTION:%3cbr%3eDesignHTMLWords: 0   Characters: 0
URL:https://www.discoverhollywood.com/event/trashcan-sinatras/
LOCATION:Troubadour\, 9081 Santa Monica Blvd.\, Hollywood\, California
END:VEVENT
BEGIN:VEVENT
DTSTART;TZID=Asia/Kolkata:19710216T000000
DTEND;TZID=Asia/Kolkata:19710216T000000
DTSTAMP:20260422T083532
CREATED:20250716T070737Z
LAST-MODIFIED:20250716T070737Z
UID:10014693-35510400-35510400@www.discoverhollywood.com
SUMMARY:Trevor Hall
DESCRIPTION:DesignHTMLWords: 0   Characters: 0
URL:https://www.discoverhollywood.com/event/trevor-hall/
LOCATION:Troubadour\, 9081 Santa Monica Blvd.\, Hollywood\, California
END:VEVENT
BEGIN:VEVENT
DTSTART;TZID=Asia/Kolkata:19710120T000000
DTEND;TZID=Asia/Kolkata:19710120T000000
DTSTAMP:20260422T083532
CREATED:20250716T070856Z
LAST-MODIFIED:20250716T070856Z
UID:10014720-33177600-33177600@www.discoverhollywood.com
SUMMARY:Trixie Whitley
DESCRIPTION:%3cbr%3eDesignHTMLWords: 0   Characters: 0
URL:https://www.discoverhollywood.com/event/trixie-whitley/
LOCATION:Troubadour\, 9081 Santa Monica Blvd.\, Hollywood\, California
END:VEVENT
BEGIN:VEVENT
DTSTART;TZID=Asia/Kolkata:20260422T083532
DTEND;TZID=Asia/Kolkata:20260422T083532
DTSTAMP:20260422T083532
CREATED:20250716T091733Z
LAST-MODIFIED:20250716T091733Z
UID:10015563-0-0@www.discoverhollywood.com
SUMMARY:Yonder Mountain String Band
DESCRIPTION:%3cbr%3eDesignHTMLWords: 0   Characters: 0
URL:https://www.discoverhollywood.com/event/yonder-mountain-string-band/
LOCATION:Troubadour\, 9081 Santa Monica Blvd.\, Hollywood\, California
END:VEVENT
BEGIN:VEVENT
DTSTART;TZID=Asia/Kolkata:20260422T083532
DTEND;TZID=Asia/Kolkata:20260422T083532
DTSTAMP:20260422T083532
CREATED:20250716T090119Z
LAST-MODIFIED:20250716T090119Z
UID:10015538-0-0@www.discoverhollywood.com
SUMMARY:Zhavia
DESCRIPTION:%3ca href%3d%22https%3a//www.troubadour.com/%22 target%3d%22_blank%22%3ehttps%3a//www.troubadour.com/%3c/a%3eDesignHTMLWords: 1   Characters: 24
URL:https://www.discoverhollywood.com/event/zhavia/
LOCATION:Troubadour\, 9081 Santa Monica Blvd.\, Hollywood\, California
END:VEVENT
BEGIN:VEVENT
DTSTART;TZID=Asia/Kolkata:20260422T083532
DTEND;TZID=Asia/Kolkata:20260422T083532
DTSTAMP:20260422T083532
CREATED:20250716T090049Z
LAST-MODIFIED:20250716T090049Z
UID:10015527-0-0@www.discoverhollywood.com
SUMMARY:Zane Carney
DESCRIPTION:DesignHTMLWords: 0   Characters: 0
URL:https://www.discoverhollywood.com/event/zane-carney/
LOCATION:Troubadour\, 9081 Santa Monica Blvd.\, Hollywood\, California
END:VEVENT
BEGIN:VEVENT
DTSTART;TZID=Asia/Kolkata:20260422T083532
DTEND;TZID=Asia/Kolkata:20260422T083532
DTSTAMP:20260422T083532
CREATED:20250716T090047Z
LAST-MODIFIED:20250716T090047Z
UID:10015521-0-0@www.discoverhollywood.com
SUMMARY:Zak Waters
DESCRIPTION:DesignHTMLWords: 0   Characters: 0
URL:https://www.discoverhollywood.com/event/zak-waters/
LOCATION:Troubadour\, 9081 Santa Monica Blvd.\, Hollywood\, California
END:VEVENT
BEGIN:VEVENT
DTSTART;TZID=Asia/Kolkata:20260422T083532
DTEND;TZID=Asia/Kolkata:20260422T083532
DTSTAMP:20260422T083532
CREATED:20250716T084713Z
LAST-MODIFIED:20250716T084713Z
UID:10015504-0-0@www.discoverhollywood.com
SUMMARY:Xyzyx
DESCRIPTION:with Elyse and the Aftermath%2c Young Beautiful in a Hurry%2c Stage 11%2c and Bella NovaDesignHTMLWords: 15   Characters: 79
URL:https://www.discoverhollywood.com/event/xyzyx/
LOCATION:Troubadour\, 9081 Santa Monica Blvd.\, Hollywood\, California
END:VEVENT
BEGIN:VEVENT
DTSTART;TZID=Asia/Kolkata:20260422T083532
DTEND;TZID=Asia/Kolkata:20260422T083532
DTSTAMP:20260422T083532
CREATED:20250716T084617Z
LAST-MODIFIED:20250716T084617Z
UID:10015501-0-0@www.discoverhollywood.com
SUMMARY:XEB (ex Original Members of Third Eye Blind)
DESCRIPTION:%3cbr%3eDesignHTMLWords: 0   Characters: 0
URL:https://www.discoverhollywood.com/event/xeb-ex-original-members-of-third-eye-blind/
LOCATION:Troubadour\, 9081 Santa Monica Blvd.\, Hollywood\, California
END:VEVENT
BEGIN:VEVENT
DTSTART;TZID=Asia/Kolkata:20260422T083532
DTEND;TZID=Asia/Kolkata:20260422T083532
DTSTAMP:20260422T083532
CREATED:20250716T084311Z
LAST-MODIFIED:20250716T091516Z
UID:10015473-0-0@www.discoverhollywood.com
SUMMARY:Wrabel & Billy Raffoul: happy people sing sad songs tour
DESCRIPTION:%3ca href%3d%22https%3a//www.troubadour.com/event/1881749-wrabel-billy-raffoul-happy-los-angeles/%22%3ehttps%3a//www.troubadour.com/event/1881749-wrabel-billy-raffoul-happy-los-angeles/%3c/a%3eDesignHTMLWords: 1   Characters: 71
URL:https://www.discoverhollywood.com/event/wrabel-billy-raffoul-happy-people-sing-sad-songs-tour/
LOCATION:Troubadour\, 9081 Santa Monica Blvd.\, Hollywood\, California
END:VEVENT
BEGIN:VEVENT
DTSTART;TZID=Asia/Kolkata:20260422T083532
DTEND;TZID=Asia/Kolkata:20260422T083532
DTSTAMP:20260422T083532
CREATED:20250716T084221Z
LAST-MODIFIED:20250716T084221Z
UID:10015467-0-0@www.discoverhollywood.com
SUMMARY:World Party
DESCRIPTION:%3cbr%3eDesignHTMLWords: 0   Characters: 0
URL:https://www.discoverhollywood.com/event/world-party/
LOCATION:Troubadour\, 9081 Santa Monica Blvd.\, Hollywood\, California
END:VEVENT
BEGIN:VEVENT
DTSTART;TZID=Asia/Kolkata:20260422T083532
DTEND;TZID=Asia/Kolkata:20260422T083532
DTSTAMP:20260422T083532
CREATED:20250716T083838Z
LAST-MODIFIED:20250716T091242Z
UID:10015415-0-0@www.discoverhollywood.com
SUMMARY:With Confidence & Broadside
DESCRIPTION:DesignHTMLWords: 0   Characters: 0
URL:https://www.discoverhollywood.com/event/with-confidence-broadside/
LOCATION:Troubadour\, 9081 Santa Monica Blvd.\, Hollywood\, California
END:VEVENT
BEGIN:VEVENT
DTSTART;TZID=Asia/Kolkata:20260422T083532
DTEND;TZID=Asia/Kolkata:20260422T083532
DTSTAMP:20260422T083532
CREATED:20250716T083735Z
LAST-MODIFIED:20250716T083735Z
UID:10015381-0-0@www.discoverhollywood.com
SUMMARY:William Singe
DESCRIPTION:DesignHTMLWords: 0   Characters: 0
URL:https://www.discoverhollywood.com/event/william-singe/
LOCATION:Troubadour\, 9081 Santa Monica Blvd.\, Hollywood\, California
END:VEVENT
BEGIN:VEVENT
DTSTART;TZID=Asia/Kolkata:20260422T083532
DTEND;TZID=Asia/Kolkata:20260422T083532
DTSTAMP:20260422T083532
CREATED:20250716T083720Z
LAST-MODIFIED:20250716T083720Z
UID:10015372-0-0@www.discoverhollywood.com
SUMMARY:Will Kimbrough
DESCRIPTION:%3cbr%3eDesignHTMLWords: 0   Characters: 0
URL:https://www.discoverhollywood.com/event/will-kimbrough/
LOCATION:Troubadour\, 9081 Santa Monica Blvd.\, Hollywood\, California
END:VEVENT
BEGIN:VEVENT
DTSTART;TZID=Asia/Kolkata:20260422T083532
DTEND;TZID=Asia/Kolkata:20260422T083532
DTSTAMP:20260422T083532
CREATED:20250716T083720Z
LAST-MODIFIED:20250716T083720Z
UID:10015375-0-0@www.discoverhollywood.com
SUMMARY:William Fitzsimmons
DESCRIPTION:%3cbr%3eDesignHTMLWords: 0   Characters: 0
URL:https://www.discoverhollywood.com/event/william-fitzsimmons/
LOCATION:Troubadour\, 9081 Santa Monica Blvd.\, Hollywood\, California
END:VEVENT
BEGIN:VEVENT
DTSTART;TZID=Asia/Kolkata:20260422T083532
DTEND;TZID=Asia/Kolkata:20260422T083532
DTSTAMP:20260422T083532
CREATED:20250716T083720Z
LAST-MODIFIED:20250716T083720Z
UID:10015376-0-0@www.discoverhollywood.com
SUMMARY:William FItzsimmons with Denison Witmer
DESCRIPTION:DesignHTMLWords: 0   Characters: 0
URL:https://www.discoverhollywood.com/event/william-fitzsimmons-with-denison-witmer/
LOCATION:Troubadour\, 9081 Santa Monica Blvd.\, Hollywood\, California
END:VEVENT
BEGIN:VEVENT
DTSTART;TZID=Asia/Kolkata:20260422T083532
DTEND;TZID=Asia/Kolkata:20260422T083532
DTSTAMP:20260422T083532
CREATED:20250716T083650Z
LAST-MODIFIED:20250716T090841Z
UID:10015365-0-0@www.discoverhollywood.com
SUMMARY:Wilder Woods - Live In Concert
DESCRIPTION:%3ca href%3d%22https%3a//www.troubadour.com/event/1864720-wilder-woods-live-in-concert-los-angeles/%22%3ehttps%3a//www.troubadour.com/event/1864720-wilder-woods-live-in-concert-los-angeles/%3c/a%3eDesignHTMLWords: 1   Characters: 72
URL:https://www.discoverhollywood.com/event/wilder-woods-live-in-concert/
LOCATION:Troubadour\, 9081 Santa Monica Blvd.\, Hollywood\, California
END:VEVENT
BEGIN:VEVENT
DTSTART;TZID=Asia/Kolkata:20260422T083532
DTEND;TZID=Asia/Kolkata:20260422T083532
DTSTAMP:20260422T083532
CREATED:20250716T083650Z
LAST-MODIFIED:20250716T090841Z
UID:10015366-0-0@www.discoverhollywood.com
SUMMARY:Wildlife
DESCRIPTION:DesignHTMLWords: 0   Characters: 0
URL:https://www.discoverhollywood.com/event/wildlife/
LOCATION:Troubadour\, 9081 Santa Monica Blvd.\, Hollywood\, California
END:VEVENT
BEGIN:VEVENT
DTSTART;TZID=Asia/Kolkata:20260422T083532
DTEND;TZID=Asia/Kolkata:20260422T083532
DTSTAMP:20260422T083532
CREATED:20250716T082825Z
LAST-MODIFIED:20250716T082825Z
UID:10015325-0-0@www.discoverhollywood.com
SUMMARY:Whitey Morgan
DESCRIPTION:DesignHTMLWords: 0   Characters: 0
URL:https://www.discoverhollywood.com/event/whitey-morgan-2/
LOCATION:Troubadour\, 9081 Santa Monica Blvd.\, Hollywood\, California
END:VEVENT
BEGIN:VEVENT
DTSTART;TZID=Asia/Kolkata:20260422T083532
DTEND;TZID=Asia/Kolkata:20260422T083532
DTSTAMP:20260422T083532
CREATED:20250716T082756Z
LAST-MODIFIED:20250716T082756Z
UID:10015311-0-0@www.discoverhollywood.com
SUMMARY:White Laces
DESCRIPTION:DesignHTMLWords: 0   Characters: 0
URL:https://www.discoverhollywood.com/event/white-laces/
LOCATION:Troubadour\, 9081 Santa Monica Blvd.\, Hollywood\, California
END:VEVENT
BEGIN:VEVENT
DTSTART;TZID=Asia/Kolkata:20260422T083532
DTEND;TZID=Asia/Kolkata:20260422T083532
DTSTAMP:20260422T083532
CREATED:20250716T082756Z
LAST-MODIFIED:20250716T082756Z
UID:10015312-0-0@www.discoverhollywood.com
SUMMARY:White Laces
DESCRIPTION:DesignHTMLWords: 0   Characters: 0
URL:https://www.discoverhollywood.com/event/white-laces-2/
LOCATION:Troubadour\, 9081 Santa Monica Blvd.\, Hollywood\, California
END:VEVENT
BEGIN:VEVENT
DTSTART;TZID=Asia/Kolkata:20260422T083532
DTEND;TZID=Asia/Kolkata:20260422T083532
DTSTAMP:20260422T083532
CREATED:20250716T082755Z
LAST-MODIFIED:20250716T082755Z
UID:10015308-0-0@www.discoverhollywood.com
SUMMARY:White Arrows\, The Beat Connection with MMOTHS
DESCRIPTION:DesignHTMLWords: 0   Characters: 0
URL:https://www.discoverhollywood.com/event/white-arrows-the-beat-connection-with-mmoths/
LOCATION:Troubadour\, 9081 Santa Monica Blvd.\, Hollywood\, California
END:VEVENT
BEGIN:VEVENT
DTSTART;TZID=Asia/Kolkata:20260422T083533
DTEND;TZID=Asia/Kolkata:20260422T083533
DTSTAMP:20260422T083533
CREATED:20250716T082753Z
LAST-MODIFIED:20250716T082753Z
UID:10015307-0-0@www.discoverhollywood.com
SUMMARY:White Arrows
DESCRIPTION:%3cbr%3eDesignHTMLWords: 0   Characters: 0
URL:https://www.discoverhollywood.com/event/white-arrows/
LOCATION:Troubadour\, 9081 Santa Monica Blvd.\, Hollywood\, California
END:VEVENT
BEGIN:VEVENT
DTSTART;TZID=Asia/Kolkata:20260422T083533
DTEND;TZID=Asia/Kolkata:20260422T083533
DTSTAMP:20260422T083533
CREATED:20250716T082752Z
LAST-MODIFIED:20250716T082752Z
UID:10015303-0-0@www.discoverhollywood.com
SUMMARY:Whiskey Myers
DESCRIPTION:DesignHTMLWords: 0   Characters: 0
URL:https://www.discoverhollywood.com/event/whiskey-myers/
LOCATION:Troubadour\, 9081 Santa Monica Blvd.\, Hollywood\, California
END:VEVENT
BEGIN:VEVENT
DTSTART;TZID=Asia/Kolkata:20260422T083533
DTEND;TZID=Asia/Kolkata:20260422T083533
DTSTAMP:20260422T083533
CREATED:20250716T082716Z
LAST-MODIFIED:20250716T082716Z
UID:10015298-0-0@www.discoverhollywood.com
SUMMARY:Where's the Band?
DESCRIPTION:Where%27s The Band%3f is a tour featuring solo acoustic performances by the frontmen of successful rock groups. The 2014 edition will feat%3a Dustin Kensrue %28Thrice%29%2c Dan Andriano %28Alkaline Trio%29%2c Casey Crescenzo %28The Dear Hunter%29%2c Matt Pryor %28The Get Up Kids%29%2c and Andy Jackson %28Hot Rod Circuit%29.DesignHTMLWords: 46   Characters: 272
URL:https://www.discoverhollywood.com/event/wheres-the-band/
LOCATION:Troubadour\, 9081 Santa Monica Blvd.\, Hollywood\, California
END:VEVENT
BEGIN:VEVENT
DTSTART;TZID=Asia/Kolkata:20260422T083533
DTEND;TZID=Asia/Kolkata:20260422T083533
DTSTAMP:20260422T083533
CREATED:20250716T082700Z
LAST-MODIFIED:20250716T082700Z
UID:10015291-0-0@www.discoverhollywood.com
SUMMARY:Wheeler Walker Jr.
DESCRIPTION:%3cbr%3eDesignHTMLWords: 0   Characters: 0
URL:https://www.discoverhollywood.com/event/wheeler-walker-jr/
LOCATION:Troubadour\, 9081 Santa Monica Blvd.\, Hollywood\, California
END:VEVENT
BEGIN:VEVENT
DTSTART;TZID=Asia/Kolkata:20260422T083533
DTEND;TZID=Asia/Kolkata:20260422T083533
DTSTAMP:20260422T083533
CREATED:20250716T082700Z
LAST-MODIFIED:20250716T082700Z
UID:10015292-0-0@www.discoverhollywood.com
SUMMARY:Wheeler Walker Jr.
DESCRIPTION:%3cbr%3eDesignHTMLWords: 0   Characters: 0
URL:https://www.discoverhollywood.com/event/wheeler-walker-jr-2/
LOCATION:Troubadour\, 9081 Santa Monica Blvd.\, Hollywood\, California
END:VEVENT
BEGIN:VEVENT
DTSTART;TZID=Asia/Kolkata:20260422T083533
DTEND;TZID=Asia/Kolkata:20260422T083533
DTSTAMP:20260422T083533
CREATED:20250716T082626Z
LAST-MODIFIED:20250716T082626Z
UID:10015270-0-0@www.discoverhollywood.com
SUMMARY:Weyes Blood
DESCRIPTION:%3ca href%3d%22https%3a//www.troubadour.com%22 target%3d%22_blank%22%3ehttps%3a//www.troubadour.com%3c/a%3eDesignHTMLWords: 1   Characters: 23
URL:https://www.discoverhollywood.com/event/weyes-blood/
LOCATION:Troubadour\, 9081 Santa Monica Blvd.\, Hollywood\, California
END:VEVENT
BEGIN:VEVENT
DTSTART;TZID=Asia/Kolkata:20260422T083533
DTEND;TZID=Asia/Kolkata:20260422T083533
DTSTAMP:20260422T083533
CREATED:20250716T082523Z
LAST-MODIFIED:20250716T082523Z
UID:10015240-0-0@www.discoverhollywood.com
SUMMARY:Welshly Arms
DESCRIPTION:DesignHTMLWords: 0   Characters: 0
URL:https://www.discoverhollywood.com/event/welshly-arms/
LOCATION:Troubadour\, 9081 Santa Monica Blvd.\, Hollywood\, California
END:VEVENT
END:VCALENDAR