BEGIN:VCALENDAR
VERSION:2.0
PRODID:-//Discover Hollywood Magazine - ECPv6.15.20//NONSGML v1.0//EN
CALSCALE:GREGORIAN
METHOD:PUBLISH
X-WR-CALNAME:Discover Hollywood Magazine
X-ORIGINAL-URL:https://www.discoverhollywood.com
X-WR-CALDESC:Events for Discover Hollywood Magazine
REFRESH-INTERVAL;VALUE=DURATION:PT1H
X-Robots-Tag:noindex
X-PUBLISHED-TTL:PT1H
BEGIN:VTIMEZONE
TZID:Asia/Kolkata
BEGIN:STANDARD
TZOFFSETFROM:+0530
TZOFFSETTO:+0530
TZNAME:IST
DTSTART:19690101T000000
END:STANDARD
END:VTIMEZONE
BEGIN:VEVENT
DTSTART;TZID=Asia/Kolkata:19720709T000000
DTEND;TZID=Asia/Kolkata:19720709T000000
DTSTAMP:20260423T093926
CREATED:20250716T060004Z
LAST-MODIFIED:20250716T060004Z
UID:10014204-79488000-79488000@www.discoverhollywood.com
SUMMARY:The Txt Msg Show
DESCRIPTION:DesignHTMLWords: 0   Characters: 0
URL:https://www.discoverhollywood.com/event/the-txt-msg-show/
LOCATION:Upright Citizen’s Brigade Theatre\, 5919 Franklin Ave\, Los Angeles\, California
END:VEVENT
BEGIN:VEVENT
DTSTART;TZID=Asia/Kolkata:20260423T093926
DTEND;TZID=Asia/Kolkata:20260423T093926
DTSTAMP:20260423T093926
CREATED:20250716T082650Z
LAST-MODIFIED:20250716T082650Z
UID:10015284-0-0@www.discoverhollywood.com
SUMMARY:What's Going On?
DESCRIPTION:DesignHTMLWords: 0   Characters: 0
URL:https://www.discoverhollywood.com/event/whats-going-on/
LOCATION:Upright Citizen’s Brigade Theatre\, 5919 Franklin Ave\, Los Angeles\, California
END:VEVENT
BEGIN:VEVENT
DTSTART;TZID=Asia/Kolkata:20260423T093926
DTEND;TZID=Asia/Kolkata:20260423T093926
DTSTAMP:20260423T093926
CREATED:20250716T081221Z
LAST-MODIFIED:20250716T081221Z
UID:10014829-0-0@www.discoverhollywood.com
SUMMARY:UCBT's Monthly Open Mic
DESCRIPTION:DesignHTMLWords: 0   Characters: 0
URL:https://www.discoverhollywood.com/event/ucbts-monthly-open-mic/
LOCATION:Upright Citizen’s Brigade Theatre\, 5919 Franklin Ave\, Los Angeles\, California
END:VEVENT
BEGIN:VEVENT
DTSTART;TZID=Asia/Kolkata:20260423T093926
DTEND;TZID=Asia/Kolkata:20260423T093926
DTSTAMP:20260423T093926
CREATED:20250709T084321Z
LAST-MODIFIED:20250709T084321Z
UID:10008251-0-0@www.discoverhollywood.com
SUMMARY:Last Day of School: The Txt Msg Show
DESCRIPTION:DesignHTMLWords: 0   Characters: 0
URL:https://www.discoverhollywood.com/event/last-day-of-school-the-txt-msg-show/
LOCATION:Upright Citizen’s Brigade Theatre\, 5919 Franklin Ave\, Los Angeles\, California
END:VEVENT
END:VCALENDAR