BEGIN:VCALENDAR
VERSION:2.0
PRODID:-//Discover Hollywood Magazine - ECPv6.15.20//NONSGML v1.0//EN
CALSCALE:GREGORIAN
METHOD:PUBLISH
X-WR-CALNAME:Discover Hollywood Magazine
X-ORIGINAL-URL:https://www.discoverhollywood.com
X-WR-CALDESC:Events for Discover Hollywood Magazine
REFRESH-INTERVAL;VALUE=DURATION:PT1H
X-Robots-Tag:noindex
X-PUBLISHED-TTL:PT1H
BEGIN:VTIMEZONE
TZID:Asia/Kolkata
BEGIN:STANDARD
TZOFFSETFROM:+0530
TZOFFSETTO:+0530
TZNAME:IST
DTSTART:20250101T000000
END:STANDARD
END:VTIMEZONE
BEGIN:VEVENT
DTSTART;TZID=Asia/Kolkata:20260226T100000
DTEND;TZID=Asia/Kolkata:20260226T140000
DTSTAMP:20260425T221126
CREATED:20260116T150925Z
LAST-MODIFIED:20260116T150925Z
UID:10028824-1772100000-1772114400@www.discoverhollywood.com
SUMMARY:Jessie Homer French at Frieze Los Angeles 2026
DESCRIPTION:Jessie Homer French at Frieze Los Angeles 2026\nSANTA MONICA\, CA – Various Small Fires (VSF) is proud to present a solo presentation of works by Jessie Homer French for Frieze Los Angeles 2026. The exhibition will be featured within the fair’s main section at the Santa Monica Airport from February 26 through March 1\, 2026. \nJessie Homer French (b. 1940) is a self-taught “regional narrative painter” whose work provides a poignant\, often darkly humorous look at the intersection of nature and human interference. Based in the Coachella Valley\, French’s paintings are known for their flat perspective and unflinching depictions of the cycle of life and death in the American West. \nNature’s Resilience and Human Hubris\nWhile the specific works for Frieze 2026 are part of an “upcoming” reveal\, French’s practice typically focuses on: \n\n\nEnvironmental Narrative: Scenes of forest fires\, graveyard landscapes\, and the quiet beauty of the desert. \n\n\nFlora & Fauna: Intimate portraits of wildlife—often depicted in states of peril or peaceful repose—that highlight the fragility of the natural world. \n\n\nThe “Frieze” Experience: For the 2026 fair\, VSF is expected to showcase her latest series of landscapes that contrast the pristine beauty of the California outdoors with the industrial scars left by modern development. \n\n\nAbout the Artist\nFrench’s career has seen a significant late-career resurgence\, with her work being featured in the 2022 Venice Biennale and held in the permanent collections of the Hammer Museum and The Palm Springs Art Museum. Her ability to capture the “quiet apocalypse” of the modern environment has made her a vital voice in contemporary California art.
URL:https://www.discoverhollywood.com/event/jessie-homer-french-at-frieze-los-angeles-2026/
LOCATION:Various Small Fires\, 812 n. Highland. Ave.\, Los Angeles\, California\, 90038.0
END:VEVENT
END:VCALENDAR