BEGIN:VCALENDAR
VERSION:2.0
PRODID:-//Discover Hollywood Magazine - ECPv6.15.20//NONSGML v1.0//EN
CALSCALE:GREGORIAN
METHOD:PUBLISH
X-WR-CALNAME:Discover Hollywood Magazine
X-ORIGINAL-URL:https://www.discoverhollywood.com
X-WR-CALDESC:Events for Discover Hollywood Magazine
REFRESH-INTERVAL;VALUE=DURATION:PT1H
X-Robots-Tag:noindex
X-PUBLISHED-TTL:PT1H
BEGIN:VTIMEZONE
TZID:Asia/Kolkata
BEGIN:STANDARD
TZOFFSETFROM:+0530
TZOFFSETTO:+0530
TZNAME:IST
DTSTART:19770101T000000
END:STANDARD
END:VTIMEZONE
BEGIN:VEVENT
DTSTART;TZID=Asia/Kolkata:20160603T000000
DTEND;TZID=Asia/Kolkata:20160603T000000
DTSTAMP:20260425T081529
CREATED:20250630T105912Z
LAST-MODIFIED:20250630T105912Z
UID:10001942-1464912000-1464912000@www.discoverhollywood.com
SUMMARY:An Evening with Seymour Stein in Conversation with Henry Rollins
DESCRIPTION:DesignHTMLWords: 0   Characters: 0
URL:https://www.discoverhollywood.com/event/an-evening-with-seymour-stein-in-conversation-with-henry-rollins-2/
LOCATION:West Hollywood Library\, 715 N. San Vicente Blvd.\, Hollywood\, California
END:VEVENT
BEGIN:VEVENT
DTSTART;TZID=Asia/Kolkata:19890322T000000
DTEND;TZID=Asia/Kolkata:19890322T000000
DTSTAMP:20260425T081529
CREATED:20250709T123426Z
LAST-MODIFIED:20250709T123426Z
UID:10008740-606528000-606528000@www.discoverhollywood.com
SUMMARY:Making Sh*t Up
DESCRIPTION:DesignHTMLWords: 0   Characters: 0
URL:https://www.discoverhollywood.com/event/making-sht-up/
LOCATION:West Hollywood Library\, 715 N. San Vicente Blvd.\, Hollywood\, California
END:VEVENT
BEGIN:VEVENT
DTSTART;TZID=Asia/Kolkata:19780313T000000
DTEND;TZID=Asia/Kolkata:19780313T000000
DTSTAMP:20260425T081529
CREATED:20250715T082154Z
LAST-MODIFIED:20250715T082154Z
UID:10012316-258595200-258595200@www.discoverhollywood.com
SUMMARY:Sound Spark
DESCRIPTION:%3ci%3esoundSpark%3c/i%3e%26nbsp%3bis a FREE%2c monthly new music series for young children featuring solo and duo performances by emerging artists. Presented by SASSAS\n%3ca target%3d%22_blank%22 href%3d%22http%3a//sassas.org/program/soundspark/%22%3ehttp%3a//sassas.org/program/soundspark/%3c/a%3e\n%3cbr%3eDesignHTMLWords: 23   Characters: 176
URL:https://www.discoverhollywood.com/event/sound-spark/
LOCATION:West Hollywood Library\, 715 N. San Vicente Blvd.\, Hollywood\, California
END:VEVENT
END:VCALENDAR