BEGIN:VCALENDAR
VERSION:2.0
PRODID:-//Discover Hollywood Magazine - ECPv6.15.20//NONSGML v1.0//EN
CALSCALE:GREGORIAN
METHOD:PUBLISH
X-WR-CALNAME:Discover Hollywood Magazine
X-ORIGINAL-URL:https://www.discoverhollywood.com
X-WR-CALDESC:Events for Discover Hollywood Magazine
REFRESH-INTERVAL;VALUE=DURATION:PT1H
X-Robots-Tag:noindex
X-PUBLISHED-TTL:PT1H
BEGIN:VTIMEZONE
TZID:Asia/Kolkata
BEGIN:STANDARD
TZOFFSETFROM:+0530
TZOFFSETTO:+0530
TZNAME:IST
DTSTART:20240101T000000
END:STANDARD
END:VTIMEZONE
BEGIN:VEVENT
DTSTART;TZID=Asia/Kolkata:20251114T190000
DTEND;TZID=Asia/Kolkata:20251114T220000
DTSTAMP:20260426T083429
CREATED:20251111T173634Z
LAST-MODIFIED:20251111T173634Z
UID:10025265-1763146800-1763157600@www.discoverhollywood.com
SUMMARY:Joshua AM Ross / Caleb Engstrom: Ode To Sunflower
DESCRIPTION:Drawings by Joshua AM Ross Furniture Designs by Caleb Engstrom Wönzimer is pleased to announce Ode to Sunflower\, a two-person exhibition featuring new works by Joshua AM Ross and Caleb Engstrom. Ode to Sunflower explores themes of perception\, the body\, and material intimacy through drawings and furniture. The exhibition features 14 colored pencil drawings by Joshua AM Ross alongside 14 new furniture pieces by Caleb Engstrom. Joshua AM Ross’s work draws a parallel between the life cycle of the sunflower and the human body. His series of drawings portrays figures in motion\, capturing moments of interaction and connection. These works ask questions about seeing\, being\, and becoming\, examining how bodies engage with one another through both touch and non-touch. Caleb Engstrom presents the newest chapter of his DRY KISS series. The works include aluminum chairs and the debut of a dining table\, as well as an upholstered lounge chair in wide-wale corduroy. Guided by the mantra “don’t repeat yourself\, keep it simple\, stupid\,” Engstrom explores how we inhabit objects\, and how touch transforms into memory. Together\, Ross and Engstrom’s investigations into the architecture of experience and the intimacy of materials find shared ground\, creating a dialogue between their works.
URL:https://www.discoverhollywood.com/event/joshua-am-ross-caleb-engstrom-ode-to-sunflower/
LOCATION:Wonzimer Gallery\, 341 S Avenue 17\, Los Angeles\, CA\, 90031\, United States
END:VEVENT
END:VCALENDAR